BEGIN:VCALENDAR
VERSION:2.0
PRODID:-//Operaatio Ruokakassi - ECPv6.15.20//NONSGML v1.0//EN
CALSCALE:GREGORIAN
METHOD:PUBLISH
X-ORIGINAL-URL:https://operaatioruokakassi.fi
X-WR-CALDESC:Tapahtumat Operaatio Ruokakassi
REFRESH-INTERVAL;VALUE=DURATION:PT1H
X-Robots-Tag:noindex
X-PUBLISHED-TTL:PT1H
BEGIN:VTIMEZONE
TZID:Europe/Helsinki
BEGIN:DAYLIGHT
TZOFFSETFROM:+0200
TZOFFSETTO:+0300
TZNAME:EEST
DTSTART:20230326T010000
END:DAYLIGHT
BEGIN:STANDARD
TZOFFSETFROM:+0300
TZOFFSETTO:+0200
TZNAME:EET
DTSTART:20231029T010000
END:STANDARD
BEGIN:DAYLIGHT
TZOFFSETFROM:+0200
TZOFFSETTO:+0300
TZNAME:EEST
DTSTART:20240331T010000
END:DAYLIGHT
BEGIN:STANDARD
TZOFFSETFROM:+0300
TZOFFSETTO:+0200
TZNAME:EET
DTSTART:20241027T010000
END:STANDARD
BEGIN:DAYLIGHT
TZOFFSETFROM:+0200
TZOFFSETTO:+0300
TZNAME:EEST
DTSTART:20250330T010000
END:DAYLIGHT
BEGIN:STANDARD
TZOFFSETFROM:+0300
TZOFFSETTO:+0200
TZNAME:EET
DTSTART:20251026T010000
END:STANDARD
BEGIN:DAYLIGHT
TZOFFSETFROM:+0200
TZOFFSETTO:+0300
TZNAME:EEST
DTSTART:20260329T010000
END:DAYLIGHT
BEGIN:STANDARD
TZOFFSETFROM:+0300
TZOFFSETTO:+0200
TZNAME:EET
DTSTART:20261025T010000
END:STANDARD
END:VTIMEZONE
BEGIN:VEVENT
DTSTART;TZID=Europe/Helsinki:20250225T173000
DTEND;TZID=Europe/Helsinki:20250225T180000
DTSTAMP:20260424T043426
CREATED:20240618T071436Z
LAST-MODIFIED:20251125T082327Z
UID:10001967-1740504600-1740506400@operaatioruokakassi.fi
SUMMARY:Piikkiön Adventtiseurakunta
DESCRIPTION:Vuoronumeroiden jako alkaa pihalla klo 16 \nTiistaisin klo 17:30-18:00 ruoka-apu. \nElintarvikkeita työttömille ja vähävaraisille.
URL:https://operaatioruokakassi.fi/event/piikkion-adventtiseurakunta-4/2025-02-25/
LOCATION:Piikkiön Adventtiseurakunta\, Korvenmäentie 11\, Piikkiö\, 21500
END:VEVENT
BEGIN:VEVENT
DTSTART;TZID=Europe/Helsinki:20250218T173000
DTEND;TZID=Europe/Helsinki:20250218T180000
DTSTAMP:20260424T043426
CREATED:20240618T071436Z
LAST-MODIFIED:20251125T082327Z
UID:10001966-1739899800-1739901600@operaatioruokakassi.fi
SUMMARY:Piikkiön Adventtiseurakunta
DESCRIPTION:Vuoronumeroiden jako alkaa pihalla klo 16 \nTiistaisin klo 17:30-18:00 ruoka-apu. \nElintarvikkeita työttömille ja vähävaraisille.
URL:https://operaatioruokakassi.fi/event/piikkion-adventtiseurakunta-4/2025-02-18/
LOCATION:Piikkiön Adventtiseurakunta\, Korvenmäentie 11\, Piikkiö\, 21500
END:VEVENT
BEGIN:VEVENT
DTSTART;TZID=Europe/Helsinki:20250211T173000
DTEND;TZID=Europe/Helsinki:20250211T180000
DTSTAMP:20260424T043426
CREATED:20240618T071436Z
LAST-MODIFIED:20251125T082327Z
UID:10001965-1739295000-1739296800@operaatioruokakassi.fi
SUMMARY:Piikkiön Adventtiseurakunta
DESCRIPTION:Vuoronumeroiden jako alkaa pihalla klo 16 \nTiistaisin klo 17:30-18:00 ruoka-apu. \nElintarvikkeita työttömille ja vähävaraisille.
URL:https://operaatioruokakassi.fi/event/piikkion-adventtiseurakunta-4/2025-02-11/
LOCATION:Piikkiön Adventtiseurakunta\, Korvenmäentie 11\, Piikkiö\, 21500
END:VEVENT
BEGIN:VEVENT
DTSTART;TZID=Europe/Helsinki:20250204T173000
DTEND;TZID=Europe/Helsinki:20250204T180000
DTSTAMP:20260424T043426
CREATED:20240618T071436Z
LAST-MODIFIED:20251125T082327Z
UID:10001964-1738690200-1738692000@operaatioruokakassi.fi
SUMMARY:Piikkiön Adventtiseurakunta
DESCRIPTION:Vuoronumeroiden jako alkaa pihalla klo 16 \nTiistaisin klo 17:30-18:00 ruoka-apu. \nElintarvikkeita työttömille ja vähävaraisille.
URL:https://operaatioruokakassi.fi/event/piikkion-adventtiseurakunta-4/2025-02-04/
LOCATION:Piikkiön Adventtiseurakunta\, Korvenmäentie 11\, Piikkiö\, 21500
END:VEVENT
BEGIN:VEVENT
DTSTART;TZID=Europe/Helsinki:20250128T173000
DTEND;TZID=Europe/Helsinki:20250128T180000
DTSTAMP:20260424T043426
CREATED:20240618T071436Z
LAST-MODIFIED:20251125T082327Z
UID:10001963-1738085400-1738087200@operaatioruokakassi.fi
SUMMARY:Piikkiön Adventtiseurakunta
DESCRIPTION:Vuoronumeroiden jako alkaa pihalla klo 16 \nTiistaisin klo 17:30-18:00 ruoka-apu. \nElintarvikkeita työttömille ja vähävaraisille.
URL:https://operaatioruokakassi.fi/event/piikkion-adventtiseurakunta-4/2025-01-28/
LOCATION:Piikkiön Adventtiseurakunta\, Korvenmäentie 11\, Piikkiö\, 21500
END:VEVENT
BEGIN:VEVENT
DTSTART;TZID=Europe/Helsinki:20250121T173000
DTEND;TZID=Europe/Helsinki:20250121T180000
DTSTAMP:20260424T043426
CREATED:20240618T071436Z
LAST-MODIFIED:20251125T082327Z
UID:10001962-1737480600-1737482400@operaatioruokakassi.fi
SUMMARY:Piikkiön Adventtiseurakunta
DESCRIPTION:Vuoronumeroiden jako alkaa pihalla klo 16 \nTiistaisin klo 17:30-18:00 ruoka-apu. \nElintarvikkeita työttömille ja vähävaraisille.
URL:https://operaatioruokakassi.fi/event/piikkion-adventtiseurakunta-4/2025-01-21/
LOCATION:Piikkiön Adventtiseurakunta\, Korvenmäentie 11\, Piikkiö\, 21500
END:VEVENT
BEGIN:VEVENT
DTSTART;TZID=Europe/Helsinki:20250114T173000
DTEND;TZID=Europe/Helsinki:20250114T180000
DTSTAMP:20260424T043426
CREATED:20240618T071436Z
LAST-MODIFIED:20251125T082327Z
UID:10001961-1736875800-1736877600@operaatioruokakassi.fi
SUMMARY:Piikkiön Adventtiseurakunta
DESCRIPTION:Vuoronumeroiden jako alkaa pihalla klo 16 \nTiistaisin klo 17:30-18:00 ruoka-apu. \nElintarvikkeita työttömille ja vähävaraisille.
URL:https://operaatioruokakassi.fi/event/piikkion-adventtiseurakunta-4/2025-01-14/
LOCATION:Piikkiön Adventtiseurakunta\, Korvenmäentie 11\, Piikkiö\, 21500
END:VEVENT
BEGIN:VEVENT
DTSTART;TZID=Europe/Helsinki:20250107T173000
DTEND;TZID=Europe/Helsinki:20250107T180000
DTSTAMP:20260424T043426
CREATED:20240618T071436Z
LAST-MODIFIED:20251125T082327Z
UID:10001960-1736271000-1736272800@operaatioruokakassi.fi
SUMMARY:Piikkiön Adventtiseurakunta
DESCRIPTION:Vuoronumeroiden jako alkaa pihalla klo 16 \nTiistaisin klo 17:30-18:00 ruoka-apu. \nElintarvikkeita työttömille ja vähävaraisille.
URL:https://operaatioruokakassi.fi/event/piikkion-adventtiseurakunta-4/2025-01-07/
LOCATION:Piikkiön Adventtiseurakunta\, Korvenmäentie 11\, Piikkiö\, 21500
END:VEVENT
BEGIN:VEVENT
DTSTART;TZID=Europe/Helsinki:20241231T150000
DTEND;TZID=Europe/Helsinki:20241231T154500
DTSTAMP:20260424T043426
CREATED:20241218T082113Z
LAST-MODIFIED:20241218T082113Z
UID:10001982-1735657200-1735659900@operaatioruokakassi.fi
SUMMARY:Piikkiön Adventtiseurakunta
DESCRIPTION:Klo 15-15:45 minijakelu\, ainoastaan lapsiperheille
URL:https://operaatioruokakassi.fi/event/piikkion-adventtiseurakunta-5/2024-12-31/
LOCATION:Piikkiön Adventtiseurakunta\, Korvenmäentie 11\, Piikkiö\, 21500
END:VEVENT
BEGIN:VEVENT
DTSTART;TZID=Europe/Helsinki:20241223T150000
DTEND;TZID=Europe/Helsinki:20241223T154500
DTSTAMP:20260424T043426
CREATED:20241218T082113Z
LAST-MODIFIED:20241218T082113Z
UID:10001981-1734966000-1734968700@operaatioruokakassi.fi
SUMMARY:Piikkiön Adventtiseurakunta
DESCRIPTION:Klo 15-15:45 minijakelu\, ainoastaan lapsiperheille
URL:https://operaatioruokakassi.fi/event/piikkion-adventtiseurakunta-5/2024-12-23/
LOCATION:Piikkiön Adventtiseurakunta\, Korvenmäentie 11\, Piikkiö\, 21500
END:VEVENT
BEGIN:VEVENT
DTSTART;TZID=Europe/Helsinki:20241217T173000
DTEND;TZID=Europe/Helsinki:20241217T180000
DTSTAMP:20260424T043426
CREATED:20240618T071436Z
LAST-MODIFIED:20251125T082327Z
UID:10001959-1734456600-1734458400@operaatioruokakassi.fi
SUMMARY:Piikkiön Adventtiseurakunta
DESCRIPTION:Vuoronumeroiden jako alkaa pihalla klo 16 \nTiistaisin klo 17:30-18:00 ruoka-apu. \nElintarvikkeita työttömille ja vähävaraisille.
URL:https://operaatioruokakassi.fi/event/piikkion-adventtiseurakunta-4/2024-12-17/
LOCATION:Piikkiön Adventtiseurakunta\, Korvenmäentie 11\, Piikkiö\, 21500
END:VEVENT
BEGIN:VEVENT
DTSTART;TZID=Europe/Helsinki:20241210T173000
DTEND;TZID=Europe/Helsinki:20241210T180000
DTSTAMP:20260424T043426
CREATED:20240618T071436Z
LAST-MODIFIED:20251125T082327Z
UID:10001958-1733851800-1733853600@operaatioruokakassi.fi
SUMMARY:Piikkiön Adventtiseurakunta
DESCRIPTION:Vuoronumeroiden jako alkaa pihalla klo 16 \nTiistaisin klo 17:30-18:00 ruoka-apu. \nElintarvikkeita työttömille ja vähävaraisille.
URL:https://operaatioruokakassi.fi/event/piikkion-adventtiseurakunta-4/2024-12-10/
LOCATION:Piikkiön Adventtiseurakunta\, Korvenmäentie 11\, Piikkiö\, 21500
END:VEVENT
BEGIN:VEVENT
DTSTART;TZID=Europe/Helsinki:20241203T173000
DTEND;TZID=Europe/Helsinki:20241203T180000
DTSTAMP:20260424T043426
CREATED:20240618T071436Z
LAST-MODIFIED:20251125T082327Z
UID:10001957-1733247000-1733248800@operaatioruokakassi.fi
SUMMARY:Piikkiön Adventtiseurakunta
DESCRIPTION:Vuoronumeroiden jako alkaa pihalla klo 16 \nTiistaisin klo 17:30-18:00 ruoka-apu. \nElintarvikkeita työttömille ja vähävaraisille.
URL:https://operaatioruokakassi.fi/event/piikkion-adventtiseurakunta-4/2024-12-03/
LOCATION:Piikkiön Adventtiseurakunta\, Korvenmäentie 11\, Piikkiö\, 21500
END:VEVENT
BEGIN:VEVENT
DTSTART;TZID=Europe/Helsinki:20241126T173000
DTEND;TZID=Europe/Helsinki:20241126T180000
DTSTAMP:20260424T043426
CREATED:20240618T071436Z
LAST-MODIFIED:20251125T082327Z
UID:10001956-1732642200-1732644000@operaatioruokakassi.fi
SUMMARY:Piikkiön Adventtiseurakunta
DESCRIPTION:Vuoronumeroiden jako alkaa pihalla klo 16 \nTiistaisin klo 17:30-18:00 ruoka-apu. \nElintarvikkeita työttömille ja vähävaraisille.
URL:https://operaatioruokakassi.fi/event/piikkion-adventtiseurakunta-4/2024-11-26/
LOCATION:Piikkiön Adventtiseurakunta\, Korvenmäentie 11\, Piikkiö\, 21500
END:VEVENT
BEGIN:VEVENT
DTSTART;TZID=Europe/Helsinki:20241119T173000
DTEND;TZID=Europe/Helsinki:20241119T180000
DTSTAMP:20260424T043426
CREATED:20240618T071436Z
LAST-MODIFIED:20251125T082327Z
UID:10001955-1732037400-1732039200@operaatioruokakassi.fi
SUMMARY:Piikkiön Adventtiseurakunta
DESCRIPTION:Vuoronumeroiden jako alkaa pihalla klo 16 \nTiistaisin klo 17:30-18:00 ruoka-apu. \nElintarvikkeita työttömille ja vähävaraisille.
URL:https://operaatioruokakassi.fi/event/piikkion-adventtiseurakunta-4/2024-11-19/
LOCATION:Piikkiön Adventtiseurakunta\, Korvenmäentie 11\, Piikkiö\, 21500
END:VEVENT
BEGIN:VEVENT
DTSTART;TZID=Europe/Helsinki:20241112T173000
DTEND;TZID=Europe/Helsinki:20241112T180000
DTSTAMP:20260424T043426
CREATED:20240618T071436Z
LAST-MODIFIED:20251125T082327Z
UID:10001954-1731432600-1731434400@operaatioruokakassi.fi
SUMMARY:Piikkiön Adventtiseurakunta
DESCRIPTION:Vuoronumeroiden jako alkaa pihalla klo 16 \nTiistaisin klo 17:30-18:00 ruoka-apu. \nElintarvikkeita työttömille ja vähävaraisille.
URL:https://operaatioruokakassi.fi/event/piikkion-adventtiseurakunta-4/2024-11-12/
LOCATION:Piikkiön Adventtiseurakunta\, Korvenmäentie 11\, Piikkiö\, 21500
END:VEVENT
BEGIN:VEVENT
DTSTART;TZID=Europe/Helsinki:20241105T173000
DTEND;TZID=Europe/Helsinki:20241105T180000
DTSTAMP:20260424T043426
CREATED:20240618T071436Z
LAST-MODIFIED:20251125T082327Z
UID:10001953-1730827800-1730829600@operaatioruokakassi.fi
SUMMARY:Piikkiön Adventtiseurakunta
DESCRIPTION:Vuoronumeroiden jako alkaa pihalla klo 16 \nTiistaisin klo 17:30-18:00 ruoka-apu. \nElintarvikkeita työttömille ja vähävaraisille.
URL:https://operaatioruokakassi.fi/event/piikkion-adventtiseurakunta-4/2024-11-05/
LOCATION:Piikkiön Adventtiseurakunta\, Korvenmäentie 11\, Piikkiö\, 21500
END:VEVENT
BEGIN:VEVENT
DTSTART;TZID=Europe/Helsinki:20241029T173000
DTEND;TZID=Europe/Helsinki:20241029T180000
DTSTAMP:20260424T043426
CREATED:20240618T071436Z
LAST-MODIFIED:20251125T082327Z
UID:10001952-1730223000-1730224800@operaatioruokakassi.fi
SUMMARY:Piikkiön Adventtiseurakunta
DESCRIPTION:Vuoronumeroiden jako alkaa pihalla klo 16 \nTiistaisin klo 17:30-18:00 ruoka-apu. \nElintarvikkeita työttömille ja vähävaraisille.
URL:https://operaatioruokakassi.fi/event/piikkion-adventtiseurakunta-4/2024-10-29/
LOCATION:Piikkiön Adventtiseurakunta\, Korvenmäentie 11\, Piikkiö\, 21500
END:VEVENT
BEGIN:VEVENT
DTSTART;TZID=Europe/Helsinki:20241022T173000
DTEND;TZID=Europe/Helsinki:20241022T180000
DTSTAMP:20260424T043426
CREATED:20240618T071436Z
LAST-MODIFIED:20251125T082327Z
UID:10001951-1729618200-1729620000@operaatioruokakassi.fi
SUMMARY:Piikkiön Adventtiseurakunta
DESCRIPTION:Vuoronumeroiden jako alkaa pihalla klo 16 \nTiistaisin klo 17:30-18:00 ruoka-apu. \nElintarvikkeita työttömille ja vähävaraisille.
URL:https://operaatioruokakassi.fi/event/piikkion-adventtiseurakunta-4/2024-10-22/
LOCATION:Piikkiön Adventtiseurakunta\, Korvenmäentie 11\, Piikkiö\, 21500
END:VEVENT
BEGIN:VEVENT
DTSTART;TZID=Europe/Helsinki:20241015T173000
DTEND;TZID=Europe/Helsinki:20241015T180000
DTSTAMP:20260424T043426
CREATED:20240618T071436Z
LAST-MODIFIED:20251125T082327Z
UID:10001950-1729013400-1729015200@operaatioruokakassi.fi
SUMMARY:Piikkiön Adventtiseurakunta
DESCRIPTION:Vuoronumeroiden jako alkaa pihalla klo 16 \nTiistaisin klo 17:30-18:00 ruoka-apu. \nElintarvikkeita työttömille ja vähävaraisille.
URL:https://operaatioruokakassi.fi/event/piikkion-adventtiseurakunta-4/2024-10-15/
LOCATION:Piikkiön Adventtiseurakunta\, Korvenmäentie 11\, Piikkiö\, 21500
END:VEVENT
BEGIN:VEVENT
DTSTART;TZID=Europe/Helsinki:20241008T173000
DTEND;TZID=Europe/Helsinki:20241008T180000
DTSTAMP:20260424T043426
CREATED:20240618T071436Z
LAST-MODIFIED:20251125T082327Z
UID:10001949-1728408600-1728410400@operaatioruokakassi.fi
SUMMARY:Piikkiön Adventtiseurakunta
DESCRIPTION:Vuoronumeroiden jako alkaa pihalla klo 16 \nTiistaisin klo 17:30-18:00 ruoka-apu. \nElintarvikkeita työttömille ja vähävaraisille.
URL:https://operaatioruokakassi.fi/event/piikkion-adventtiseurakunta-4/2024-10-08/
LOCATION:Piikkiön Adventtiseurakunta\, Korvenmäentie 11\, Piikkiö\, 21500
END:VEVENT
BEGIN:VEVENT
DTSTART;TZID=Europe/Helsinki:20241001T173000
DTEND;TZID=Europe/Helsinki:20241001T180000
DTSTAMP:20260424T043426
CREATED:20240618T071436Z
LAST-MODIFIED:20251125T082327Z
UID:10001948-1727803800-1727805600@operaatioruokakassi.fi
SUMMARY:Piikkiön Adventtiseurakunta
DESCRIPTION:Vuoronumeroiden jako alkaa pihalla klo 16 \nTiistaisin klo 17:30-18:00 ruoka-apu. \nElintarvikkeita työttömille ja vähävaraisille.
URL:https://operaatioruokakassi.fi/event/piikkion-adventtiseurakunta-4/2024-10-01/
LOCATION:Piikkiön Adventtiseurakunta\, Korvenmäentie 11\, Piikkiö\, 21500
END:VEVENT
BEGIN:VEVENT
DTSTART;TZID=Europe/Helsinki:20240924T173000
DTEND;TZID=Europe/Helsinki:20240924T180000
DTSTAMP:20260424T043426
CREATED:20240618T071436Z
LAST-MODIFIED:20251125T082327Z
UID:10001947-1727199000-1727200800@operaatioruokakassi.fi
SUMMARY:Piikkiön Adventtiseurakunta
DESCRIPTION:Vuoronumeroiden jako alkaa pihalla klo 16 \nTiistaisin klo 17:30-18:00 ruoka-apu. \nElintarvikkeita työttömille ja vähävaraisille.
URL:https://operaatioruokakassi.fi/event/piikkion-adventtiseurakunta-4/2024-09-24/
LOCATION:Piikkiön Adventtiseurakunta\, Korvenmäentie 11\, Piikkiö\, 21500
END:VEVENT
BEGIN:VEVENT
DTSTART;TZID=Europe/Helsinki:20240917T173000
DTEND;TZID=Europe/Helsinki:20240917T180000
DTSTAMP:20260424T043426
CREATED:20240618T071436Z
LAST-MODIFIED:20251125T082327Z
UID:10001946-1726594200-1726596000@operaatioruokakassi.fi
SUMMARY:Piikkiön Adventtiseurakunta
DESCRIPTION:Vuoronumeroiden jako alkaa pihalla klo 16 \nTiistaisin klo 17:30-18:00 ruoka-apu. \nElintarvikkeita työttömille ja vähävaraisille.
URL:https://operaatioruokakassi.fi/event/piikkion-adventtiseurakunta-4/2024-09-17/
LOCATION:Piikkiön Adventtiseurakunta\, Korvenmäentie 11\, Piikkiö\, 21500
END:VEVENT
BEGIN:VEVENT
DTSTART;TZID=Europe/Helsinki:20240910T173000
DTEND;TZID=Europe/Helsinki:20240910T180000
DTSTAMP:20260424T043426
CREATED:20240618T071436Z
LAST-MODIFIED:20251125T082327Z
UID:10001945-1725989400-1725991200@operaatioruokakassi.fi
SUMMARY:Piikkiön Adventtiseurakunta
DESCRIPTION:Vuoronumeroiden jako alkaa pihalla klo 16 \nTiistaisin klo 17:30-18:00 ruoka-apu. \nElintarvikkeita työttömille ja vähävaraisille.
URL:https://operaatioruokakassi.fi/event/piikkion-adventtiseurakunta-4/2024-09-10/
LOCATION:Piikkiön Adventtiseurakunta\, Korvenmäentie 11\, Piikkiö\, 21500
END:VEVENT
BEGIN:VEVENT
DTSTART;TZID=Europe/Helsinki:20240903T173000
DTEND;TZID=Europe/Helsinki:20240903T180000
DTSTAMP:20260424T043426
CREATED:20240618T071436Z
LAST-MODIFIED:20251125T082327Z
UID:10001944-1725384600-1725386400@operaatioruokakassi.fi
SUMMARY:Piikkiön Adventtiseurakunta
DESCRIPTION:Vuoronumeroiden jako alkaa pihalla klo 16 \nTiistaisin klo 17:30-18:00 ruoka-apu. \nElintarvikkeita työttömille ja vähävaraisille.
URL:https://operaatioruokakassi.fi/event/piikkion-adventtiseurakunta-4/2024-09-03/
LOCATION:Piikkiön Adventtiseurakunta\, Korvenmäentie 11\, Piikkiö\, 21500
END:VEVENT
BEGIN:VEVENT
DTSTART;TZID=Europe/Helsinki:20240827T173000
DTEND;TZID=Europe/Helsinki:20240827T180000
DTSTAMP:20260424T043426
CREATED:20240618T071436Z
LAST-MODIFIED:20251125T082327Z
UID:10001943-1724779800-1724781600@operaatioruokakassi.fi
SUMMARY:Piikkiön Adventtiseurakunta
DESCRIPTION:Vuoronumeroiden jako alkaa pihalla klo 16 \nTiistaisin klo 17:30-18:00 ruoka-apu. \nElintarvikkeita työttömille ja vähävaraisille.
URL:https://operaatioruokakassi.fi/event/piikkion-adventtiseurakunta-4/2024-08-27/
LOCATION:Piikkiön Adventtiseurakunta\, Korvenmäentie 11\, Piikkiö\, 21500
END:VEVENT
BEGIN:VEVENT
DTSTART;TZID=Europe/Helsinki:20240820T173000
DTEND;TZID=Europe/Helsinki:20240820T180000
DTSTAMP:20260424T043426
CREATED:20240618T071436Z
LAST-MODIFIED:20251125T082327Z
UID:10001942-1724175000-1724176800@operaatioruokakassi.fi
SUMMARY:Piikkiön Adventtiseurakunta
DESCRIPTION:Vuoronumeroiden jako alkaa pihalla klo 16 \nTiistaisin klo 17:30-18:00 ruoka-apu. \nElintarvikkeita työttömille ja vähävaraisille.
URL:https://operaatioruokakassi.fi/event/piikkion-adventtiseurakunta-4/2024-08-20/
LOCATION:Piikkiön Adventtiseurakunta\, Korvenmäentie 11\, Piikkiö\, 21500
END:VEVENT
BEGIN:VEVENT
DTSTART;TZID=Europe/Helsinki:20240813T173000
DTEND;TZID=Europe/Helsinki:20240813T180000
DTSTAMP:20260424T043426
CREATED:20240618T071436Z
LAST-MODIFIED:20251125T082327Z
UID:10001941-1723570200-1723572000@operaatioruokakassi.fi
SUMMARY:Piikkiön Adventtiseurakunta
DESCRIPTION:Vuoronumeroiden jako alkaa pihalla klo 16 \nTiistaisin klo 17:30-18:00 ruoka-apu. \nElintarvikkeita työttömille ja vähävaraisille.
URL:https://operaatioruokakassi.fi/event/piikkion-adventtiseurakunta-4/2024-08-13/
LOCATION:Piikkiön Adventtiseurakunta\, Korvenmäentie 11\, Piikkiö\, 21500
END:VEVENT
BEGIN:VEVENT
DTSTART;TZID=Europe/Helsinki:20240806T173000
DTEND;TZID=Europe/Helsinki:20240806T180000
DTSTAMP:20260424T043426
CREATED:20240618T071436Z
LAST-MODIFIED:20251125T082327Z
UID:10001940-1722965400-1722967200@operaatioruokakassi.fi
SUMMARY:Piikkiön Adventtiseurakunta
DESCRIPTION:Vuoronumeroiden jako alkaa pihalla klo 16 \nTiistaisin klo 17:30-18:00 ruoka-apu. \nElintarvikkeita työttömille ja vähävaraisille.
URL:https://operaatioruokakassi.fi/event/piikkion-adventtiseurakunta-4/2024-08-06/
LOCATION:Piikkiön Adventtiseurakunta\, Korvenmäentie 11\, Piikkiö\, 21500
END:VEVENT
END:VCALENDAR