BEGIN:VCALENDAR
VERSION:2.0
PRODID:-//Operaatio Ruokakassi - ECPv6.15.20//NONSGML v1.0//EN
CALSCALE:GREGORIAN
METHOD:PUBLISH
X-ORIGINAL-URL:https://operaatioruokakassi.fi
X-WR-CALDESC:Tapahtumat Operaatio Ruokakassi
REFRESH-INTERVAL;VALUE=DURATION:PT1H
X-Robots-Tag:noindex
X-PUBLISHED-TTL:PT1H
BEGIN:VTIMEZONE
TZID:UTC
BEGIN:STANDARD
TZOFFSETFROM:+0000
TZOFFSETTO:+0000
TZNAME:UTC
DTSTART:20200101T000000
END:STANDARD
END:VTIMEZONE
BEGIN:VEVENT
DTSTART;TZID=UTC:20210629T150000
DTEND;TZID=UTC:20210629T170000
DTSTAMP:20260425T002633
CREATED:20210423T062034Z
LAST-MODIFIED:20210623T060354Z
UID:10000309-1624978800-1624986000@operaatioruokakassi.fi
SUMMARY:Piikkiön Adventtiseurakunta
DESCRIPTION:
URL:https://operaatioruokakassi.fi/event/piikkion-adventtiseurakunta/2021-06-29/
LOCATION:Piikkiön Adventtiseurakunta\, Korvenmäentie 11\, Piikkiö\, 21500
END:VEVENT
BEGIN:VEVENT
DTSTART;TZID=UTC:20210622T150000
DTEND;TZID=UTC:20210622T170000
DTSTAMP:20260425T002633
CREATED:20210423T062034Z
LAST-MODIFIED:20210623T060354Z
UID:10000308-1624374000-1624381200@operaatioruokakassi.fi
SUMMARY:Piikkiön Adventtiseurakunta
DESCRIPTION:
URL:https://operaatioruokakassi.fi/event/piikkion-adventtiseurakunta/2021-06-22/
LOCATION:Piikkiön Adventtiseurakunta\, Korvenmäentie 11\, Piikkiö\, 21500
END:VEVENT
BEGIN:VEVENT
DTSTART;TZID=UTC:20210615T150000
DTEND;TZID=UTC:20210615T170000
DTSTAMP:20260425T002633
CREATED:20210423T062034Z
LAST-MODIFIED:20210623T060354Z
UID:10000307-1623769200-1623776400@operaatioruokakassi.fi
SUMMARY:Piikkiön Adventtiseurakunta
DESCRIPTION:
URL:https://operaatioruokakassi.fi/event/piikkion-adventtiseurakunta/2021-06-15/
LOCATION:Piikkiön Adventtiseurakunta\, Korvenmäentie 11\, Piikkiö\, 21500
END:VEVENT
BEGIN:VEVENT
DTSTART;TZID=UTC:20210608T150000
DTEND;TZID=UTC:20210608T170000
DTSTAMP:20260425T002633
CREATED:20210423T062034Z
LAST-MODIFIED:20210623T060354Z
UID:10000306-1623164400-1623171600@operaatioruokakassi.fi
SUMMARY:Piikkiön Adventtiseurakunta
DESCRIPTION:
URL:https://operaatioruokakassi.fi/event/piikkion-adventtiseurakunta/2021-06-08/
LOCATION:Piikkiön Adventtiseurakunta\, Korvenmäentie 11\, Piikkiö\, 21500
END:VEVENT
BEGIN:VEVENT
DTSTART;TZID=UTC:20210601T150000
DTEND;TZID=UTC:20210601T170000
DTSTAMP:20260425T002633
CREATED:20210423T062034Z
LAST-MODIFIED:20210623T060354Z
UID:10000305-1622559600-1622566800@operaatioruokakassi.fi
SUMMARY:Piikkiön Adventtiseurakunta
DESCRIPTION:
URL:https://operaatioruokakassi.fi/event/piikkion-adventtiseurakunta/2021-06-01/
LOCATION:Piikkiön Adventtiseurakunta\, Korvenmäentie 11\, Piikkiö\, 21500
END:VEVENT
BEGIN:VEVENT
DTSTART;TZID=UTC:20210525T150000
DTEND;TZID=UTC:20210525T170000
DTSTAMP:20260425T002633
CREATED:20210423T062034Z
LAST-MODIFIED:20210623T060354Z
UID:10000304-1621954800-1621962000@operaatioruokakassi.fi
SUMMARY:Piikkiön Adventtiseurakunta
DESCRIPTION:
URL:https://operaatioruokakassi.fi/event/piikkion-adventtiseurakunta/2021-05-25/
LOCATION:Piikkiön Adventtiseurakunta\, Korvenmäentie 11\, Piikkiö\, 21500
END:VEVENT
BEGIN:VEVENT
DTSTART;TZID=UTC:20210518T150000
DTEND;TZID=UTC:20210518T170000
DTSTAMP:20260425T002633
CREATED:20210423T062034Z
LAST-MODIFIED:20210623T060354Z
UID:10000303-1621350000-1621357200@operaatioruokakassi.fi
SUMMARY:Piikkiön Adventtiseurakunta
DESCRIPTION:
URL:https://operaatioruokakassi.fi/event/piikkion-adventtiseurakunta/2021-05-18/
LOCATION:Piikkiön Adventtiseurakunta\, Korvenmäentie 11\, Piikkiö\, 21500
END:VEVENT
BEGIN:VEVENT
DTSTART;TZID=UTC:20210511T150000
DTEND;TZID=UTC:20210511T170000
DTSTAMP:20260425T002633
CREATED:20210423T062034Z
LAST-MODIFIED:20210623T060354Z
UID:10000302-1620745200-1620752400@operaatioruokakassi.fi
SUMMARY:Piikkiön Adventtiseurakunta
DESCRIPTION:
URL:https://operaatioruokakassi.fi/event/piikkion-adventtiseurakunta/2021-05-11/
LOCATION:Piikkiön Adventtiseurakunta\, Korvenmäentie 11\, Piikkiö\, 21500
END:VEVENT
BEGIN:VEVENT
DTSTART;TZID=UTC:20210504T150000
DTEND;TZID=UTC:20210504T170000
DTSTAMP:20260425T002633
CREATED:20210423T062034Z
LAST-MODIFIED:20210623T060354Z
UID:10000301-1620140400-1620147600@operaatioruokakassi.fi
SUMMARY:Piikkiön Adventtiseurakunta
DESCRIPTION:
URL:https://operaatioruokakassi.fi/event/piikkion-adventtiseurakunta/2021-05-04/
LOCATION:Piikkiön Adventtiseurakunta\, Korvenmäentie 11\, Piikkiö\, 21500
END:VEVENT
END:VCALENDAR