BEGIN:VCALENDAR
VERSION:2.0
PRODID:-//Operaatio Ruokakassi - ECPv6.15.20//NONSGML v1.0//EN
CALSCALE:GREGORIAN
METHOD:PUBLISH
X-ORIGINAL-URL:https://operaatioruokakassi.fi
X-WR-CALDESC:Tapahtumat Operaatio Ruokakassi
REFRESH-INTERVAL;VALUE=DURATION:PT1H
X-Robots-Tag:noindex
X-PUBLISHED-TTL:PT1H
BEGIN:VTIMEZONE
TZID:UTC
BEGIN:STANDARD
TZOFFSETFROM:+0000
TZOFFSETTO:+0000
TZNAME:UTC
DTSTART:20200101T000000
END:STANDARD
END:VTIMEZONE
BEGIN:VEVENT
DTSTART;TZID=UTC:20210914T163000
DTEND;TZID=UTC:20210914T173000
DTSTAMP:20260424T225713
CREATED:20210802T072040Z
LAST-MODIFIED:20240320T072250Z
UID:10000389-1631637000-1631640600@operaatioruokakassi.fi
SUMMARY:Piikkiön Adventtiseurakunta
DESCRIPTION:Tiistaisin klo 16.30-17:30 ruoka-apu.  \nElintarvikkeita työttömille ja vähävaraisille.
URL:https://operaatioruokakassi.fi/event/piikkion-adventtiseurakunta-3/2021-09-14/
LOCATION:Piikkiön Adventtiseurakunta\, Korvenmäentie 11\, Piikkiö\, 21500
END:VEVENT
BEGIN:VEVENT
DTSTART;TZID=UTC:20210907T163000
DTEND;TZID=UTC:20210907T173000
DTSTAMP:20260424T225713
CREATED:20210802T072040Z
LAST-MODIFIED:20240320T072250Z
UID:10000388-1631032200-1631035800@operaatioruokakassi.fi
SUMMARY:Piikkiön Adventtiseurakunta
DESCRIPTION:Tiistaisin klo 16.30-17:30 ruoka-apu.  \nElintarvikkeita työttömille ja vähävaraisille.
URL:https://operaatioruokakassi.fi/event/piikkion-adventtiseurakunta-3/2021-09-07/
LOCATION:Piikkiön Adventtiseurakunta\, Korvenmäentie 11\, Piikkiö\, 21500
END:VEVENT
BEGIN:VEVENT
DTSTART;TZID=UTC:20210831T163000
DTEND;TZID=UTC:20210831T173000
DTSTAMP:20260424T225713
CREATED:20210802T072040Z
LAST-MODIFIED:20240320T072250Z
UID:10000387-1630427400-1630431000@operaatioruokakassi.fi
SUMMARY:Piikkiön Adventtiseurakunta
DESCRIPTION:Tiistaisin klo 16.30-17:30 ruoka-apu.  \nElintarvikkeita työttömille ja vähävaraisille.
URL:https://operaatioruokakassi.fi/event/piikkion-adventtiseurakunta-3/2021-08-31/
LOCATION:Piikkiön Adventtiseurakunta\, Korvenmäentie 11\, Piikkiö\, 21500
END:VEVENT
BEGIN:VEVENT
DTSTART;TZID=UTC:20210824T163000
DTEND;TZID=UTC:20210824T173000
DTSTAMP:20260424T225713
CREATED:20210802T072040Z
LAST-MODIFIED:20240320T072250Z
UID:10000386-1629822600-1629826200@operaatioruokakassi.fi
SUMMARY:Piikkiön Adventtiseurakunta
DESCRIPTION:Tiistaisin klo 16.30-17:30 ruoka-apu.  \nElintarvikkeita työttömille ja vähävaraisille.
URL:https://operaatioruokakassi.fi/event/piikkion-adventtiseurakunta-3/2021-08-24/
LOCATION:Piikkiön Adventtiseurakunta\, Korvenmäentie 11\, Piikkiö\, 21500
END:VEVENT
BEGIN:VEVENT
DTSTART;TZID=UTC:20210817T163000
DTEND;TZID=UTC:20210817T173000
DTSTAMP:20260424T225713
CREATED:20210802T072040Z
LAST-MODIFIED:20240320T072250Z
UID:10000385-1629217800-1629221400@operaatioruokakassi.fi
SUMMARY:Piikkiön Adventtiseurakunta
DESCRIPTION:Tiistaisin klo 16.30-17:30 ruoka-apu.  \nElintarvikkeita työttömille ja vähävaraisille.
URL:https://operaatioruokakassi.fi/event/piikkion-adventtiseurakunta-3/2021-08-17/
LOCATION:Piikkiön Adventtiseurakunta\, Korvenmäentie 11\, Piikkiö\, 21500
END:VEVENT
BEGIN:VEVENT
DTSTART;TZID=UTC:20210810T163000
DTEND;TZID=UTC:20210810T173000
DTSTAMP:20260424T225713
CREATED:20210802T072040Z
LAST-MODIFIED:20240320T072250Z
UID:10000384-1628613000-1628616600@operaatioruokakassi.fi
SUMMARY:Piikkiön Adventtiseurakunta
DESCRIPTION:Tiistaisin klo 16.30-17:30 ruoka-apu.  \nElintarvikkeita työttömille ja vähävaraisille.
URL:https://operaatioruokakassi.fi/event/piikkion-adventtiseurakunta-3/2021-08-10/
LOCATION:Piikkiön Adventtiseurakunta\, Korvenmäentie 11\, Piikkiö\, 21500
END:VEVENT
BEGIN:VEVENT
DTSTART;TZID=UTC:20210803T150000
DTEND;TZID=UTC:20210803T170000
DTSTAMP:20260424T225713
CREATED:20210615T130731Z
LAST-MODIFIED:20210615T130731Z
UID:10000374-1628002800-1628010000@operaatioruokakassi.fi
SUMMARY:Piikkiön Adventtiseurakunta
DESCRIPTION:Huom. 20.7 ja 27.7 ruokaa jaetaan vain lapsiperheille.
URL:https://operaatioruokakassi.fi/event/piikkion-adventtiseurakunta-2/2021-08-03/
LOCATION:Piikkiön Adventtiseurakunta\, Korvenmäentie 11\, Piikkiö\, 21500
END:VEVENT
BEGIN:VEVENT
DTSTART;TZID=UTC:20210803T150000
DTEND;TZID=UTC:20210803T170000
DTSTAMP:20260424T225713
CREATED:20210615T130731Z
LAST-MODIFIED:20210802T071853Z
UID:10000103-1628002800-1628010000@operaatioruokakassi.fi
SUMMARY:Piikkiön Adventtiseurakunta
DESCRIPTION:Huom. 20.7 ja 27.7 ruokaa jaetaan vain lapsiperheille.
URL:https://operaatioruokakassi.fi/event/piikkion-adventtiseurakunta-2-2021-08-03/2021-08-03/
LOCATION:Piikkiön Adventtiseurakunta\, Korvenmäentie 11\, Piikkiö\, 21500
END:VEVENT
BEGIN:VEVENT
DTSTART;TZID=UTC:20210727T150000
DTEND;TZID=UTC:20210727T170000
DTSTAMP:20260424T225713
CREATED:20210615T130731Z
LAST-MODIFIED:20210615T130731Z
UID:10000373-1627398000-1627405200@operaatioruokakassi.fi
SUMMARY:Piikkiön Adventtiseurakunta
DESCRIPTION:Huom. 20.7 ja 27.7 ruokaa jaetaan vain lapsiperheille.
URL:https://operaatioruokakassi.fi/event/piikkion-adventtiseurakunta-2/2021-07-27/
LOCATION:Piikkiön Adventtiseurakunta\, Korvenmäentie 11\, Piikkiö\, 21500
END:VEVENT
BEGIN:VEVENT
DTSTART;TZID=UTC:20210720T150000
DTEND;TZID=UTC:20210720T170000
DTSTAMP:20260424T225713
CREATED:20210615T130731Z
LAST-MODIFIED:20210615T130731Z
UID:10000372-1626793200-1626800400@operaatioruokakassi.fi
SUMMARY:Piikkiön Adventtiseurakunta
DESCRIPTION:Huom. 20.7 ja 27.7 ruokaa jaetaan vain lapsiperheille.
URL:https://operaatioruokakassi.fi/event/piikkion-adventtiseurakunta-2/2021-07-20/
LOCATION:Piikkiön Adventtiseurakunta\, Korvenmäentie 11\, Piikkiö\, 21500
END:VEVENT
BEGIN:VEVENT
DTSTART;TZID=UTC:20210713T150000
DTEND;TZID=UTC:20210713T170000
DTSTAMP:20260424T225713
CREATED:20210615T130731Z
LAST-MODIFIED:20210615T130731Z
UID:10000371-1626188400-1626195600@operaatioruokakassi.fi
SUMMARY:Piikkiön Adventtiseurakunta
DESCRIPTION:Huom. 20.7 ja 27.7 ruokaa jaetaan vain lapsiperheille.
URL:https://operaatioruokakassi.fi/event/piikkion-adventtiseurakunta-2/2021-07-13/
LOCATION:Piikkiön Adventtiseurakunta\, Korvenmäentie 11\, Piikkiö\, 21500
END:VEVENT
BEGIN:VEVENT
DTSTART;TZID=UTC:20210706T150000
DTEND;TZID=UTC:20210706T170000
DTSTAMP:20260424T225713
CREATED:20210615T130731Z
LAST-MODIFIED:20210615T130731Z
UID:10000370-1625583600-1625590800@operaatioruokakassi.fi
SUMMARY:Piikkiön Adventtiseurakunta
DESCRIPTION:Huom. 20.7 ja 27.7 ruokaa jaetaan vain lapsiperheille.
URL:https://operaatioruokakassi.fi/event/piikkion-adventtiseurakunta-2/2021-07-06/
LOCATION:Piikkiön Adventtiseurakunta\, Korvenmäentie 11\, Piikkiö\, 21500
END:VEVENT
BEGIN:VEVENT
DTSTART;TZID=UTC:20210629T150000
DTEND;TZID=UTC:20210629T170000
DTSTAMP:20260424T225713
CREATED:20210423T062034Z
LAST-MODIFIED:20210623T060354Z
UID:10000309-1624978800-1624986000@operaatioruokakassi.fi
SUMMARY:Piikkiön Adventtiseurakunta
DESCRIPTION:
URL:https://operaatioruokakassi.fi/event/piikkion-adventtiseurakunta/2021-06-29/
LOCATION:Piikkiön Adventtiseurakunta\, Korvenmäentie 11\, Piikkiö\, 21500
END:VEVENT
BEGIN:VEVENT
DTSTART;TZID=UTC:20210622T150000
DTEND;TZID=UTC:20210622T170000
DTSTAMP:20260424T225713
CREATED:20210423T062034Z
LAST-MODIFIED:20210623T060354Z
UID:10000308-1624374000-1624381200@operaatioruokakassi.fi
SUMMARY:Piikkiön Adventtiseurakunta
DESCRIPTION:
URL:https://operaatioruokakassi.fi/event/piikkion-adventtiseurakunta/2021-06-22/
LOCATION:Piikkiön Adventtiseurakunta\, Korvenmäentie 11\, Piikkiö\, 21500
END:VEVENT
BEGIN:VEVENT
DTSTART;TZID=UTC:20210615T150000
DTEND;TZID=UTC:20210615T170000
DTSTAMP:20260424T225713
CREATED:20210423T062034Z
LAST-MODIFIED:20210623T060354Z
UID:10000307-1623769200-1623776400@operaatioruokakassi.fi
SUMMARY:Piikkiön Adventtiseurakunta
DESCRIPTION:
URL:https://operaatioruokakassi.fi/event/piikkion-adventtiseurakunta/2021-06-15/
LOCATION:Piikkiön Adventtiseurakunta\, Korvenmäentie 11\, Piikkiö\, 21500
END:VEVENT
BEGIN:VEVENT
DTSTART;TZID=UTC:20210608T150000
DTEND;TZID=UTC:20210608T170000
DTSTAMP:20260424T225713
CREATED:20210423T062034Z
LAST-MODIFIED:20210623T060354Z
UID:10000306-1623164400-1623171600@operaatioruokakassi.fi
SUMMARY:Piikkiön Adventtiseurakunta
DESCRIPTION:
URL:https://operaatioruokakassi.fi/event/piikkion-adventtiseurakunta/2021-06-08/
LOCATION:Piikkiön Adventtiseurakunta\, Korvenmäentie 11\, Piikkiö\, 21500
END:VEVENT
BEGIN:VEVENT
DTSTART;TZID=UTC:20210601T150000
DTEND;TZID=UTC:20210601T170000
DTSTAMP:20260424T225713
CREATED:20210423T062034Z
LAST-MODIFIED:20210623T060354Z
UID:10000305-1622559600-1622566800@operaatioruokakassi.fi
SUMMARY:Piikkiön Adventtiseurakunta
DESCRIPTION:
URL:https://operaatioruokakassi.fi/event/piikkion-adventtiseurakunta/2021-06-01/
LOCATION:Piikkiön Adventtiseurakunta\, Korvenmäentie 11\, Piikkiö\, 21500
END:VEVENT
BEGIN:VEVENT
DTSTART;TZID=UTC:20210525T150000
DTEND;TZID=UTC:20210525T170000
DTSTAMP:20260424T225713
CREATED:20210423T062034Z
LAST-MODIFIED:20210623T060354Z
UID:10000304-1621954800-1621962000@operaatioruokakassi.fi
SUMMARY:Piikkiön Adventtiseurakunta
DESCRIPTION:
URL:https://operaatioruokakassi.fi/event/piikkion-adventtiseurakunta/2021-05-25/
LOCATION:Piikkiön Adventtiseurakunta\, Korvenmäentie 11\, Piikkiö\, 21500
END:VEVENT
BEGIN:VEVENT
DTSTART;TZID=UTC:20210518T150000
DTEND;TZID=UTC:20210518T170000
DTSTAMP:20260424T225713
CREATED:20210423T062034Z
LAST-MODIFIED:20210623T060354Z
UID:10000303-1621350000-1621357200@operaatioruokakassi.fi
SUMMARY:Piikkiön Adventtiseurakunta
DESCRIPTION:
URL:https://operaatioruokakassi.fi/event/piikkion-adventtiseurakunta/2021-05-18/
LOCATION:Piikkiön Adventtiseurakunta\, Korvenmäentie 11\, Piikkiö\, 21500
END:VEVENT
BEGIN:VEVENT
DTSTART;TZID=UTC:20210511T150000
DTEND;TZID=UTC:20210511T170000
DTSTAMP:20260424T225713
CREATED:20210423T062034Z
LAST-MODIFIED:20210623T060354Z
UID:10000302-1620745200-1620752400@operaatioruokakassi.fi
SUMMARY:Piikkiön Adventtiseurakunta
DESCRIPTION:
URL:https://operaatioruokakassi.fi/event/piikkion-adventtiseurakunta/2021-05-11/
LOCATION:Piikkiön Adventtiseurakunta\, Korvenmäentie 11\, Piikkiö\, 21500
END:VEVENT
BEGIN:VEVENT
DTSTART;TZID=UTC:20210504T150000
DTEND;TZID=UTC:20210504T170000
DTSTAMP:20260424T225713
CREATED:20210423T062034Z
LAST-MODIFIED:20210623T060354Z
UID:10000301-1620140400-1620147600@operaatioruokakassi.fi
SUMMARY:Piikkiön Adventtiseurakunta
DESCRIPTION:
URL:https://operaatioruokakassi.fi/event/piikkion-adventtiseurakunta/2021-05-04/
LOCATION:Piikkiön Adventtiseurakunta\, Korvenmäentie 11\, Piikkiö\, 21500
END:VEVENT
END:VCALENDAR