BEGIN:VCALENDAR
VERSION:2.0
PRODID:-//Operaatio Ruokakassi - ECPv6.15.20//NONSGML v1.0//EN
CALSCALE:GREGORIAN
METHOD:PUBLISH
X-ORIGINAL-URL:https://operaatioruokakassi.fi
X-WR-CALDESC:Tapahtumat Operaatio Ruokakassi
REFRESH-INTERVAL;VALUE=DURATION:PT1H
X-Robots-Tag:noindex
X-PUBLISHED-TTL:PT1H
BEGIN:VTIMEZONE
TZID:UTC
BEGIN:STANDARD
TZOFFSETFROM:+0000
TZOFFSETTO:+0000
TZNAME:UTC
DTSTART:20200101T000000
END:STANDARD
END:VTIMEZONE
BEGIN:VEVENT
DTSTART;TZID=UTC:20220524T163000
DTEND;TZID=UTC:20220524T173000
DTSTAMP:20260424T190224
CREATED:20210802T072040Z
LAST-MODIFIED:20240320T072250Z
UID:10000425-1653409800-1653413400@operaatioruokakassi.fi
SUMMARY:Piikkiön Adventtiseurakunta
DESCRIPTION:Tiistaisin klo 16.30-17:30 ruoka-apu.  \nElintarvikkeita työttömille ja vähävaraisille.
URL:https://operaatioruokakassi.fi/event/piikkion-adventtiseurakunta-3/2022-05-24/
LOCATION:Piikkiön Adventtiseurakunta\, Korvenmäentie 11\, Piikkiö\, 21500
END:VEVENT
BEGIN:VEVENT
DTSTART;TZID=UTC:20220517T163000
DTEND;TZID=UTC:20220517T173000
DTSTAMP:20260424T190224
CREATED:20210802T072040Z
LAST-MODIFIED:20240320T072250Z
UID:10000424-1652805000-1652808600@operaatioruokakassi.fi
SUMMARY:Piikkiön Adventtiseurakunta
DESCRIPTION:Tiistaisin klo 16.30-17:30 ruoka-apu.  \nElintarvikkeita työttömille ja vähävaraisille.
URL:https://operaatioruokakassi.fi/event/piikkion-adventtiseurakunta-3/2022-05-17/
LOCATION:Piikkiön Adventtiseurakunta\, Korvenmäentie 11\, Piikkiö\, 21500
END:VEVENT
BEGIN:VEVENT
DTSTART;TZID=UTC:20220510T163000
DTEND;TZID=UTC:20220510T173000
DTSTAMP:20260424T190224
CREATED:20210802T072040Z
LAST-MODIFIED:20240320T072250Z
UID:10000423-1652200200-1652203800@operaatioruokakassi.fi
SUMMARY:Piikkiön Adventtiseurakunta
DESCRIPTION:Tiistaisin klo 16.30-17:30 ruoka-apu.  \nElintarvikkeita työttömille ja vähävaraisille.
URL:https://operaatioruokakassi.fi/event/piikkion-adventtiseurakunta-3/2022-05-10/
LOCATION:Piikkiön Adventtiseurakunta\, Korvenmäentie 11\, Piikkiö\, 21500
END:VEVENT
BEGIN:VEVENT
DTSTART;TZID=UTC:20220503T163000
DTEND;TZID=UTC:20220503T173000
DTSTAMP:20260424T190224
CREATED:20210802T072040Z
LAST-MODIFIED:20240320T072250Z
UID:10000422-1651595400-1651599000@operaatioruokakassi.fi
SUMMARY:Piikkiön Adventtiseurakunta
DESCRIPTION:Tiistaisin klo 16.30-17:30 ruoka-apu.  \nElintarvikkeita työttömille ja vähävaraisille.
URL:https://operaatioruokakassi.fi/event/piikkion-adventtiseurakunta-3/2022-05-03/
LOCATION:Piikkiön Adventtiseurakunta\, Korvenmäentie 11\, Piikkiö\, 21500
END:VEVENT
BEGIN:VEVENT
DTSTART;TZID=UTC:20220426T163000
DTEND;TZID=UTC:20220426T173000
DTSTAMP:20260424T190224
CREATED:20210802T072040Z
LAST-MODIFIED:20240320T072250Z
UID:10000421-1650990600-1650994200@operaatioruokakassi.fi
SUMMARY:Piikkiön Adventtiseurakunta
DESCRIPTION:Tiistaisin klo 16.30-17:30 ruoka-apu.  \nElintarvikkeita työttömille ja vähävaraisille.
URL:https://operaatioruokakassi.fi/event/piikkion-adventtiseurakunta-3/2022-04-26/
LOCATION:Piikkiön Adventtiseurakunta\, Korvenmäentie 11\, Piikkiö\, 21500
END:VEVENT
BEGIN:VEVENT
DTSTART;TZID=UTC:20220419T163000
DTEND;TZID=UTC:20220419T173000
DTSTAMP:20260424T190224
CREATED:20210802T072040Z
LAST-MODIFIED:20240320T072250Z
UID:10000420-1650385800-1650389400@operaatioruokakassi.fi
SUMMARY:Piikkiön Adventtiseurakunta
DESCRIPTION:Tiistaisin klo 16.30-17:30 ruoka-apu.  \nElintarvikkeita työttömille ja vähävaraisille.
URL:https://operaatioruokakassi.fi/event/piikkion-adventtiseurakunta-3/2022-04-19/
LOCATION:Piikkiön Adventtiseurakunta\, Korvenmäentie 11\, Piikkiö\, 21500
END:VEVENT
BEGIN:VEVENT
DTSTART;TZID=UTC:20220412T163000
DTEND;TZID=UTC:20220412T173000
DTSTAMP:20260424T190224
CREATED:20210802T072040Z
LAST-MODIFIED:20240320T072250Z
UID:10000419-1649781000-1649784600@operaatioruokakassi.fi
SUMMARY:Piikkiön Adventtiseurakunta
DESCRIPTION:Tiistaisin klo 16.30-17:30 ruoka-apu.  \nElintarvikkeita työttömille ja vähävaraisille.
URL:https://operaatioruokakassi.fi/event/piikkion-adventtiseurakunta-3/2022-04-12/
LOCATION:Piikkiön Adventtiseurakunta\, Korvenmäentie 11\, Piikkiö\, 21500
END:VEVENT
BEGIN:VEVENT
DTSTART;TZID=UTC:20220405T163000
DTEND;TZID=UTC:20220405T173000
DTSTAMP:20260424T190224
CREATED:20210802T072040Z
LAST-MODIFIED:20240320T072250Z
UID:10000418-1649176200-1649179800@operaatioruokakassi.fi
SUMMARY:Piikkiön Adventtiseurakunta
DESCRIPTION:Tiistaisin klo 16.30-17:30 ruoka-apu.  \nElintarvikkeita työttömille ja vähävaraisille.
URL:https://operaatioruokakassi.fi/event/piikkion-adventtiseurakunta-3/2022-04-05/
LOCATION:Piikkiön Adventtiseurakunta\, Korvenmäentie 11\, Piikkiö\, 21500
END:VEVENT
BEGIN:VEVENT
DTSTART;TZID=UTC:20220329T163000
DTEND;TZID=UTC:20220329T173000
DTSTAMP:20260424T190224
CREATED:20210802T072040Z
LAST-MODIFIED:20240320T072250Z
UID:10000417-1648571400-1648575000@operaatioruokakassi.fi
SUMMARY:Piikkiön Adventtiseurakunta
DESCRIPTION:Tiistaisin klo 16.30-17:30 ruoka-apu.  \nElintarvikkeita työttömille ja vähävaraisille.
URL:https://operaatioruokakassi.fi/event/piikkion-adventtiseurakunta-3/2022-03-29/
LOCATION:Piikkiön Adventtiseurakunta\, Korvenmäentie 11\, Piikkiö\, 21500
END:VEVENT
BEGIN:VEVENT
DTSTART;TZID=UTC:20220322T163000
DTEND;TZID=UTC:20220322T173000
DTSTAMP:20260424T190224
CREATED:20210802T072040Z
LAST-MODIFIED:20240320T072250Z
UID:10000416-1647966600-1647970200@operaatioruokakassi.fi
SUMMARY:Piikkiön Adventtiseurakunta
DESCRIPTION:Tiistaisin klo 16.30-17:30 ruoka-apu.  \nElintarvikkeita työttömille ja vähävaraisille.
URL:https://operaatioruokakassi.fi/event/piikkion-adventtiseurakunta-3/2022-03-22/
LOCATION:Piikkiön Adventtiseurakunta\, Korvenmäentie 11\, Piikkiö\, 21500
END:VEVENT
BEGIN:VEVENT
DTSTART;TZID=UTC:20220315T163000
DTEND;TZID=UTC:20220315T173000
DTSTAMP:20260424T190224
CREATED:20210802T072040Z
LAST-MODIFIED:20240320T072250Z
UID:10000415-1647361800-1647365400@operaatioruokakassi.fi
SUMMARY:Piikkiön Adventtiseurakunta
DESCRIPTION:Tiistaisin klo 16.30-17:30 ruoka-apu.  \nElintarvikkeita työttömille ja vähävaraisille.
URL:https://operaatioruokakassi.fi/event/piikkion-adventtiseurakunta-3/2022-03-15/
LOCATION:Piikkiön Adventtiseurakunta\, Korvenmäentie 11\, Piikkiö\, 21500
END:VEVENT
BEGIN:VEVENT
DTSTART;TZID=UTC:20220308T163000
DTEND;TZID=UTC:20220308T173000
DTSTAMP:20260424T190224
CREATED:20210802T072040Z
LAST-MODIFIED:20240320T072250Z
UID:10000414-1646757000-1646760600@operaatioruokakassi.fi
SUMMARY:Piikkiön Adventtiseurakunta
DESCRIPTION:Tiistaisin klo 16.30-17:30 ruoka-apu.  \nElintarvikkeita työttömille ja vähävaraisille.
URL:https://operaatioruokakassi.fi/event/piikkion-adventtiseurakunta-3/2022-03-08/
LOCATION:Piikkiön Adventtiseurakunta\, Korvenmäentie 11\, Piikkiö\, 21500
END:VEVENT
BEGIN:VEVENT
DTSTART;TZID=UTC:20220301T163000
DTEND;TZID=UTC:20220301T173000
DTSTAMP:20260424T190224
CREATED:20210802T072040Z
LAST-MODIFIED:20240320T072250Z
UID:10000413-1646152200-1646155800@operaatioruokakassi.fi
SUMMARY:Piikkiön Adventtiseurakunta
DESCRIPTION:Tiistaisin klo 16.30-17:30 ruoka-apu.  \nElintarvikkeita työttömille ja vähävaraisille.
URL:https://operaatioruokakassi.fi/event/piikkion-adventtiseurakunta-3/2022-03-01/
LOCATION:Piikkiön Adventtiseurakunta\, Korvenmäentie 11\, Piikkiö\, 21500
END:VEVENT
BEGIN:VEVENT
DTSTART;TZID=UTC:20220222T163000
DTEND;TZID=UTC:20220222T173000
DTSTAMP:20260424T190224
CREATED:20210802T072040Z
LAST-MODIFIED:20240320T072250Z
UID:10000412-1645547400-1645551000@operaatioruokakassi.fi
SUMMARY:Piikkiön Adventtiseurakunta
DESCRIPTION:Tiistaisin klo 16.30-17:30 ruoka-apu.  \nElintarvikkeita työttömille ja vähävaraisille.
URL:https://operaatioruokakassi.fi/event/piikkion-adventtiseurakunta-3/2022-02-22/
LOCATION:Piikkiön Adventtiseurakunta\, Korvenmäentie 11\, Piikkiö\, 21500
END:VEVENT
BEGIN:VEVENT
DTSTART;TZID=UTC:20220215T163000
DTEND;TZID=UTC:20220215T173000
DTSTAMP:20260424T190224
CREATED:20210802T072040Z
LAST-MODIFIED:20240320T072250Z
UID:10000411-1644942600-1644946200@operaatioruokakassi.fi
SUMMARY:Piikkiön Adventtiseurakunta
DESCRIPTION:Tiistaisin klo 16.30-17:30 ruoka-apu.  \nElintarvikkeita työttömille ja vähävaraisille.
URL:https://operaatioruokakassi.fi/event/piikkion-adventtiseurakunta-3/2022-02-15/
LOCATION:Piikkiön Adventtiseurakunta\, Korvenmäentie 11\, Piikkiö\, 21500
END:VEVENT
BEGIN:VEVENT
DTSTART;TZID=UTC:20220208T163000
DTEND;TZID=UTC:20220208T173000
DTSTAMP:20260424T190224
CREATED:20210802T072040Z
LAST-MODIFIED:20240320T072250Z
UID:10000410-1644337800-1644341400@operaatioruokakassi.fi
SUMMARY:Piikkiön Adventtiseurakunta
DESCRIPTION:Tiistaisin klo 16.30-17:30 ruoka-apu.  \nElintarvikkeita työttömille ja vähävaraisille.
URL:https://operaatioruokakassi.fi/event/piikkion-adventtiseurakunta-3/2022-02-08/
LOCATION:Piikkiön Adventtiseurakunta\, Korvenmäentie 11\, Piikkiö\, 21500
END:VEVENT
BEGIN:VEVENT
DTSTART;TZID=UTC:20220201T163000
DTEND;TZID=UTC:20220201T173000
DTSTAMP:20260424T190224
CREATED:20210802T072040Z
LAST-MODIFIED:20240320T072250Z
UID:10000409-1643733000-1643736600@operaatioruokakassi.fi
SUMMARY:Piikkiön Adventtiseurakunta
DESCRIPTION:Tiistaisin klo 16.30-17:30 ruoka-apu.  \nElintarvikkeita työttömille ja vähävaraisille.
URL:https://operaatioruokakassi.fi/event/piikkion-adventtiseurakunta-3/2022-02-01/
LOCATION:Piikkiön Adventtiseurakunta\, Korvenmäentie 11\, Piikkiö\, 21500
END:VEVENT
BEGIN:VEVENT
DTSTART;TZID=UTC:20220125T163000
DTEND;TZID=UTC:20220125T173000
DTSTAMP:20260424T190224
CREATED:20210802T072040Z
LAST-MODIFIED:20240320T072250Z
UID:10000408-1643128200-1643131800@operaatioruokakassi.fi
SUMMARY:Piikkiön Adventtiseurakunta
DESCRIPTION:Tiistaisin klo 16.30-17:30 ruoka-apu.  \nElintarvikkeita työttömille ja vähävaraisille.
URL:https://operaatioruokakassi.fi/event/piikkion-adventtiseurakunta-3/2022-01-25/
LOCATION:Piikkiön Adventtiseurakunta\, Korvenmäentie 11\, Piikkiö\, 21500
END:VEVENT
BEGIN:VEVENT
DTSTART;TZID=UTC:20220118T163000
DTEND;TZID=UTC:20220118T173000
DTSTAMP:20260424T190224
CREATED:20210802T072040Z
LAST-MODIFIED:20240320T072250Z
UID:10000407-1642523400-1642527000@operaatioruokakassi.fi
SUMMARY:Piikkiön Adventtiseurakunta
DESCRIPTION:Tiistaisin klo 16.30-17:30 ruoka-apu.  \nElintarvikkeita työttömille ja vähävaraisille.
URL:https://operaatioruokakassi.fi/event/piikkion-adventtiseurakunta-3/2022-01-18/
LOCATION:Piikkiön Adventtiseurakunta\, Korvenmäentie 11\, Piikkiö\, 21500
END:VEVENT
BEGIN:VEVENT
DTSTART;TZID=UTC:20220111T163000
DTEND;TZID=UTC:20220111T173000
DTSTAMP:20260424T190224
CREATED:20210802T072040Z
LAST-MODIFIED:20240320T072250Z
UID:10000406-1641918600-1641922200@operaatioruokakassi.fi
SUMMARY:Piikkiön Adventtiseurakunta
DESCRIPTION:Tiistaisin klo 16.30-17:30 ruoka-apu.  \nElintarvikkeita työttömille ja vähävaraisille.
URL:https://operaatioruokakassi.fi/event/piikkion-adventtiseurakunta-3/2022-01-11/
LOCATION:Piikkiön Adventtiseurakunta\, Korvenmäentie 11\, Piikkiö\, 21500
END:VEVENT
BEGIN:VEVENT
DTSTART;TZID=UTC:20220104T163000
DTEND;TZID=UTC:20220104T173000
DTSTAMP:20260424T190224
CREATED:20210802T072040Z
LAST-MODIFIED:20240320T072250Z
UID:10000405-1641313800-1641317400@operaatioruokakassi.fi
SUMMARY:Piikkiön Adventtiseurakunta
DESCRIPTION:Tiistaisin klo 16.30-17:30 ruoka-apu.  \nElintarvikkeita työttömille ja vähävaraisille.
URL:https://operaatioruokakassi.fi/event/piikkion-adventtiseurakunta-3/2022-01-04/
LOCATION:Piikkiön Adventtiseurakunta\, Korvenmäentie 11\, Piikkiö\, 21500
END:VEVENT
BEGIN:VEVENT
DTSTART;TZID=UTC:20211228T163000
DTEND;TZID=UTC:20211228T173000
DTSTAMP:20260424T190224
CREATED:20210802T072040Z
LAST-MODIFIED:20240320T072250Z
UID:10000404-1640709000-1640712600@operaatioruokakassi.fi
SUMMARY:Piikkiön Adventtiseurakunta
DESCRIPTION:Tiistaisin klo 16.30-17:30 ruoka-apu.  \nElintarvikkeita työttömille ja vähävaraisille.
URL:https://operaatioruokakassi.fi/event/piikkion-adventtiseurakunta-3/2021-12-28/
LOCATION:Piikkiön Adventtiseurakunta\, Korvenmäentie 11\, Piikkiö\, 21500
END:VEVENT
BEGIN:VEVENT
DTSTART;TZID=UTC:20211221T163000
DTEND;TZID=UTC:20211221T173000
DTSTAMP:20260424T190224
CREATED:20210802T072040Z
LAST-MODIFIED:20240320T072250Z
UID:10000403-1640104200-1640107800@operaatioruokakassi.fi
SUMMARY:Piikkiön Adventtiseurakunta
DESCRIPTION:Tiistaisin klo 16.30-17:30 ruoka-apu.  \nElintarvikkeita työttömille ja vähävaraisille.
URL:https://operaatioruokakassi.fi/event/piikkion-adventtiseurakunta-3/2021-12-21/
LOCATION:Piikkiön Adventtiseurakunta\, Korvenmäentie 11\, Piikkiö\, 21500
END:VEVENT
BEGIN:VEVENT
DTSTART;TZID=UTC:20211214T163000
DTEND;TZID=UTC:20211214T173000
DTSTAMP:20260424T190224
CREATED:20210802T072040Z
LAST-MODIFIED:20240320T072250Z
UID:10000402-1639499400-1639503000@operaatioruokakassi.fi
SUMMARY:Piikkiön Adventtiseurakunta
DESCRIPTION:Tiistaisin klo 16.30-17:30 ruoka-apu.  \nElintarvikkeita työttömille ja vähävaraisille.
URL:https://operaatioruokakassi.fi/event/piikkion-adventtiseurakunta-3/2021-12-14/
LOCATION:Piikkiön Adventtiseurakunta\, Korvenmäentie 11\, Piikkiö\, 21500
END:VEVENT
BEGIN:VEVENT
DTSTART;TZID=UTC:20211207T163000
DTEND;TZID=UTC:20211207T173000
DTSTAMP:20260424T190224
CREATED:20210802T072040Z
LAST-MODIFIED:20240320T072250Z
UID:10000401-1638894600-1638898200@operaatioruokakassi.fi
SUMMARY:Piikkiön Adventtiseurakunta
DESCRIPTION:Tiistaisin klo 16.30-17:30 ruoka-apu.  \nElintarvikkeita työttömille ja vähävaraisille.
URL:https://operaatioruokakassi.fi/event/piikkion-adventtiseurakunta-3/2021-12-07/
LOCATION:Piikkiön Adventtiseurakunta\, Korvenmäentie 11\, Piikkiö\, 21500
END:VEVENT
BEGIN:VEVENT
DTSTART;TZID=UTC:20211130T163000
DTEND;TZID=UTC:20211130T173000
DTSTAMP:20260424T190224
CREATED:20210802T072040Z
LAST-MODIFIED:20240320T072250Z
UID:10000400-1638289800-1638293400@operaatioruokakassi.fi
SUMMARY:Piikkiön Adventtiseurakunta
DESCRIPTION:Tiistaisin klo 16.30-17:30 ruoka-apu.  \nElintarvikkeita työttömille ja vähävaraisille.
URL:https://operaatioruokakassi.fi/event/piikkion-adventtiseurakunta-3/2021-11-30/
LOCATION:Piikkiön Adventtiseurakunta\, Korvenmäentie 11\, Piikkiö\, 21500
END:VEVENT
BEGIN:VEVENT
DTSTART;TZID=UTC:20211123T163000
DTEND;TZID=UTC:20211123T173000
DTSTAMP:20260424T190224
CREATED:20210802T072040Z
LAST-MODIFIED:20240320T072250Z
UID:10000399-1637685000-1637688600@operaatioruokakassi.fi
SUMMARY:Piikkiön Adventtiseurakunta
DESCRIPTION:Tiistaisin klo 16.30-17:30 ruoka-apu.  \nElintarvikkeita työttömille ja vähävaraisille.
URL:https://operaatioruokakassi.fi/event/piikkion-adventtiseurakunta-3/2021-11-23/
LOCATION:Piikkiön Adventtiseurakunta\, Korvenmäentie 11\, Piikkiö\, 21500
END:VEVENT
BEGIN:VEVENT
DTSTART;TZID=UTC:20211116T163000
DTEND;TZID=UTC:20211116T173000
DTSTAMP:20260424T190224
CREATED:20210802T072040Z
LAST-MODIFIED:20240320T072250Z
UID:10000398-1637080200-1637083800@operaatioruokakassi.fi
SUMMARY:Piikkiön Adventtiseurakunta
DESCRIPTION:Tiistaisin klo 16.30-17:30 ruoka-apu.  \nElintarvikkeita työttömille ja vähävaraisille.
URL:https://operaatioruokakassi.fi/event/piikkion-adventtiseurakunta-3/2021-11-16/
LOCATION:Piikkiön Adventtiseurakunta\, Korvenmäentie 11\, Piikkiö\, 21500
END:VEVENT
BEGIN:VEVENT
DTSTART;TZID=UTC:20211109T163000
DTEND;TZID=UTC:20211109T173000
DTSTAMP:20260424T190224
CREATED:20210802T072040Z
LAST-MODIFIED:20240320T072250Z
UID:10000397-1636475400-1636479000@operaatioruokakassi.fi
SUMMARY:Piikkiön Adventtiseurakunta
DESCRIPTION:Tiistaisin klo 16.30-17:30 ruoka-apu.  \nElintarvikkeita työttömille ja vähävaraisille.
URL:https://operaatioruokakassi.fi/event/piikkion-adventtiseurakunta-3/2021-11-09/
LOCATION:Piikkiön Adventtiseurakunta\, Korvenmäentie 11\, Piikkiö\, 21500
END:VEVENT
BEGIN:VEVENT
DTSTART;TZID=UTC:20211102T163000
DTEND;TZID=UTC:20211102T173000
DTSTAMP:20260424T190224
CREATED:20210802T072040Z
LAST-MODIFIED:20240320T072250Z
UID:10000396-1635870600-1635874200@operaatioruokakassi.fi
SUMMARY:Piikkiön Adventtiseurakunta
DESCRIPTION:Tiistaisin klo 16.30-17:30 ruoka-apu.  \nElintarvikkeita työttömille ja vähävaraisille.
URL:https://operaatioruokakassi.fi/event/piikkion-adventtiseurakunta-3/2021-11-02/
LOCATION:Piikkiön Adventtiseurakunta\, Korvenmäentie 11\, Piikkiö\, 21500
END:VEVENT
END:VCALENDAR