BEGIN:VCALENDAR
VERSION:2.0
PRODID:-//Operaatio Ruokakassi - ECPv6.15.20//NONSGML v1.0//EN
CALSCALE:GREGORIAN
METHOD:PUBLISH
X-ORIGINAL-URL:https://operaatioruokakassi.fi
X-WR-CALDESC:Tapahtumat Operaatio Ruokakassi
REFRESH-INTERVAL;VALUE=DURATION:PT1H
X-Robots-Tag:noindex
X-PUBLISHED-TTL:PT1H
BEGIN:VTIMEZONE
TZID:UTC
BEGIN:STANDARD
TZOFFSETFROM:+0000
TZOFFSETTO:+0000
TZNAME:UTC
DTSTART:20210101T000000
END:STANDARD
END:VTIMEZONE
BEGIN:VEVENT
DTSTART;TZID=UTC:20230502T163000
DTEND;TZID=UTC:20230502T173000
DTSTAMP:20260424T134156
CREATED:20210802T072040Z
LAST-MODIFIED:20240320T072250Z
UID:10000821-1683045000-1683048600@operaatioruokakassi.fi
SUMMARY:Piikkiön Adventtiseurakunta
DESCRIPTION:Tiistaisin klo 16.30-17:30 ruoka-apu.  \nElintarvikkeita työttömille ja vähävaraisille.
URL:https://operaatioruokakassi.fi/event/piikkion-adventtiseurakunta-3/2023-05-02/
LOCATION:Piikkiön Adventtiseurakunta\, Korvenmäentie 11\, Piikkiö\, 21500
END:VEVENT
BEGIN:VEVENT
DTSTART;TZID=UTC:20230425T163000
DTEND;TZID=UTC:20230425T173000
DTSTAMP:20260424T134156
CREATED:20210802T072040Z
LAST-MODIFIED:20240320T072250Z
UID:10000820-1682440200-1682443800@operaatioruokakassi.fi
SUMMARY:Piikkiön Adventtiseurakunta
DESCRIPTION:Tiistaisin klo 16.30-17:30 ruoka-apu.  \nElintarvikkeita työttömille ja vähävaraisille.
URL:https://operaatioruokakassi.fi/event/piikkion-adventtiseurakunta-3/2023-04-25/
LOCATION:Piikkiön Adventtiseurakunta\, Korvenmäentie 11\, Piikkiö\, 21500
END:VEVENT
BEGIN:VEVENT
DTSTART;TZID=UTC:20230418T163000
DTEND;TZID=UTC:20230418T173000
DTSTAMP:20260424T134156
CREATED:20210802T072040Z
LAST-MODIFIED:20240320T072250Z
UID:10000819-1681835400-1681839000@operaatioruokakassi.fi
SUMMARY:Piikkiön Adventtiseurakunta
DESCRIPTION:Tiistaisin klo 16.30-17:30 ruoka-apu.  \nElintarvikkeita työttömille ja vähävaraisille.
URL:https://operaatioruokakassi.fi/event/piikkion-adventtiseurakunta-3/2023-04-18/
LOCATION:Piikkiön Adventtiseurakunta\, Korvenmäentie 11\, Piikkiö\, 21500
END:VEVENT
BEGIN:VEVENT
DTSTART;TZID=UTC:20230411T163000
DTEND;TZID=UTC:20230411T173000
DTSTAMP:20260424T134156
CREATED:20210802T072040Z
LAST-MODIFIED:20240320T072250Z
UID:10000818-1681230600-1681234200@operaatioruokakassi.fi
SUMMARY:Piikkiön Adventtiseurakunta
DESCRIPTION:Tiistaisin klo 16.30-17:30 ruoka-apu.  \nElintarvikkeita työttömille ja vähävaraisille.
URL:https://operaatioruokakassi.fi/event/piikkion-adventtiseurakunta-3/2023-04-11/
LOCATION:Piikkiön Adventtiseurakunta\, Korvenmäentie 11\, Piikkiö\, 21500
END:VEVENT
BEGIN:VEVENT
DTSTART;TZID=UTC:20230404T163000
DTEND;TZID=UTC:20230404T173000
DTSTAMP:20260424T134156
CREATED:20210802T072040Z
LAST-MODIFIED:20240320T072250Z
UID:10000817-1680625800-1680629400@operaatioruokakassi.fi
SUMMARY:Piikkiön Adventtiseurakunta
DESCRIPTION:Tiistaisin klo 16.30-17:30 ruoka-apu.  \nElintarvikkeita työttömille ja vähävaraisille.
URL:https://operaatioruokakassi.fi/event/piikkion-adventtiseurakunta-3/2023-04-04/
LOCATION:Piikkiön Adventtiseurakunta\, Korvenmäentie 11\, Piikkiö\, 21500
END:VEVENT
BEGIN:VEVENT
DTSTART;TZID=UTC:20230328T163000
DTEND;TZID=UTC:20230328T173000
DTSTAMP:20260424T134156
CREATED:20210802T072040Z
LAST-MODIFIED:20240320T072250Z
UID:10000816-1680021000-1680024600@operaatioruokakassi.fi
SUMMARY:Piikkiön Adventtiseurakunta
DESCRIPTION:Tiistaisin klo 16.30-17:30 ruoka-apu.  \nElintarvikkeita työttömille ja vähävaraisille.
URL:https://operaatioruokakassi.fi/event/piikkion-adventtiseurakunta-3/2023-03-28/
LOCATION:Piikkiön Adventtiseurakunta\, Korvenmäentie 11\, Piikkiö\, 21500
END:VEVENT
BEGIN:VEVENT
DTSTART;TZID=UTC:20230321T163000
DTEND;TZID=UTC:20230321T173000
DTSTAMP:20260424T134156
CREATED:20210802T072040Z
LAST-MODIFIED:20240320T072250Z
UID:10000815-1679416200-1679419800@operaatioruokakassi.fi
SUMMARY:Piikkiön Adventtiseurakunta
DESCRIPTION:Tiistaisin klo 16.30-17:30 ruoka-apu.  \nElintarvikkeita työttömille ja vähävaraisille.
URL:https://operaatioruokakassi.fi/event/piikkion-adventtiseurakunta-3/2023-03-21/
LOCATION:Piikkiön Adventtiseurakunta\, Korvenmäentie 11\, Piikkiö\, 21500
END:VEVENT
BEGIN:VEVENT
DTSTART;TZID=UTC:20230314T163000
DTEND;TZID=UTC:20230314T173000
DTSTAMP:20260424T134156
CREATED:20210802T072040Z
LAST-MODIFIED:20240320T072250Z
UID:10000814-1678811400-1678815000@operaatioruokakassi.fi
SUMMARY:Piikkiön Adventtiseurakunta
DESCRIPTION:Tiistaisin klo 16.30-17:30 ruoka-apu.  \nElintarvikkeita työttömille ja vähävaraisille.
URL:https://operaatioruokakassi.fi/event/piikkion-adventtiseurakunta-3/2023-03-14/
LOCATION:Piikkiön Adventtiseurakunta\, Korvenmäentie 11\, Piikkiö\, 21500
END:VEVENT
BEGIN:VEVENT
DTSTART;TZID=UTC:20230307T163000
DTEND;TZID=UTC:20230307T173000
DTSTAMP:20260424T134156
CREATED:20210802T072040Z
LAST-MODIFIED:20240320T072250Z
UID:10000813-1678206600-1678210200@operaatioruokakassi.fi
SUMMARY:Piikkiön Adventtiseurakunta
DESCRIPTION:Tiistaisin klo 16.30-17:30 ruoka-apu.  \nElintarvikkeita työttömille ja vähävaraisille.
URL:https://operaatioruokakassi.fi/event/piikkion-adventtiseurakunta-3/2023-03-07/
LOCATION:Piikkiön Adventtiseurakunta\, Korvenmäentie 11\, Piikkiö\, 21500
END:VEVENT
BEGIN:VEVENT
DTSTART;TZID=UTC:20230228T163000
DTEND;TZID=UTC:20230228T173000
DTSTAMP:20260424T134156
CREATED:20210802T072040Z
LAST-MODIFIED:20240320T072250Z
UID:10000812-1677601800-1677605400@operaatioruokakassi.fi
SUMMARY:Piikkiön Adventtiseurakunta
DESCRIPTION:Tiistaisin klo 16.30-17:30 ruoka-apu.  \nElintarvikkeita työttömille ja vähävaraisille.
URL:https://operaatioruokakassi.fi/event/piikkion-adventtiseurakunta-3/2023-02-28/
LOCATION:Piikkiön Adventtiseurakunta\, Korvenmäentie 11\, Piikkiö\, 21500
END:VEVENT
BEGIN:VEVENT
DTSTART;TZID=UTC:20230221T163000
DTEND;TZID=UTC:20230221T173000
DTSTAMP:20260424T134156
CREATED:20210802T072040Z
LAST-MODIFIED:20240320T072250Z
UID:10000811-1676997000-1677000600@operaatioruokakassi.fi
SUMMARY:Piikkiön Adventtiseurakunta
DESCRIPTION:Tiistaisin klo 16.30-17:30 ruoka-apu.  \nElintarvikkeita työttömille ja vähävaraisille.
URL:https://operaatioruokakassi.fi/event/piikkion-adventtiseurakunta-3/2023-02-21/
LOCATION:Piikkiön Adventtiseurakunta\, Korvenmäentie 11\, Piikkiö\, 21500
END:VEVENT
BEGIN:VEVENT
DTSTART;TZID=UTC:20230214T163000
DTEND;TZID=UTC:20230214T173000
DTSTAMP:20260424T134156
CREATED:20210802T072040Z
LAST-MODIFIED:20240320T072250Z
UID:10000810-1676392200-1676395800@operaatioruokakassi.fi
SUMMARY:Piikkiön Adventtiseurakunta
DESCRIPTION:Tiistaisin klo 16.30-17:30 ruoka-apu.  \nElintarvikkeita työttömille ja vähävaraisille.
URL:https://operaatioruokakassi.fi/event/piikkion-adventtiseurakunta-3/2023-02-14/
LOCATION:Piikkiön Adventtiseurakunta\, Korvenmäentie 11\, Piikkiö\, 21500
END:VEVENT
BEGIN:VEVENT
DTSTART;TZID=UTC:20230207T163000
DTEND;TZID=UTC:20230207T173000
DTSTAMP:20260424T134156
CREATED:20210802T072040Z
LAST-MODIFIED:20240320T072250Z
UID:10000809-1675787400-1675791000@operaatioruokakassi.fi
SUMMARY:Piikkiön Adventtiseurakunta
DESCRIPTION:Tiistaisin klo 16.30-17:30 ruoka-apu.  \nElintarvikkeita työttömille ja vähävaraisille.
URL:https://operaatioruokakassi.fi/event/piikkion-adventtiseurakunta-3/2023-02-07/
LOCATION:Piikkiön Adventtiseurakunta\, Korvenmäentie 11\, Piikkiö\, 21500
END:VEVENT
BEGIN:VEVENT
DTSTART;TZID=UTC:20230131T163000
DTEND;TZID=UTC:20230131T173000
DTSTAMP:20260424T134156
CREATED:20210802T072040Z
LAST-MODIFIED:20240320T072250Z
UID:10000460-1675182600-1675186200@operaatioruokakassi.fi
SUMMARY:Piikkiön Adventtiseurakunta
DESCRIPTION:Tiistaisin klo 16.30-17:30 ruoka-apu.  \nElintarvikkeita työttömille ja vähävaraisille.
URL:https://operaatioruokakassi.fi/event/piikkion-adventtiseurakunta-3/2023-01-31/
LOCATION:Piikkiön Adventtiseurakunta\, Korvenmäentie 11\, Piikkiö\, 21500
END:VEVENT
BEGIN:VEVENT
DTSTART;TZID=UTC:20230124T163000
DTEND;TZID=UTC:20230124T173000
DTSTAMP:20260424T134156
CREATED:20210802T072040Z
LAST-MODIFIED:20240320T072250Z
UID:10000459-1674577800-1674581400@operaatioruokakassi.fi
SUMMARY:Piikkiön Adventtiseurakunta
DESCRIPTION:Tiistaisin klo 16.30-17:30 ruoka-apu.  \nElintarvikkeita työttömille ja vähävaraisille.
URL:https://operaatioruokakassi.fi/event/piikkion-adventtiseurakunta-3/2023-01-24/
LOCATION:Piikkiön Adventtiseurakunta\, Korvenmäentie 11\, Piikkiö\, 21500
END:VEVENT
BEGIN:VEVENT
DTSTART;TZID=UTC:20230117T163000
DTEND;TZID=UTC:20230117T173000
DTSTAMP:20260424T134156
CREATED:20210802T072040Z
LAST-MODIFIED:20240320T072250Z
UID:10000458-1673973000-1673976600@operaatioruokakassi.fi
SUMMARY:Piikkiön Adventtiseurakunta
DESCRIPTION:Tiistaisin klo 16.30-17:30 ruoka-apu.  \nElintarvikkeita työttömille ja vähävaraisille.
URL:https://operaatioruokakassi.fi/event/piikkion-adventtiseurakunta-3/2023-01-17/
LOCATION:Piikkiön Adventtiseurakunta\, Korvenmäentie 11\, Piikkiö\, 21500
END:VEVENT
BEGIN:VEVENT
DTSTART;TZID=UTC:20230110T163000
DTEND;TZID=UTC:20230110T173000
DTSTAMP:20260424T134156
CREATED:20210802T072040Z
LAST-MODIFIED:20240320T072250Z
UID:10000457-1673368200-1673371800@operaatioruokakassi.fi
SUMMARY:Piikkiön Adventtiseurakunta
DESCRIPTION:Tiistaisin klo 16.30-17:30 ruoka-apu.  \nElintarvikkeita työttömille ja vähävaraisille.
URL:https://operaatioruokakassi.fi/event/piikkion-adventtiseurakunta-3/2023-01-10/
LOCATION:Piikkiön Adventtiseurakunta\, Korvenmäentie 11\, Piikkiö\, 21500
END:VEVENT
BEGIN:VEVENT
DTSTART;TZID=UTC:20230103T163000
DTEND;TZID=UTC:20230103T173000
DTSTAMP:20260424T134156
CREATED:20210802T072040Z
LAST-MODIFIED:20240320T072250Z
UID:10000456-1672763400-1672767000@operaatioruokakassi.fi
SUMMARY:Piikkiön Adventtiseurakunta
DESCRIPTION:Tiistaisin klo 16.30-17:30 ruoka-apu.  \nElintarvikkeita työttömille ja vähävaraisille.
URL:https://operaatioruokakassi.fi/event/piikkion-adventtiseurakunta-3/2023-01-03/
LOCATION:Piikkiön Adventtiseurakunta\, Korvenmäentie 11\, Piikkiö\, 21500
END:VEVENT
BEGIN:VEVENT
DTSTART;TZID=UTC:20221227T163000
DTEND;TZID=UTC:20221227T173000
DTSTAMP:20260424T134156
CREATED:20210802T072040Z
LAST-MODIFIED:20240320T072250Z
UID:10000455-1672158600-1672162200@operaatioruokakassi.fi
SUMMARY:Piikkiön Adventtiseurakunta
DESCRIPTION:Tiistaisin klo 16.30-17:30 ruoka-apu.  \nElintarvikkeita työttömille ja vähävaraisille.
URL:https://operaatioruokakassi.fi/event/piikkion-adventtiseurakunta-3/2022-12-27/
LOCATION:Piikkiön Adventtiseurakunta\, Korvenmäentie 11\, Piikkiö\, 21500
END:VEVENT
BEGIN:VEVENT
DTSTART;TZID=UTC:20221220T163000
DTEND;TZID=UTC:20221220T173000
DTSTAMP:20260424T134156
CREATED:20210802T072040Z
LAST-MODIFIED:20240320T072250Z
UID:10000454-1671553800-1671557400@operaatioruokakassi.fi
SUMMARY:Piikkiön Adventtiseurakunta
DESCRIPTION:Tiistaisin klo 16.30-17:30 ruoka-apu.  \nElintarvikkeita työttömille ja vähävaraisille.
URL:https://operaatioruokakassi.fi/event/piikkion-adventtiseurakunta-3/2022-12-20/
LOCATION:Piikkiön Adventtiseurakunta\, Korvenmäentie 11\, Piikkiö\, 21500
END:VEVENT
BEGIN:VEVENT
DTSTART;TZID=UTC:20221213T163000
DTEND;TZID=UTC:20221213T173000
DTSTAMP:20260424T134156
CREATED:20210802T072040Z
LAST-MODIFIED:20240320T072250Z
UID:10000453-1670949000-1670952600@operaatioruokakassi.fi
SUMMARY:Piikkiön Adventtiseurakunta
DESCRIPTION:Tiistaisin klo 16.30-17:30 ruoka-apu.  \nElintarvikkeita työttömille ja vähävaraisille.
URL:https://operaatioruokakassi.fi/event/piikkion-adventtiseurakunta-3/2022-12-13/
LOCATION:Piikkiön Adventtiseurakunta\, Korvenmäentie 11\, Piikkiö\, 21500
END:VEVENT
BEGIN:VEVENT
DTSTART;TZID=UTC:20221129T163000
DTEND;TZID=UTC:20221129T173000
DTSTAMP:20260424T134156
CREATED:20210802T072040Z
LAST-MODIFIED:20240320T072250Z
UID:10000452-1669739400-1669743000@operaatioruokakassi.fi
SUMMARY:Piikkiön Adventtiseurakunta
DESCRIPTION:Tiistaisin klo 16.30-17:30 ruoka-apu.  \nElintarvikkeita työttömille ja vähävaraisille.
URL:https://operaatioruokakassi.fi/event/piikkion-adventtiseurakunta-3/2022-11-29/
LOCATION:Piikkiön Adventtiseurakunta\, Korvenmäentie 11\, Piikkiö\, 21500
END:VEVENT
BEGIN:VEVENT
DTSTART;TZID=UTC:20221122T163000
DTEND;TZID=UTC:20221122T173000
DTSTAMP:20260424T134156
CREATED:20210802T072040Z
LAST-MODIFIED:20240320T072250Z
UID:10000451-1669134600-1669138200@operaatioruokakassi.fi
SUMMARY:Piikkiön Adventtiseurakunta
DESCRIPTION:Tiistaisin klo 16.30-17:30 ruoka-apu.  \nElintarvikkeita työttömille ja vähävaraisille.
URL:https://operaatioruokakassi.fi/event/piikkion-adventtiseurakunta-3/2022-11-22/
LOCATION:Piikkiön Adventtiseurakunta\, Korvenmäentie 11\, Piikkiö\, 21500
END:VEVENT
BEGIN:VEVENT
DTSTART;TZID=UTC:20221115T163000
DTEND;TZID=UTC:20221115T173000
DTSTAMP:20260424T134156
CREATED:20210802T072040Z
LAST-MODIFIED:20240320T072250Z
UID:10000450-1668529800-1668533400@operaatioruokakassi.fi
SUMMARY:Piikkiön Adventtiseurakunta
DESCRIPTION:Tiistaisin klo 16.30-17:30 ruoka-apu.  \nElintarvikkeita työttömille ja vähävaraisille.
URL:https://operaatioruokakassi.fi/event/piikkion-adventtiseurakunta-3/2022-11-15/
LOCATION:Piikkiön Adventtiseurakunta\, Korvenmäentie 11\, Piikkiö\, 21500
END:VEVENT
BEGIN:VEVENT
DTSTART;TZID=UTC:20221108T163000
DTEND;TZID=UTC:20221108T173000
DTSTAMP:20260424T134156
CREATED:20210802T072040Z
LAST-MODIFIED:20240320T072250Z
UID:10000449-1667925000-1667928600@operaatioruokakassi.fi
SUMMARY:Piikkiön Adventtiseurakunta
DESCRIPTION:Tiistaisin klo 16.30-17:30 ruoka-apu.  \nElintarvikkeita työttömille ja vähävaraisille.
URL:https://operaatioruokakassi.fi/event/piikkion-adventtiseurakunta-3/2022-11-08/
LOCATION:Piikkiön Adventtiseurakunta\, Korvenmäentie 11\, Piikkiö\, 21500
END:VEVENT
BEGIN:VEVENT
DTSTART;TZID=UTC:20221101T163000
DTEND;TZID=UTC:20221101T173000
DTSTAMP:20260424T134156
CREATED:20210802T072040Z
LAST-MODIFIED:20240320T072250Z
UID:10000448-1667320200-1667323800@operaatioruokakassi.fi
SUMMARY:Piikkiön Adventtiseurakunta
DESCRIPTION:Tiistaisin klo 16.30-17:30 ruoka-apu.  \nElintarvikkeita työttömille ja vähävaraisille.
URL:https://operaatioruokakassi.fi/event/piikkion-adventtiseurakunta-3/2022-11-01/
LOCATION:Piikkiön Adventtiseurakunta\, Korvenmäentie 11\, Piikkiö\, 21500
END:VEVENT
BEGIN:VEVENT
DTSTART;TZID=UTC:20221025T163000
DTEND;TZID=UTC:20221025T173000
DTSTAMP:20260424T134156
CREATED:20210802T072040Z
LAST-MODIFIED:20240320T072250Z
UID:10000447-1666715400-1666719000@operaatioruokakassi.fi
SUMMARY:Piikkiön Adventtiseurakunta
DESCRIPTION:Tiistaisin klo 16.30-17:30 ruoka-apu.  \nElintarvikkeita työttömille ja vähävaraisille.
URL:https://operaatioruokakassi.fi/event/piikkion-adventtiseurakunta-3/2022-10-25/
LOCATION:Piikkiön Adventtiseurakunta\, Korvenmäentie 11\, Piikkiö\, 21500
END:VEVENT
BEGIN:VEVENT
DTSTART;TZID=UTC:20221018T163000
DTEND;TZID=UTC:20221018T173000
DTSTAMP:20260424T134156
CREATED:20210802T072040Z
LAST-MODIFIED:20240320T072250Z
UID:10000446-1666110600-1666114200@operaatioruokakassi.fi
SUMMARY:Piikkiön Adventtiseurakunta
DESCRIPTION:Tiistaisin klo 16.30-17:30 ruoka-apu.  \nElintarvikkeita työttömille ja vähävaraisille.
URL:https://operaatioruokakassi.fi/event/piikkion-adventtiseurakunta-3/2022-10-18/
LOCATION:Piikkiön Adventtiseurakunta\, Korvenmäentie 11\, Piikkiö\, 21500
END:VEVENT
BEGIN:VEVENT
DTSTART;TZID=UTC:20221011T163000
DTEND;TZID=UTC:20221011T173000
DTSTAMP:20260424T134156
CREATED:20210802T072040Z
LAST-MODIFIED:20240320T072250Z
UID:10000445-1665505800-1665509400@operaatioruokakassi.fi
SUMMARY:Piikkiön Adventtiseurakunta
DESCRIPTION:Tiistaisin klo 16.30-17:30 ruoka-apu.  \nElintarvikkeita työttömille ja vähävaraisille.
URL:https://operaatioruokakassi.fi/event/piikkion-adventtiseurakunta-3/2022-10-11/
LOCATION:Piikkiön Adventtiseurakunta\, Korvenmäentie 11\, Piikkiö\, 21500
END:VEVENT
BEGIN:VEVENT
DTSTART;TZID=UTC:20221004T163000
DTEND;TZID=UTC:20221004T173000
DTSTAMP:20260424T134156
CREATED:20210802T072040Z
LAST-MODIFIED:20240320T072250Z
UID:10000444-1664901000-1664904600@operaatioruokakassi.fi
SUMMARY:Piikkiön Adventtiseurakunta
DESCRIPTION:Tiistaisin klo 16.30-17:30 ruoka-apu.  \nElintarvikkeita työttömille ja vähävaraisille.
URL:https://operaatioruokakassi.fi/event/piikkion-adventtiseurakunta-3/2022-10-04/
LOCATION:Piikkiön Adventtiseurakunta\, Korvenmäentie 11\, Piikkiö\, 21500
END:VEVENT
END:VCALENDAR