BEGIN:VCALENDAR
VERSION:2.0
PRODID:-//Operaatio Ruokakassi - ECPv6.15.20//NONSGML v1.0//EN
CALSCALE:GREGORIAN
METHOD:PUBLISH
X-ORIGINAL-URL:https://operaatioruokakassi.fi
X-WR-CALDESC:Tapahtumat Operaatio Ruokakassi
REFRESH-INTERVAL;VALUE=DURATION:PT1H
X-Robots-Tag:noindex
X-PUBLISHED-TTL:PT1H
BEGIN:VTIMEZONE
TZID:UTC
BEGIN:STANDARD
TZOFFSETFROM:+0000
TZOFFSETTO:+0000
TZNAME:UTC
DTSTART:20200101T000000
END:STANDARD
END:VTIMEZONE
BEGIN:VEVENT
DTSTART;TZID=UTC:20210506T173000
DTEND;TZID=UTC:20210506T183000
DTSTAMP:20260424T063939
CREATED:20210423T064255Z
LAST-MODIFIED:20210423T064255Z
UID:10000325-1620322200-1620325800@operaatioruokakassi.fi
SUMMARY:Toivon torstai Paakarlassa
DESCRIPTION:
URL:https://operaatioruokakassi.fi/event/toivon-torstai-paakarlassa/
LOCATION:Paakarlan seurakuntakoti\, Laivateollisuudenkatu 28\, Turku\, 20240
ATTACH;FMTTYPE=image/jpeg:https://operaatioruokakassi.fi/wp-content/uploads/2021/04/Mikael-1.jpg
END:VEVENT
END:VCALENDAR