BEGIN:VCALENDAR
VERSION:2.0
PRODID:-//Operaatio Ruokakassi - ECPv6.15.20//NONSGML v1.0//EN
CALSCALE:GREGORIAN
METHOD:PUBLISH
X-WR-CALNAME:Operaatio Ruokakassi
X-ORIGINAL-URL:https://operaatioruokakassi.fi
X-WR-CALDESC:Tapahtumat Operaatio Ruokakassi
REFRESH-INTERVAL;VALUE=DURATION:PT1H
X-Robots-Tag:noindex
X-PUBLISHED-TTL:PT1H
BEGIN:VTIMEZONE
TZID:Europe/Helsinki
BEGIN:DAYLIGHT
TZOFFSETFROM:+0200
TZOFFSETTO:+0300
TZNAME:EEST
DTSTART:20220327T010000
END:DAYLIGHT
BEGIN:STANDARD
TZOFFSETFROM:+0300
TZOFFSETTO:+0200
TZNAME:EET
DTSTART:20221030T010000
END:STANDARD
BEGIN:DAYLIGHT
TZOFFSETFROM:+0200
TZOFFSETTO:+0300
TZNAME:EEST
DTSTART:20230326T010000
END:DAYLIGHT
BEGIN:STANDARD
TZOFFSETFROM:+0300
TZOFFSETTO:+0200
TZNAME:EET
DTSTART:20231029T010000
END:STANDARD
BEGIN:DAYLIGHT
TZOFFSETFROM:+0200
TZOFFSETTO:+0300
TZNAME:EEST
DTSTART:20240331T010000
END:DAYLIGHT
BEGIN:STANDARD
TZOFFSETFROM:+0300
TZOFFSETTO:+0200
TZNAME:EET
DTSTART:20241027T010000
END:STANDARD
END:VTIMEZONE
BEGIN:VTIMEZONE
TZID:UTC
BEGIN:STANDARD
TZOFFSETFROM:+0000
TZOFFSETTO:+0000
TZNAME:UTC
DTSTART:20200101T000000
END:STANDARD
END:VTIMEZONE
BEGIN:VEVENT
DTSTART;TZID=Europe/Helsinki:20230824T140000
DTEND;TZID=Europe/Helsinki:20230824T150000
DTSTAMP:20260424T030655
CREATED:20230619T052429Z
LAST-MODIFIED:20230619T052429Z
UID:10001058-1692885600-1692889200@operaatioruokakassi.fi
SUMMARY:Toivon Torstai Paakarlassa
DESCRIPTION:
URL:https://operaatioruokakassi.fi/event/toivon-torstai-paakarlassa-12/
LOCATION:Paakarlan seurakuntakoti\, Laivateollisuudenkatu 28\, Turku\, 20240
ATTACH;FMTTYPE=image/png:https://operaatioruokakassi.fi/wp-content/uploads/2021/05/imageedit_5_2947467270.png
END:VEVENT
BEGIN:VEVENT
DTSTART;TZID=UTC:20230622T140000
DTEND;TZID=UTC:20230622T150000
DTSTAMP:20260424T030655
CREATED:20220531T065305Z
LAST-MODIFIED:20230521T085334Z
UID:10000886-1687442400-1687446000@operaatioruokakassi.fi
SUMMARY:Toivon Torstai Paakarlassa
DESCRIPTION:
URL:https://operaatioruokakassi.fi/event/toivon-torstai-paakarlassa-10/2023-06-22/
LOCATION:Paakarlan seurakuntakoti\, Laivateollisuudenkatu 28\, Turku\, 20240
ATTACH;FMTTYPE=image/png:https://operaatioruokakassi.fi/wp-content/uploads/2021/09/Mikaelinsrk1849.png
END:VEVENT
BEGIN:VEVENT
DTSTART;TZID=UTC:20230525T140000
DTEND;TZID=UTC:20230525T150000
DTSTAMP:20260424T030655
CREATED:20220531T065305Z
LAST-MODIFIED:20230521T085334Z
UID:10000885-1685023200-1685026800@operaatioruokakassi.fi
SUMMARY:Toivon Torstai Paakarlassa
DESCRIPTION:
URL:https://operaatioruokakassi.fi/event/toivon-torstai-paakarlassa-10/2023-05-25/
LOCATION:Paakarlan seurakuntakoti\, Laivateollisuudenkatu 28\, Turku\, 20240
ATTACH;FMTTYPE=image/png:https://operaatioruokakassi.fi/wp-content/uploads/2021/09/Mikaelinsrk1849.png
END:VEVENT
BEGIN:VEVENT
DTSTART;TZID=UTC:20230511T140000
DTEND;TZID=UTC:20230511T150000
DTSTAMP:20260424T030655
CREATED:20220531T065305Z
LAST-MODIFIED:20230521T085334Z
UID:10000870-1683813600-1683817200@operaatioruokakassi.fi
SUMMARY:Toivon Torstai Paakarlassa
DESCRIPTION:
URL:https://operaatioruokakassi.fi/event/toivon-torstai-paakarlassa-10/2023-05-11/
LOCATION:Paakarlan seurakuntakoti\, Laivateollisuudenkatu 28\, Turku\, 20240
ATTACH;FMTTYPE=image/png:https://operaatioruokakassi.fi/wp-content/uploads/2021/09/Mikaelinsrk1849.png
END:VEVENT
BEGIN:VEVENT
DTSTART;TZID=UTC:20230427T140000
DTEND;TZID=UTC:20230427T150000
DTSTAMP:20260424T030655
CREATED:20220531T065305Z
LAST-MODIFIED:20230521T085334Z
UID:10000869-1682604000-1682607600@operaatioruokakassi.fi
SUMMARY:Toivon Torstai Paakarlassa
DESCRIPTION:
URL:https://operaatioruokakassi.fi/event/toivon-torstai-paakarlassa-10/2023-04-27/
LOCATION:Paakarlan seurakuntakoti\, Laivateollisuudenkatu 28\, Turku\, 20240
ATTACH;FMTTYPE=image/png:https://operaatioruokakassi.fi/wp-content/uploads/2021/09/Mikaelinsrk1849.png
END:VEVENT
BEGIN:VEVENT
DTSTART;TZID=UTC:20230413T140000
DTEND;TZID=UTC:20230413T150000
DTSTAMP:20260424T030655
CREATED:20220531T065305Z
LAST-MODIFIED:20230521T085334Z
UID:10000868-1681394400-1681398000@operaatioruokakassi.fi
SUMMARY:Toivon Torstai Paakarlassa
DESCRIPTION:
URL:https://operaatioruokakassi.fi/event/toivon-torstai-paakarlassa-10/2023-04-13/
LOCATION:Paakarlan seurakuntakoti\, Laivateollisuudenkatu 28\, Turku\, 20240
ATTACH;FMTTYPE=image/png:https://operaatioruokakassi.fi/wp-content/uploads/2021/09/Mikaelinsrk1849.png
END:VEVENT
BEGIN:VEVENT
DTSTART;TZID=UTC:20230330T140000
DTEND;TZID=UTC:20230330T150000
DTSTAMP:20260424T030655
CREATED:20220531T065305Z
LAST-MODIFIED:20230521T085334Z
UID:10000867-1680184800-1680188400@operaatioruokakassi.fi
SUMMARY:Toivon Torstai Paakarlassa
DESCRIPTION:
URL:https://operaatioruokakassi.fi/event/toivon-torstai-paakarlassa-10/2023-03-30/
LOCATION:Paakarlan seurakuntakoti\, Laivateollisuudenkatu 28\, Turku\, 20240
ATTACH;FMTTYPE=image/png:https://operaatioruokakassi.fi/wp-content/uploads/2021/09/Mikaelinsrk1849.png
END:VEVENT
BEGIN:VEVENT
DTSTART;TZID=UTC:20230316T140000
DTEND;TZID=UTC:20230316T150000
DTSTAMP:20260424T030655
CREATED:20220531T065305Z
LAST-MODIFIED:20230521T085334Z
UID:10000866-1678975200-1678978800@operaatioruokakassi.fi
SUMMARY:Toivon Torstai Paakarlassa
DESCRIPTION:
URL:https://operaatioruokakassi.fi/event/toivon-torstai-paakarlassa-10/2023-03-16/
LOCATION:Paakarlan seurakuntakoti\, Laivateollisuudenkatu 28\, Turku\, 20240
ATTACH;FMTTYPE=image/png:https://operaatioruokakassi.fi/wp-content/uploads/2021/09/Mikaelinsrk1849.png
END:VEVENT
BEGIN:VEVENT
DTSTART;TZID=UTC:20230302T140000
DTEND;TZID=UTC:20230302T150000
DTSTAMP:20260424T030655
CREATED:20220531T065305Z
LAST-MODIFIED:20230521T085334Z
UID:10000865-1677765600-1677769200@operaatioruokakassi.fi
SUMMARY:Toivon Torstai Paakarlassa
DESCRIPTION:
URL:https://operaatioruokakassi.fi/event/toivon-torstai-paakarlassa-10/2023-03-02/
LOCATION:Paakarlan seurakuntakoti\, Laivateollisuudenkatu 28\, Turku\, 20240
ATTACH;FMTTYPE=image/png:https://operaatioruokakassi.fi/wp-content/uploads/2021/09/Mikaelinsrk1849.png
END:VEVENT
BEGIN:VEVENT
DTSTART;TZID=UTC:20230216T140000
DTEND;TZID=UTC:20230216T150000
DTSTAMP:20260424T030655
CREATED:20220531T065305Z
LAST-MODIFIED:20230521T085334Z
UID:10000864-1676556000-1676559600@operaatioruokakassi.fi
SUMMARY:Toivon Torstai Paakarlassa
DESCRIPTION:
URL:https://operaatioruokakassi.fi/event/toivon-torstai-paakarlassa-10/2023-02-16/
LOCATION:Paakarlan seurakuntakoti\, Laivateollisuudenkatu 28\, Turku\, 20240
ATTACH;FMTTYPE=image/png:https://operaatioruokakassi.fi/wp-content/uploads/2021/09/Mikaelinsrk1849.png
END:VEVENT
BEGIN:VEVENT
DTSTART;TZID=UTC:20230202T140000
DTEND;TZID=UTC:20230202T150000
DTSTAMP:20260424T030655
CREATED:20220531T065305Z
LAST-MODIFIED:20230521T085334Z
UID:10000863-1675346400-1675350000@operaatioruokakassi.fi
SUMMARY:Toivon Torstai Paakarlassa
DESCRIPTION:
URL:https://operaatioruokakassi.fi/event/toivon-torstai-paakarlassa-10/2023-02-02/
LOCATION:Paakarlan seurakuntakoti\, Laivateollisuudenkatu 28\, Turku\, 20240
ATTACH;FMTTYPE=image/png:https://operaatioruokakassi.fi/wp-content/uploads/2021/09/Mikaelinsrk1849.png
END:VEVENT
BEGIN:VEVENT
DTSTART;TZID=UTC:20230119T140000
DTEND;TZID=UTC:20230119T150000
DTSTAMP:20260424T030655
CREATED:20220531T065305Z
LAST-MODIFIED:20230521T085334Z
UID:10000862-1674136800-1674140400@operaatioruokakassi.fi
SUMMARY:Toivon Torstai Paakarlassa
DESCRIPTION:
URL:https://operaatioruokakassi.fi/event/toivon-torstai-paakarlassa-10/2023-01-19/
LOCATION:Paakarlan seurakuntakoti\, Laivateollisuudenkatu 28\, Turku\, 20240
ATTACH;FMTTYPE=image/png:https://operaatioruokakassi.fi/wp-content/uploads/2021/09/Mikaelinsrk1849.png
END:VEVENT
BEGIN:VEVENT
DTSTART;TZID=UTC:20221215T173000
DTEND;TZID=UTC:20221215T183000
DTSTAMP:20260424T030655
CREATED:20220531T065305Z
LAST-MODIFIED:20230521T085334Z
UID:10000535-1671125400-1671129000@operaatioruokakassi.fi
SUMMARY:Toivon Torstai Paakarlassa
DESCRIPTION:
URL:https://operaatioruokakassi.fi/event/toivon-torstai-paakarlassa-10/2022-12-15/
LOCATION:Paakarlan seurakuntakoti\, Laivateollisuudenkatu 28\, Turku\, 20240
ATTACH;FMTTYPE=image/png:https://operaatioruokakassi.fi/wp-content/uploads/2021/09/Mikaelinsrk1849.png
END:VEVENT
BEGIN:VEVENT
DTSTART;TZID=UTC:20221124T173000
DTEND;TZID=UTC:20221124T183000
DTSTAMP:20260424T030655
CREATED:20220531T065305Z
LAST-MODIFIED:20230521T085334Z
UID:10000534-1669311000-1669314600@operaatioruokakassi.fi
SUMMARY:Toivon Torstai Paakarlassa
DESCRIPTION:
URL:https://operaatioruokakassi.fi/event/toivon-torstai-paakarlassa-10/2022-11-24/
LOCATION:Paakarlan seurakuntakoti\, Laivateollisuudenkatu 28\, Turku\, 20240
ATTACH;FMTTYPE=image/png:https://operaatioruokakassi.fi/wp-content/uploads/2021/09/Mikaelinsrk1849.png
END:VEVENT
BEGIN:VEVENT
DTSTART;TZID=UTC:20221110T173000
DTEND;TZID=UTC:20221110T183000
DTSTAMP:20260424T030655
CREATED:20220531T065305Z
LAST-MODIFIED:20230521T085334Z
UID:10000533-1668101400-1668105000@operaatioruokakassi.fi
SUMMARY:Toivon Torstai Paakarlassa
DESCRIPTION:
URL:https://operaatioruokakassi.fi/event/toivon-torstai-paakarlassa-10/2022-11-10/
LOCATION:Paakarlan seurakuntakoti\, Laivateollisuudenkatu 28\, Turku\, 20240
ATTACH;FMTTYPE=image/png:https://operaatioruokakassi.fi/wp-content/uploads/2021/09/Mikaelinsrk1849.png
END:VEVENT
BEGIN:VEVENT
DTSTART;TZID=UTC:20221027T173000
DTEND;TZID=UTC:20221027T183000
DTSTAMP:20260424T030655
CREATED:20220531T065305Z
LAST-MODIFIED:20230521T085334Z
UID:10000532-1666891800-1666895400@operaatioruokakassi.fi
SUMMARY:Toivon Torstai Paakarlassa
DESCRIPTION:
URL:https://operaatioruokakassi.fi/event/toivon-torstai-paakarlassa-10/2022-10-27/
LOCATION:Paakarlan seurakuntakoti\, Laivateollisuudenkatu 28\, Turku\, 20240
ATTACH;FMTTYPE=image/png:https://operaatioruokakassi.fi/wp-content/uploads/2021/09/Mikaelinsrk1849.png
END:VEVENT
BEGIN:VEVENT
DTSTART;TZID=UTC:20221013T173000
DTEND;TZID=UTC:20221013T183000
DTSTAMP:20260424T030655
CREATED:20220531T065305Z
LAST-MODIFIED:20230521T085334Z
UID:10000531-1665682200-1665685800@operaatioruokakassi.fi
SUMMARY:Toivon Torstai Paakarlassa
DESCRIPTION:
URL:https://operaatioruokakassi.fi/event/toivon-torstai-paakarlassa-10/2022-10-13/
LOCATION:Paakarlan seurakuntakoti\, Laivateollisuudenkatu 28\, Turku\, 20240
ATTACH;FMTTYPE=image/png:https://operaatioruokakassi.fi/wp-content/uploads/2021/09/Mikaelinsrk1849.png
END:VEVENT
BEGIN:VEVENT
DTSTART;TZID=UTC:20220929T173000
DTEND;TZID=UTC:20220929T183000
DTSTAMP:20260424T030655
CREATED:20220531T065305Z
LAST-MODIFIED:20230521T085334Z
UID:10000530-1664472600-1664476200@operaatioruokakassi.fi
SUMMARY:Toivon Torstai Paakarlassa
DESCRIPTION:
URL:https://operaatioruokakassi.fi/event/toivon-torstai-paakarlassa-10/2022-09-29/
LOCATION:Paakarlan seurakuntakoti\, Laivateollisuudenkatu 28\, Turku\, 20240
ATTACH;FMTTYPE=image/png:https://operaatioruokakassi.fi/wp-content/uploads/2021/09/Mikaelinsrk1849.png
END:VEVENT
BEGIN:VEVENT
DTSTART;TZID=UTC:20220818T173000
DTEND;TZID=UTC:20220818T183000
DTSTAMP:20260424T030655
CREATED:20220531T065305Z
LAST-MODIFIED:20230521T085334Z
UID:10000529-1660843800-1660847400@operaatioruokakassi.fi
SUMMARY:Toivon Torstai Paakarlassa
DESCRIPTION:
URL:https://operaatioruokakassi.fi/event/toivon-torstai-paakarlassa-10/2022-08-18/
LOCATION:Paakarlan seurakuntakoti\, Laivateollisuudenkatu 28\, Turku\, 20240
ATTACH;FMTTYPE=image/png:https://operaatioruokakassi.fi/wp-content/uploads/2021/09/Mikaelinsrk1849.png
END:VEVENT
BEGIN:VEVENT
DTSTART;TZID=UTC:20220630T173000
DTEND;TZID=UTC:20220630T183000
DTSTAMP:20260424T030655
CREATED:20220531T065456Z
LAST-MODIFIED:20220531T065456Z
UID:10000001-1656610200-1656613800@operaatioruokakassi.fi
SUMMARY:Toivon Torstai Paakarlassa
DESCRIPTION:
URL:https://operaatioruokakassi.fi/event/toivon-torstai-paakarlassa-11/
LOCATION:Paakarlan seurakuntakoti\, Laivateollisuudenkatu 28\, Turku\, 20240
END:VEVENT
BEGIN:VEVENT
DTSTART;TZID=UTC:20220609T173000
DTEND;TZID=UTC:20220609T183000
DTSTAMP:20260424T030655
CREATED:20210903T062909Z
LAST-MODIFIED:20211201T151939Z
UID:10000098-1654795800-1654799400@operaatioruokakassi.fi
SUMMARY:Toivon Torstai Paakarlassa
DESCRIPTION:
URL:https://operaatioruokakassi.fi/event/toivon-torstai-paakarlassa-9/2022-06-09/
LOCATION:Paakarlan seurakuntakoti\, Laivateollisuudenkatu 28\, Turku\, 20240
ATTACH;FMTTYPE=image/png:https://operaatioruokakassi.fi/wp-content/uploads/2021/09/Mikaelinsrk1849.png
END:VEVENT
BEGIN:VEVENT
DTSTART;TZID=UTC:20220519T173000
DTEND;TZID=UTC:20220519T183000
DTSTAMP:20260424T030655
CREATED:20210903T062909Z
LAST-MODIFIED:20211201T151939Z
UID:10000097-1652981400-1652985000@operaatioruokakassi.fi
SUMMARY:Toivon Torstai Paakarlassa
DESCRIPTION:
URL:https://operaatioruokakassi.fi/event/toivon-torstai-paakarlassa-9/2022-05-19/
LOCATION:Paakarlan seurakuntakoti\, Laivateollisuudenkatu 28\, Turku\, 20240
ATTACH;FMTTYPE=image/png:https://operaatioruokakassi.fi/wp-content/uploads/2021/09/Mikaelinsrk1849.png
END:VEVENT
BEGIN:VEVENT
DTSTART;TZID=UTC:20220505T173000
DTEND;TZID=UTC:20220505T183000
DTSTAMP:20260424T030656
CREATED:20210903T062909Z
LAST-MODIFIED:20211201T151939Z
UID:10000096-1651771800-1651775400@operaatioruokakassi.fi
SUMMARY:Toivon Torstai Paakarlassa
DESCRIPTION:
URL:https://operaatioruokakassi.fi/event/toivon-torstai-paakarlassa-9/2022-05-05/
LOCATION:Paakarlan seurakuntakoti\, Laivateollisuudenkatu 28\, Turku\, 20240
ATTACH;FMTTYPE=image/png:https://operaatioruokakassi.fi/wp-content/uploads/2021/09/Mikaelinsrk1849.png
END:VEVENT
BEGIN:VEVENT
DTSTART;TZID=UTC:20220421T173000
DTEND;TZID=UTC:20220421T183000
DTSTAMP:20260424T030656
CREATED:20210903T062909Z
LAST-MODIFIED:20211201T151939Z
UID:10000095-1650562200-1650565800@operaatioruokakassi.fi
SUMMARY:Toivon Torstai Paakarlassa
DESCRIPTION:
URL:https://operaatioruokakassi.fi/event/toivon-torstai-paakarlassa-9/2022-04-21/
LOCATION:Paakarlan seurakuntakoti\, Laivateollisuudenkatu 28\, Turku\, 20240
ATTACH;FMTTYPE=image/png:https://operaatioruokakassi.fi/wp-content/uploads/2021/09/Mikaelinsrk1849.png
END:VEVENT
BEGIN:VEVENT
DTSTART;TZID=UTC:20220331T173000
DTEND;TZID=UTC:20220331T183000
DTSTAMP:20260424T030656
CREATED:20210903T062909Z
LAST-MODIFIED:20211201T151939Z
UID:10000094-1648747800-1648751400@operaatioruokakassi.fi
SUMMARY:Toivon Torstai Paakarlassa
DESCRIPTION:
URL:https://operaatioruokakassi.fi/event/toivon-torstai-paakarlassa-9/2022-03-31/
LOCATION:Paakarlan seurakuntakoti\, Laivateollisuudenkatu 28\, Turku\, 20240
ATTACH;FMTTYPE=image/png:https://operaatioruokakassi.fi/wp-content/uploads/2021/09/Mikaelinsrk1849.png
END:VEVENT
BEGIN:VEVENT
DTSTART;TZID=UTC:20220303T173000
DTEND;TZID=UTC:20220303T183000
DTSTAMP:20260424T030656
CREATED:20210903T062909Z
LAST-MODIFIED:20211201T151939Z
UID:10000093-1646328600-1646332200@operaatioruokakassi.fi
SUMMARY:Toivon Torstai Paakarlassa
DESCRIPTION:
URL:https://operaatioruokakassi.fi/event/toivon-torstai-paakarlassa-9/2022-03-03/
LOCATION:Paakarlan seurakuntakoti\, Laivateollisuudenkatu 28\, Turku\, 20240
ATTACH;FMTTYPE=image/png:https://operaatioruokakassi.fi/wp-content/uploads/2021/09/Mikaelinsrk1849.png
END:VEVENT
BEGIN:VEVENT
DTSTART;TZID=UTC:20220210T173000
DTEND;TZID=UTC:20220210T183000
DTSTAMP:20260424T030656
CREATED:20210903T062909Z
LAST-MODIFIED:20211201T151939Z
UID:10000092-1644514200-1644517800@operaatioruokakassi.fi
SUMMARY:Toivon Torstai Paakarlassa
DESCRIPTION:
URL:https://operaatioruokakassi.fi/event/toivon-torstai-paakarlassa-9/2022-02-10/
LOCATION:Paakarlan seurakuntakoti\, Laivateollisuudenkatu 28\, Turku\, 20240
ATTACH;FMTTYPE=image/png:https://operaatioruokakassi.fi/wp-content/uploads/2021/09/Mikaelinsrk1849.png
END:VEVENT
BEGIN:VEVENT
DTSTART;TZID=UTC:20220113T173000
DTEND;TZID=UTC:20220113T183000
DTSTAMP:20260424T030656
CREATED:20210903T062909Z
LAST-MODIFIED:20211201T151939Z
UID:10000091-1642095000-1642098600@operaatioruokakassi.fi
SUMMARY:Toivon Torstai Paakarlassa
DESCRIPTION:
URL:https://operaatioruokakassi.fi/event/toivon-torstai-paakarlassa-9/2022-01-13/
LOCATION:Paakarlan seurakuntakoti\, Laivateollisuudenkatu 28\, Turku\, 20240
ATTACH;FMTTYPE=image/png:https://operaatioruokakassi.fi/wp-content/uploads/2021/09/Mikaelinsrk1849.png
END:VEVENT
BEGIN:VEVENT
DTSTART;TZID=UTC:20211216T173000
DTEND;TZID=UTC:20211216T183000
DTSTAMP:20260424T030656
CREATED:20210903T062909Z
LAST-MODIFIED:20211201T151939Z
UID:10000090-1639675800-1639679400@operaatioruokakassi.fi
SUMMARY:Toivon Torstai Paakarlassa
DESCRIPTION:
URL:https://operaatioruokakassi.fi/event/toivon-torstai-paakarlassa-9/2021-12-16/
LOCATION:Paakarlan seurakuntakoti\, Laivateollisuudenkatu 28\, Turku\, 20240
ATTACH;FMTTYPE=image/png:https://operaatioruokakassi.fi/wp-content/uploads/2021/09/Mikaelinsrk1849.png
END:VEVENT
BEGIN:VEVENT
DTSTART;TZID=UTC:20211118T173000
DTEND;TZID=UTC:20211118T183000
DTSTAMP:20260424T030656
CREATED:20210903T062747Z
LAST-MODIFIED:20210906T081500Z
UID:10000099-1637256600-1637260200@operaatioruokakassi.fi
SUMMARY:Toivon Torstai Paakarlassa
DESCRIPTION:
URL:https://operaatioruokakassi.fi/event/toivon-torstai-paakarlassa-8/
LOCATION:Paakarlan seurakuntakoti\, Laivateollisuudenkatu 28\, Turku\, 20240
ATTACH;FMTTYPE=image/png:https://operaatioruokakassi.fi/wp-content/uploads/2021/09/Mikaelinsrk1849.png
END:VEVENT
END:VCALENDAR