BEGIN:VCALENDAR
VERSION:2.0
PRODID:-//Operaatio Ruokakassi - ECPv6.15.20//NONSGML v1.0//EN
CALSCALE:GREGORIAN
METHOD:PUBLISH
X-WR-CALNAME:Operaatio Ruokakassi
X-ORIGINAL-URL:https://operaatioruokakassi.fi
X-WR-CALDESC:Tapahtumat Operaatio Ruokakassi
REFRESH-INTERVAL;VALUE=DURATION:PT1H
X-Robots-Tag:noindex
X-PUBLISHED-TTL:PT1H
BEGIN:VTIMEZONE
TZID:Europe/Helsinki
BEGIN:DAYLIGHT
TZOFFSETFROM:+0200
TZOFFSETTO:+0300
TZNAME:EEST
DTSTART:20220327T010000
END:DAYLIGHT
BEGIN:STANDARD
TZOFFSETFROM:+0300
TZOFFSETTO:+0200
TZNAME:EET
DTSTART:20221030T010000
END:STANDARD
BEGIN:DAYLIGHT
TZOFFSETFROM:+0200
TZOFFSETTO:+0300
TZNAME:EEST
DTSTART:20230326T010000
END:DAYLIGHT
BEGIN:STANDARD
TZOFFSETFROM:+0300
TZOFFSETTO:+0200
TZNAME:EET
DTSTART:20231029T010000
END:STANDARD
BEGIN:DAYLIGHT
TZOFFSETFROM:+0200
TZOFFSETTO:+0300
TZNAME:EEST
DTSTART:20240331T010000
END:DAYLIGHT
BEGIN:STANDARD
TZOFFSETFROM:+0300
TZOFFSETTO:+0200
TZNAME:EET
DTSTART:20241027T010000
END:STANDARD
BEGIN:DAYLIGHT
TZOFFSETFROM:+0200
TZOFFSETTO:+0300
TZNAME:EEST
DTSTART:20250330T010000
END:DAYLIGHT
BEGIN:STANDARD
TZOFFSETFROM:+0300
TZOFFSETTO:+0200
TZNAME:EET
DTSTART:20251026T010000
END:STANDARD
END:VTIMEZONE
BEGIN:VTIMEZONE
TZID:UTC
BEGIN:STANDARD
TZOFFSETFROM:+0000
TZOFFSETTO:+0000
TZNAME:UTC
DTSTART:20220101T000000
END:STANDARD
END:VTIMEZONE
BEGIN:VEVENT
DTSTART;TZID=Europe/Helsinki:20241212T140000
DTEND;TZID=Europe/Helsinki:20241212T150000
DTSTAMP:20260424T001959
CREATED:20240108T162331Z
LAST-MODIFIED:20240723T112458Z
UID:10001864-1734012000-1734015600@operaatioruokakassi.fi
SUMMARY:Toivon Torstai Paakarlassa
DESCRIPTION:Ruokailu alkaa klo 14 ja ohjelma klo 14.30. Kassijako ohjelman jälkeen.
URL:https://operaatioruokakassi.fi/event/toivon-torstai-paakarlassa-14/2024-12-12/
LOCATION:Paakarlan seurakuntakoti\, Laivateollisuudenkatu 28\, Turku\, 20240
END:VEVENT
BEGIN:VEVENT
DTSTART;TZID=Europe/Helsinki:20241121T140000
DTEND;TZID=Europe/Helsinki:20241121T150000
DTSTAMP:20260424T001959
CREATED:20240108T162331Z
LAST-MODIFIED:20240723T112458Z
UID:10001863-1732197600-1732201200@operaatioruokakassi.fi
SUMMARY:Toivon Torstai Paakarlassa
DESCRIPTION:Ruokailu alkaa klo 14 ja ohjelma klo 14.30. Kassijako ohjelman jälkeen.
URL:https://operaatioruokakassi.fi/event/toivon-torstai-paakarlassa-14/2024-11-21/
LOCATION:Paakarlan seurakuntakoti\, Laivateollisuudenkatu 28\, Turku\, 20240
END:VEVENT
BEGIN:VEVENT
DTSTART;TZID=Europe/Helsinki:20241107T140000
DTEND;TZID=Europe/Helsinki:20241107T150000
DTSTAMP:20260424T001959
CREATED:20240108T162331Z
LAST-MODIFIED:20240723T112458Z
UID:10001862-1730988000-1730991600@operaatioruokakassi.fi
SUMMARY:Toivon Torstai Paakarlassa
DESCRIPTION:Ruokailu alkaa klo 14 ja ohjelma klo 14.30. Kassijako ohjelman jälkeen.
URL:https://operaatioruokakassi.fi/event/toivon-torstai-paakarlassa-14/2024-11-07/
LOCATION:Paakarlan seurakuntakoti\, Laivateollisuudenkatu 28\, Turku\, 20240
END:VEVENT
BEGIN:VEVENT
DTSTART;TZID=Europe/Helsinki:20241024T140000
DTEND;TZID=Europe/Helsinki:20241024T150000
DTSTAMP:20260424T001959
CREATED:20240108T162331Z
LAST-MODIFIED:20240723T112458Z
UID:10001861-1729778400-1729782000@operaatioruokakassi.fi
SUMMARY:Toivon Torstai Paakarlassa
DESCRIPTION:Ruokailu alkaa klo 14 ja ohjelma klo 14.30. Kassijako ohjelman jälkeen.
URL:https://operaatioruokakassi.fi/event/toivon-torstai-paakarlassa-14/2024-10-24/
LOCATION:Paakarlan seurakuntakoti\, Laivateollisuudenkatu 28\, Turku\, 20240
END:VEVENT
BEGIN:VEVENT
DTSTART;TZID=Europe/Helsinki:20241010T140000
DTEND;TZID=Europe/Helsinki:20241010T150000
DTSTAMP:20260424T001959
CREATED:20240108T162331Z
LAST-MODIFIED:20240723T112458Z
UID:10001860-1728568800-1728572400@operaatioruokakassi.fi
SUMMARY:Toivon Torstai Paakarlassa
DESCRIPTION:Ruokailu alkaa klo 14 ja ohjelma klo 14.30. Kassijako ohjelman jälkeen.
URL:https://operaatioruokakassi.fi/event/toivon-torstai-paakarlassa-14/2024-10-10/
LOCATION:Paakarlan seurakuntakoti\, Laivateollisuudenkatu 28\, Turku\, 20240
END:VEVENT
BEGIN:VEVENT
DTSTART;TZID=Europe/Helsinki:20240926T140000
DTEND;TZID=Europe/Helsinki:20240926T150000
DTSTAMP:20260424T001959
CREATED:20240108T162331Z
LAST-MODIFIED:20240723T112458Z
UID:10001859-1727359200-1727362800@operaatioruokakassi.fi
SUMMARY:Toivon Torstai Paakarlassa
DESCRIPTION:Ruokailu alkaa klo 14 ja ohjelma klo 14.30. Kassijako ohjelman jälkeen.
URL:https://operaatioruokakassi.fi/event/toivon-torstai-paakarlassa-14/2024-09-26/
LOCATION:Paakarlan seurakuntakoti\, Laivateollisuudenkatu 28\, Turku\, 20240
END:VEVENT
BEGIN:VEVENT
DTSTART;TZID=Europe/Helsinki:20240912T140000
DTEND;TZID=Europe/Helsinki:20240912T150000
DTSTAMP:20260424T001959
CREATED:20240108T162331Z
LAST-MODIFIED:20240723T112458Z
UID:10001865-1726149600-1726153200@operaatioruokakassi.fi
SUMMARY:Toivon Torstai Paakarlassa
DESCRIPTION:Ruokailu alkaa klo 14 ja ohjelma klo 14.30. Kassijako ohjelman jälkeen.
URL:https://operaatioruokakassi.fi/event/toivon-torstai-paakarlassa-14/2024-09-12/
LOCATION:Paakarlan seurakuntakoti\, Laivateollisuudenkatu 28\, Turku\, 20240
END:VEVENT
BEGIN:VEVENT
DTSTART;TZID=Europe/Helsinki:20240808T140000
DTEND;TZID=Europe/Helsinki:20240808T150000
DTSTAMP:20260424T001959
CREATED:20240108T162331Z
LAST-MODIFIED:20240723T112458Z
UID:10001454-1723125600-1723129200@operaatioruokakassi.fi
SUMMARY:Toivon Torstai Paakarlassa
DESCRIPTION:Ruokailu alkaa klo 14 ja ohjelma klo 14.30. Kassijako ohjelman jälkeen.
URL:https://operaatioruokakassi.fi/event/toivon-torstai-paakarlassa-14/2024-08-08/
LOCATION:Paakarlan seurakuntakoti\, Laivateollisuudenkatu 28\, Turku\, 20240
END:VEVENT
BEGIN:VEVENT
DTSTART;TZID=Europe/Helsinki:20240606T140000
DTEND;TZID=Europe/Helsinki:20240606T150000
DTSTAMP:20260424T001959
CREATED:20240108T162331Z
LAST-MODIFIED:20240723T112458Z
UID:10001453-1717682400-1717686000@operaatioruokakassi.fi
SUMMARY:Toivon Torstai Paakarlassa
DESCRIPTION:Ruokailu alkaa klo 14 ja ohjelma klo 14.30. Kassijako ohjelman jälkeen.
URL:https://operaatioruokakassi.fi/event/toivon-torstai-paakarlassa-14/2024-06-06/
LOCATION:Paakarlan seurakuntakoti\, Laivateollisuudenkatu 28\, Turku\, 20240
END:VEVENT
BEGIN:VEVENT
DTSTART;TZID=Europe/Helsinki:20240516T140000
DTEND;TZID=Europe/Helsinki:20240516T150000
DTSTAMP:20260424T001959
CREATED:20240108T162331Z
LAST-MODIFIED:20240723T112458Z
UID:10001318-1715868000-1715871600@operaatioruokakassi.fi
SUMMARY:Toivon Torstai Paakarlassa
DESCRIPTION:Ruokailu alkaa klo 14 ja ohjelma klo 14.30. Kassijako ohjelman jälkeen.
URL:https://operaatioruokakassi.fi/event/toivon-torstai-paakarlassa-14/2024-05-16/
LOCATION:Paakarlan seurakuntakoti\, Laivateollisuudenkatu 28\, Turku\, 20240
END:VEVENT
BEGIN:VEVENT
DTSTART;TZID=Europe/Helsinki:20240502T140000
DTEND;TZID=Europe/Helsinki:20240502T150000
DTSTAMP:20260424T001959
CREATED:20240108T162331Z
LAST-MODIFIED:20240723T112458Z
UID:10001317-1714658400-1714662000@operaatioruokakassi.fi
SUMMARY:Toivon Torstai Paakarlassa
DESCRIPTION:Ruokailu alkaa klo 14 ja ohjelma klo 14.30. Kassijako ohjelman jälkeen.
URL:https://operaatioruokakassi.fi/event/toivon-torstai-paakarlassa-14/2024-05-02/
LOCATION:Paakarlan seurakuntakoti\, Laivateollisuudenkatu 28\, Turku\, 20240
END:VEVENT
BEGIN:VEVENT
DTSTART;TZID=Europe/Helsinki:20240418T140000
DTEND;TZID=Europe/Helsinki:20240418T150000
DTSTAMP:20260424T001959
CREATED:20240108T162331Z
LAST-MODIFIED:20240723T112458Z
UID:10001316-1713448800-1713452400@operaatioruokakassi.fi
SUMMARY:Toivon Torstai Paakarlassa
DESCRIPTION:Ruokailu alkaa klo 14 ja ohjelma klo 14.30. Kassijako ohjelman jälkeen.
URL:https://operaatioruokakassi.fi/event/toivon-torstai-paakarlassa-14/2024-04-18/
LOCATION:Paakarlan seurakuntakoti\, Laivateollisuudenkatu 28\, Turku\, 20240
END:VEVENT
BEGIN:VEVENT
DTSTART;TZID=Europe/Helsinki:20240404T140000
DTEND;TZID=Europe/Helsinki:20240404T150000
DTSTAMP:20260424T001959
CREATED:20240108T162331Z
LAST-MODIFIED:20240723T112458Z
UID:10001315-1712239200-1712242800@operaatioruokakassi.fi
SUMMARY:Toivon Torstai Paakarlassa
DESCRIPTION:Ruokailu alkaa klo 14 ja ohjelma klo 14.30. Kassijako ohjelman jälkeen.
URL:https://operaatioruokakassi.fi/event/toivon-torstai-paakarlassa-14/2024-04-04/
LOCATION:Paakarlan seurakuntakoti\, Laivateollisuudenkatu 28\, Turku\, 20240
END:VEVENT
BEGIN:VEVENT
DTSTART;TZID=Europe/Helsinki:20240321T140000
DTEND;TZID=Europe/Helsinki:20240321T150000
DTSTAMP:20260424T001959
CREATED:20240108T162331Z
LAST-MODIFIED:20240723T112458Z
UID:10001314-1711029600-1711033200@operaatioruokakassi.fi
SUMMARY:Toivon Torstai Paakarlassa
DESCRIPTION:Ruokailu alkaa klo 14 ja ohjelma klo 14.30. Kassijako ohjelman jälkeen.
URL:https://operaatioruokakassi.fi/event/toivon-torstai-paakarlassa-14/2024-03-21/
LOCATION:Paakarlan seurakuntakoti\, Laivateollisuudenkatu 28\, Turku\, 20240
END:VEVENT
BEGIN:VEVENT
DTSTART;TZID=Europe/Helsinki:20240307T140000
DTEND;TZID=Europe/Helsinki:20240307T150000
DTSTAMP:20260424T001959
CREATED:20240108T162331Z
LAST-MODIFIED:20240723T112458Z
UID:10001313-1709820000-1709823600@operaatioruokakassi.fi
SUMMARY:Toivon Torstai Paakarlassa
DESCRIPTION:Ruokailu alkaa klo 14 ja ohjelma klo 14.30. Kassijako ohjelman jälkeen.
URL:https://operaatioruokakassi.fi/event/toivon-torstai-paakarlassa-14/2024-03-07/
LOCATION:Paakarlan seurakuntakoti\, Laivateollisuudenkatu 28\, Turku\, 20240
END:VEVENT
BEGIN:VEVENT
DTSTART;TZID=Europe/Helsinki:20240222T140000
DTEND;TZID=Europe/Helsinki:20240222T150000
DTSTAMP:20260424T001959
CREATED:20240108T162331Z
LAST-MODIFIED:20240723T112458Z
UID:10001312-1708610400-1708614000@operaatioruokakassi.fi
SUMMARY:Toivon Torstai Paakarlassa
DESCRIPTION:Ruokailu alkaa klo 14 ja ohjelma klo 14.30. Kassijako ohjelman jälkeen.
URL:https://operaatioruokakassi.fi/event/toivon-torstai-paakarlassa-14/2024-02-22/
LOCATION:Paakarlan seurakuntakoti\, Laivateollisuudenkatu 28\, Turku\, 20240
END:VEVENT
BEGIN:VEVENT
DTSTART;TZID=Europe/Helsinki:20240208T140000
DTEND;TZID=Europe/Helsinki:20240208T150000
DTSTAMP:20260424T001959
CREATED:20240108T162331Z
LAST-MODIFIED:20240723T112458Z
UID:10001311-1707400800-1707404400@operaatioruokakassi.fi
SUMMARY:Toivon Torstai Paakarlassa
DESCRIPTION:Ruokailu alkaa klo 14 ja ohjelma klo 14.30. Kassijako ohjelman jälkeen.
URL:https://operaatioruokakassi.fi/event/toivon-torstai-paakarlassa-14/2024-02-08/
LOCATION:Paakarlan seurakuntakoti\, Laivateollisuudenkatu 28\, Turku\, 20240
END:VEVENT
BEGIN:VEVENT
DTSTART;TZID=Europe/Helsinki:20240125T140000
DTEND;TZID=Europe/Helsinki:20240125T150000
DTSTAMP:20260424T001959
CREATED:20240108T162331Z
LAST-MODIFIED:20240723T112458Z
UID:10001310-1706191200-1706194800@operaatioruokakassi.fi
SUMMARY:Toivon Torstai Paakarlassa
DESCRIPTION:Ruokailu alkaa klo 14 ja ohjelma klo 14.30. Kassijako ohjelman jälkeen.
URL:https://operaatioruokakassi.fi/event/toivon-torstai-paakarlassa-14/2024-01-25/
LOCATION:Paakarlan seurakuntakoti\, Laivateollisuudenkatu 28\, Turku\, 20240
END:VEVENT
BEGIN:VEVENT
DTSTART;TZID=Europe/Helsinki:20231214T140000
DTEND;TZID=Europe/Helsinki:20231214T150000
DTSTAMP:20260424T001959
CREATED:20230730T131000Z
LAST-MODIFIED:20230730T131000Z
UID:10001122-1702562400-1702566000@operaatioruokakassi.fi
SUMMARY:Toivon Torstai Paakarlassa
DESCRIPTION:
URL:https://operaatioruokakassi.fi/event/toivon-torstai-paakarlassa-13/2023-12-14/
LOCATION:Paakarlan seurakuntakoti\, Laivateollisuudenkatu 28\, Turku\, 20240
ATTACH;FMTTYPE=image/png:https://operaatioruokakassi.fi/wp-content/uploads/2021/09/Mikaelinsrk1849.png
END:VEVENT
BEGIN:VEVENT
DTSTART;TZID=Europe/Helsinki:20231130T140000
DTEND;TZID=Europe/Helsinki:20231130T150000
DTSTAMP:20260424T001959
CREATED:20230730T131000Z
LAST-MODIFIED:20230730T131000Z
UID:10001121-1701352800-1701356400@operaatioruokakassi.fi
SUMMARY:Toivon Torstai Paakarlassa
DESCRIPTION:
URL:https://operaatioruokakassi.fi/event/toivon-torstai-paakarlassa-13/2023-11-30/
LOCATION:Paakarlan seurakuntakoti\, Laivateollisuudenkatu 28\, Turku\, 20240
ATTACH;FMTTYPE=image/png:https://operaatioruokakassi.fi/wp-content/uploads/2021/09/Mikaelinsrk1849.png
END:VEVENT
BEGIN:VEVENT
DTSTART;TZID=Europe/Helsinki:20231116T140000
DTEND;TZID=Europe/Helsinki:20231116T150000
DTSTAMP:20260424T001959
CREATED:20230730T131000Z
LAST-MODIFIED:20230730T131000Z
UID:10001120-1700143200-1700146800@operaatioruokakassi.fi
SUMMARY:Toivon Torstai Paakarlassa
DESCRIPTION:
URL:https://operaatioruokakassi.fi/event/toivon-torstai-paakarlassa-13/2023-11-16/
LOCATION:Paakarlan seurakuntakoti\, Laivateollisuudenkatu 28\, Turku\, 20240
ATTACH;FMTTYPE=image/png:https://operaatioruokakassi.fi/wp-content/uploads/2021/09/Mikaelinsrk1849.png
END:VEVENT
BEGIN:VEVENT
DTSTART;TZID=Europe/Helsinki:20231102T140000
DTEND;TZID=Europe/Helsinki:20231102T150000
DTSTAMP:20260424T001959
CREATED:20230730T131000Z
LAST-MODIFIED:20230730T131000Z
UID:10001119-1698933600-1698937200@operaatioruokakassi.fi
SUMMARY:Toivon Torstai Paakarlassa
DESCRIPTION:
URL:https://operaatioruokakassi.fi/event/toivon-torstai-paakarlassa-13/2023-11-02/
LOCATION:Paakarlan seurakuntakoti\, Laivateollisuudenkatu 28\, Turku\, 20240
ATTACH;FMTTYPE=image/png:https://operaatioruokakassi.fi/wp-content/uploads/2021/09/Mikaelinsrk1849.png
END:VEVENT
BEGIN:VEVENT
DTSTART;TZID=Europe/Helsinki:20231019T140000
DTEND;TZID=Europe/Helsinki:20231019T150000
DTSTAMP:20260424T001959
CREATED:20230730T131000Z
LAST-MODIFIED:20230730T131000Z
UID:10001118-1697724000-1697727600@operaatioruokakassi.fi
SUMMARY:Toivon Torstai Paakarlassa
DESCRIPTION:
URL:https://operaatioruokakassi.fi/event/toivon-torstai-paakarlassa-13/2023-10-19/
LOCATION:Paakarlan seurakuntakoti\, Laivateollisuudenkatu 28\, Turku\, 20240
ATTACH;FMTTYPE=image/png:https://operaatioruokakassi.fi/wp-content/uploads/2021/09/Mikaelinsrk1849.png
END:VEVENT
BEGIN:VEVENT
DTSTART;TZID=Europe/Helsinki:20231005T140000
DTEND;TZID=Europe/Helsinki:20231005T150000
DTSTAMP:20260424T001959
CREATED:20230730T131000Z
LAST-MODIFIED:20230730T131000Z
UID:10001117-1696514400-1696518000@operaatioruokakassi.fi
SUMMARY:Toivon Torstai Paakarlassa
DESCRIPTION:
URL:https://operaatioruokakassi.fi/event/toivon-torstai-paakarlassa-13/2023-10-05/
LOCATION:Paakarlan seurakuntakoti\, Laivateollisuudenkatu 28\, Turku\, 20240
ATTACH;FMTTYPE=image/png:https://operaatioruokakassi.fi/wp-content/uploads/2021/09/Mikaelinsrk1849.png
END:VEVENT
BEGIN:VEVENT
DTSTART;TZID=Europe/Helsinki:20230824T140000
DTEND;TZID=Europe/Helsinki:20230824T150000
DTSTAMP:20260424T001959
CREATED:20230619T052429Z
LAST-MODIFIED:20230619T052429Z
UID:10001058-1692885600-1692889200@operaatioruokakassi.fi
SUMMARY:Toivon Torstai Paakarlassa
DESCRIPTION:
URL:https://operaatioruokakassi.fi/event/toivon-torstai-paakarlassa-12/
LOCATION:Paakarlan seurakuntakoti\, Laivateollisuudenkatu 28\, Turku\, 20240
ATTACH;FMTTYPE=image/png:https://operaatioruokakassi.fi/wp-content/uploads/2021/05/imageedit_5_2947467270.png
END:VEVENT
BEGIN:VEVENT
DTSTART;TZID=UTC:20230622T140000
DTEND;TZID=UTC:20230622T150000
DTSTAMP:20260424T001959
CREATED:20220531T065305Z
LAST-MODIFIED:20230521T085334Z
UID:10000886-1687442400-1687446000@operaatioruokakassi.fi
SUMMARY:Toivon Torstai Paakarlassa
DESCRIPTION:
URL:https://operaatioruokakassi.fi/event/toivon-torstai-paakarlassa-10/2023-06-22/
LOCATION:Paakarlan seurakuntakoti\, Laivateollisuudenkatu 28\, Turku\, 20240
ATTACH;FMTTYPE=image/png:https://operaatioruokakassi.fi/wp-content/uploads/2021/09/Mikaelinsrk1849.png
END:VEVENT
BEGIN:VEVENT
DTSTART;TZID=UTC:20230525T140000
DTEND;TZID=UTC:20230525T150000
DTSTAMP:20260424T001959
CREATED:20220531T065305Z
LAST-MODIFIED:20230521T085334Z
UID:10000885-1685023200-1685026800@operaatioruokakassi.fi
SUMMARY:Toivon Torstai Paakarlassa
DESCRIPTION:
URL:https://operaatioruokakassi.fi/event/toivon-torstai-paakarlassa-10/2023-05-25/
LOCATION:Paakarlan seurakuntakoti\, Laivateollisuudenkatu 28\, Turku\, 20240
ATTACH;FMTTYPE=image/png:https://operaatioruokakassi.fi/wp-content/uploads/2021/09/Mikaelinsrk1849.png
END:VEVENT
BEGIN:VEVENT
DTSTART;TZID=UTC:20230511T140000
DTEND;TZID=UTC:20230511T150000
DTSTAMP:20260424T001959
CREATED:20220531T065305Z
LAST-MODIFIED:20230521T085334Z
UID:10000870-1683813600-1683817200@operaatioruokakassi.fi
SUMMARY:Toivon Torstai Paakarlassa
DESCRIPTION:
URL:https://operaatioruokakassi.fi/event/toivon-torstai-paakarlassa-10/2023-05-11/
LOCATION:Paakarlan seurakuntakoti\, Laivateollisuudenkatu 28\, Turku\, 20240
ATTACH;FMTTYPE=image/png:https://operaatioruokakassi.fi/wp-content/uploads/2021/09/Mikaelinsrk1849.png
END:VEVENT
BEGIN:VEVENT
DTSTART;TZID=UTC:20230427T140000
DTEND;TZID=UTC:20230427T150000
DTSTAMP:20260424T001959
CREATED:20220531T065305Z
LAST-MODIFIED:20230521T085334Z
UID:10000869-1682604000-1682607600@operaatioruokakassi.fi
SUMMARY:Toivon Torstai Paakarlassa
DESCRIPTION:
URL:https://operaatioruokakassi.fi/event/toivon-torstai-paakarlassa-10/2023-04-27/
LOCATION:Paakarlan seurakuntakoti\, Laivateollisuudenkatu 28\, Turku\, 20240
ATTACH;FMTTYPE=image/png:https://operaatioruokakassi.fi/wp-content/uploads/2021/09/Mikaelinsrk1849.png
END:VEVENT
BEGIN:VEVENT
DTSTART;TZID=UTC:20230413T140000
DTEND;TZID=UTC:20230413T150000
DTSTAMP:20260424T001959
CREATED:20220531T065305Z
LAST-MODIFIED:20230521T085334Z
UID:10000868-1681394400-1681398000@operaatioruokakassi.fi
SUMMARY:Toivon Torstai Paakarlassa
DESCRIPTION:
URL:https://operaatioruokakassi.fi/event/toivon-torstai-paakarlassa-10/2023-04-13/
LOCATION:Paakarlan seurakuntakoti\, Laivateollisuudenkatu 28\, Turku\, 20240
ATTACH;FMTTYPE=image/png:https://operaatioruokakassi.fi/wp-content/uploads/2021/09/Mikaelinsrk1849.png
END:VEVENT
END:VCALENDAR