BEGIN:VCALENDAR
VERSION:2.0
PRODID:-//Operaatio Ruokakassi - ECPv6.15.20//NONSGML v1.0//EN
CALSCALE:GREGORIAN
METHOD:PUBLISH
X-ORIGINAL-URL:https://operaatioruokakassi.fi
X-WR-CALDESC:Tapahtumat Operaatio Ruokakassi
REFRESH-INTERVAL;VALUE=DURATION:PT1H
X-Robots-Tag:noindex
X-PUBLISHED-TTL:PT1H
BEGIN:VTIMEZONE
TZID:UTC
BEGIN:STANDARD
TZOFFSETFROM:+0000
TZOFFSETTO:+0000
TZNAME:UTC
DTSTART:20200101T000000
END:STANDARD
END:VTIMEZONE
BEGIN:VEVENT
DTSTART;TZID=UTC:20220315T150000
DTEND;TZID=UTC:20220315T160000
DTSTAMP:20260424T002014
CREATED:20220107T063924Z
LAST-MODIFIED:20220819T051712Z
UID:10000549-1647356400-1647360000@operaatioruokakassi.fi
SUMMARY:Kaarinan seurakunta
DESCRIPTION:
URL:https://operaatioruokakassi.fi/event/kaarinan-seurakunta-2/2022-03-15/
LOCATION:Kaarinan kirkko\, Vuodinkatu 2\, Kaarina\, 20780
ATTACH;FMTTYPE=image/jpeg:https://operaatioruokakassi.fi/wp-content/uploads/2021/04/Kaarina.jpg
ORGANIZER;CN="Anu Aarnivala":MAILTO:anu.aarnivala@evl.fi
END:VEVENT
BEGIN:VEVENT
DTSTART;TZID=UTC:20220215T150000
DTEND;TZID=UTC:20220215T160000
DTSTAMP:20260424T002014
CREATED:20220107T063924Z
LAST-MODIFIED:20220819T051712Z
UID:10000548-1644937200-1644940800@operaatioruokakassi.fi
SUMMARY:Kaarinan seurakunta
DESCRIPTION:
URL:https://operaatioruokakassi.fi/event/kaarinan-seurakunta-2/2022-02-15/
LOCATION:Kaarinan kirkko\, Vuodinkatu 2\, Kaarina\, 20780
ATTACH;FMTTYPE=image/jpeg:https://operaatioruokakassi.fi/wp-content/uploads/2021/04/Kaarina.jpg
ORGANIZER;CN="Anu Aarnivala":MAILTO:anu.aarnivala@evl.fi
END:VEVENT
BEGIN:VEVENT
DTSTART;TZID=UTC:20220118T150000
DTEND;TZID=UTC:20220118T160000
DTSTAMP:20260424T002014
CREATED:20220107T063924Z
LAST-MODIFIED:20220819T051712Z
UID:10000547-1642518000-1642521600@operaatioruokakassi.fi
SUMMARY:Kaarinan seurakunta
DESCRIPTION:
URL:https://operaatioruokakassi.fi/event/kaarinan-seurakunta-2/2022-01-18/
LOCATION:Kaarinan kirkko\, Vuodinkatu 2\, Kaarina\, 20780
ATTACH;FMTTYPE=image/jpeg:https://operaatioruokakassi.fi/wp-content/uploads/2021/04/Kaarina.jpg
ORGANIZER;CN="Anu Aarnivala":MAILTO:anu.aarnivala@evl.fi
END:VEVENT
BEGIN:VEVENT
DTSTART;TZID=UTC:20210601T150000
DTEND;TZID=UTC:20210601T160000
DTSTAMP:20260424T002014
CREATED:20210513T075822Z
LAST-MODIFIED:20210513T075822Z
UID:10000517-1622559600-1622563200@operaatioruokakassi.fi
SUMMARY:Kaarinan seurakunta
DESCRIPTION:
URL:https://operaatioruokakassi.fi/event/kaarinan-seurakunta/
LOCATION:Kaarinan kirkko\, Vuodinkatu 2\, Kaarina\, 20780
ATTACH;FMTTYPE=image/jpeg:https://operaatioruokakassi.fi/wp-content/uploads/2021/04/Kaarina.jpg
ORGANIZER;CN="Anu Aarnivala":MAILTO:anu.aarnivala@evl.fi
END:VEVENT
END:VCALENDAR