BEGIN:VCALENDAR
VERSION:2.0
PRODID:-//Operaatio Ruokakassi - ECPv6.15.20//NONSGML v1.0//EN
CALSCALE:GREGORIAN
METHOD:PUBLISH
X-ORIGINAL-URL:https://operaatioruokakassi.fi
X-WR-CALDESC:Tapahtumat Operaatio Ruokakassi
REFRESH-INTERVAL;VALUE=DURATION:PT1H
X-Robots-Tag:noindex
X-PUBLISHED-TTL:PT1H
BEGIN:VTIMEZONE
TZID:UTC
BEGIN:STANDARD
TZOFFSETFROM:+0000
TZOFFSETTO:+0000
TZNAME:UTC
DTSTART:20210101T000000
END:STANDARD
END:VTIMEZONE
BEGIN:VEVENT
DTSTART;TZID=UTC:20221127T110000
DTEND;TZID=UTC:20221127T123000
DTSTAMP:20260424T115613
CREATED:20220531T065018Z
LAST-MODIFIED:20220531T065018Z
UID:10000559-1669546800-1669552200@operaatioruokakassi.fi
SUMMARY:Kaarinan kotikirkko
DESCRIPTION:Elämän eväät -tilaisuus alkaa salissa klo 11.00 ja kestää enintään 45 minuuttia. Kassien jako tämän jälkeen.
URL:https://operaatioruokakassi.fi/event/kaarinan-kotikirkko-5/
LOCATION:Kaarinan kotikirkko\, Hovirinnantie 5\, Kaarina\, 20780
END:VEVENT
BEGIN:VEVENT
DTSTART;TZID=UTC:20221030T110000
DTEND;TZID=UTC:20221030T123000
DTSTAMP:20260424T115613
CREATED:20220531T064907Z
LAST-MODIFIED:20220531T064907Z
UID:10000515-1667127600-1667133000@operaatioruokakassi.fi
SUMMARY:Kaarinan kotikirkko
DESCRIPTION:Elämän eväät -tilaisuus alkaa salissa klo 11.00 ja kestää enintään 45 minuuttia. Kassien jako tämän jälkeen (huomioi talviaikaan siirtyminen).
URL:https://operaatioruokakassi.fi/event/kaarinan-kotikirkko-4/
LOCATION:Kaarinan kotikirkko\, Hovirinnantie 5\, Kaarina\, 20780
END:VEVENT
BEGIN:VEVENT
DTSTART;TZID=UTC:20220925T110000
DTEND;TZID=UTC:20220925T123000
DTSTAMP:20260424T115613
CREATED:20220531T064754Z
LAST-MODIFIED:20220531T064754Z
UID:10000084-1664103600-1664109000@operaatioruokakassi.fi
SUMMARY:Kaarinan kotikirkko
DESCRIPTION:Elämän eväät -tilaisuus alkaa salissa klo 11.00 ja kestää enintään 45 minuuttia. Kassien jako tämän jälkeen.
URL:https://operaatioruokakassi.fi/event/kaarinan-kotikirkko-3/
LOCATION:Kaarinan kotikirkko\, Hovirinnantie 5\, Kaarina\, 20780
END:VEVENT
BEGIN:VEVENT
DTSTART;TZID=UTC:20220828T110000
DTEND;TZID=UTC:20220828T123000
DTSTAMP:20260424T115613
CREATED:20220531T064608Z
LAST-MODIFIED:20220531T064608Z
UID:10000102-1661684400-1661689800@operaatioruokakassi.fi
SUMMARY:Kaarinan kotikirkko
DESCRIPTION:Elämän eväät -tilaisuus alkaa salissa klo 11.00 ja kestää enintään 45 minuuttia. Kassien jako tämän jälkeen.
URL:https://operaatioruokakassi.fi/event/kaarinan-kotikirkko-2/
LOCATION:Kaarinan kotikirkko\, Hovirinnantie 5\, Kaarina\, 20780
END:VEVENT
BEGIN:VEVENT
DTSTART;TZID=UTC:20220227T110000
DTEND;TZID=UTC:20220227T120000
DTSTAMP:20260424T115613
CREATED:20220124T111954Z
LAST-MODIFIED:20220125T092951Z
UID:10000558-1645959600-1645963200@operaatioruokakassi.fi
SUMMARY:Kaarinan kotikirkko
DESCRIPTION:
URL:https://operaatioruokakassi.fi/event/kaarinan-kotikirkko/2022-02-27/
LOCATION:Kaarinan kotikirkko\, Hovirinnantie 5\, Kaarina\, 20780
ATTACH;FMTTYPE=image/png:https://operaatioruokakassi.fi/wp-content/uploads/2022/01/logo.png
END:VEVENT
BEGIN:VEVENT
DTSTART;TZID=UTC:20220130T110000
DTEND;TZID=UTC:20220130T120000
DTSTAMP:20260424T115613
CREATED:20220124T111954Z
LAST-MODIFIED:20220125T092951Z
UID:10000557-1643540400-1643544000@operaatioruokakassi.fi
SUMMARY:Kaarinan kotikirkko
DESCRIPTION:
URL:https://operaatioruokakassi.fi/event/kaarinan-kotikirkko/2022-01-30/
LOCATION:Kaarinan kotikirkko\, Hovirinnantie 5\, Kaarina\, 20780
ATTACH;FMTTYPE=image/png:https://operaatioruokakassi.fi/wp-content/uploads/2022/01/logo.png
END:VEVENT
END:VCALENDAR