BEGIN:VCALENDAR
VERSION:2.0
PRODID:-//Operaatio Ruokakassi - ECPv6.15.20//NONSGML v1.0//EN
CALSCALE:GREGORIAN
METHOD:PUBLISH
X-ORIGINAL-URL:https://operaatioruokakassi.fi
X-WR-CALDESC:Tapahtumat Operaatio Ruokakassi
REFRESH-INTERVAL;VALUE=DURATION:PT1H
X-Robots-Tag:noindex
X-PUBLISHED-TTL:PT1H
BEGIN:VTIMEZONE
TZID:Europe/Helsinki
BEGIN:DAYLIGHT
TZOFFSETFROM:+0200
TZOFFSETTO:+0300
TZNAME:EEST
DTSTART:20230326T010000
END:DAYLIGHT
BEGIN:STANDARD
TZOFFSETFROM:+0300
TZOFFSETTO:+0200
TZNAME:EET
DTSTART:20231029T010000
END:STANDARD
BEGIN:DAYLIGHT
TZOFFSETFROM:+0200
TZOFFSETTO:+0300
TZNAME:EEST
DTSTART:20240331T010000
END:DAYLIGHT
BEGIN:STANDARD
TZOFFSETFROM:+0300
TZOFFSETTO:+0200
TZNAME:EET
DTSTART:20241027T010000
END:STANDARD
BEGIN:DAYLIGHT
TZOFFSETFROM:+0200
TZOFFSETTO:+0300
TZNAME:EEST
DTSTART:20250330T010000
END:DAYLIGHT
BEGIN:STANDARD
TZOFFSETFROM:+0300
TZOFFSETTO:+0200
TZNAME:EET
DTSTART:20251026T010000
END:STANDARD
END:VTIMEZONE
BEGIN:VEVENT
DTSTART;TZID=Europe/Helsinki:20240305T110000
DTEND;TZID=Europe/Helsinki:20240305T120000
DTSTAMP:20260424T002152
CREATED:20240122T114208Z
LAST-MODIFIED:20240527T054606Z
UID:10001413-1709636400-1709640000@operaatioruokakassi.fi
SUMMARY:Turun Helluntaiseurakunta
DESCRIPTION:Tilaisuus alkaa klo 11.00\, ruokakassijakelu n. klo 11.45.
URL:https://operaatioruokakassi.fi/event/turun-helluntaiseurakunta-5-2/2024-03-05/
LOCATION:Turun helluntaiseurakunta\, Puistokatu 6 b\, Turku\, 20200
ATTACH;FMTTYPE=image/png:https://operaatioruokakassi.fi/wp-content/uploads/2021/04/Helluntaiseurakunta-turku-3.png
END:VEVENT
BEGIN:VEVENT
DTSTART;TZID=Europe/Helsinki:20240220T110000
DTEND;TZID=Europe/Helsinki:20240220T120000
DTSTAMP:20260424T002152
CREATED:20240122T114208Z
LAST-MODIFIED:20240527T054606Z
UID:10001412-1708426800-1708430400@operaatioruokakassi.fi
SUMMARY:Turun Helluntaiseurakunta
DESCRIPTION:Tilaisuus alkaa klo 11.00\, ruokakassijakelu n. klo 11.45.
URL:https://operaatioruokakassi.fi/event/turun-helluntaiseurakunta-5-2/2024-02-20/
LOCATION:Turun helluntaiseurakunta\, Puistokatu 6 b\, Turku\, 20200
ATTACH;FMTTYPE=image/png:https://operaatioruokakassi.fi/wp-content/uploads/2021/04/Helluntaiseurakunta-turku-3.png
END:VEVENT
BEGIN:VEVENT
DTSTART;TZID=Europe/Helsinki:20240206T110000
DTEND;TZID=Europe/Helsinki:20240206T120000
DTSTAMP:20260424T002152
CREATED:20240122T114208Z
LAST-MODIFIED:20240527T054606Z
UID:10001411-1707217200-1707220800@operaatioruokakassi.fi
SUMMARY:Turun Helluntaiseurakunta
DESCRIPTION:Tilaisuus alkaa klo 11.00\, ruokakassijakelu n. klo 11.45.
URL:https://operaatioruokakassi.fi/event/turun-helluntaiseurakunta-5-2/2024-02-06/
LOCATION:Turun helluntaiseurakunta\, Puistokatu 6 b\, Turku\, 20200
ATTACH;FMTTYPE=image/png:https://operaatioruokakassi.fi/wp-content/uploads/2021/04/Helluntaiseurakunta-turku-3.png
END:VEVENT
BEGIN:VEVENT
DTSTART;TZID=Europe/Helsinki:20240123T110000
DTEND;TZID=Europe/Helsinki:20240123T120000
DTSTAMP:20260424T002152
CREATED:20240122T114208Z
LAST-MODIFIED:20240527T054606Z
UID:10001253-1706007600-1706011200@operaatioruokakassi.fi
SUMMARY:Turun Helluntaiseurakunta
DESCRIPTION:Tilaisuus alkaa klo 11.00\, ruokakassijakelu n. klo 11.45.
URL:https://operaatioruokakassi.fi/event/turun-helluntaiseurakunta-5-2/2024-01-23/
LOCATION:Turun helluntaiseurakunta\, Puistokatu 6 b\, Turku\, 20200
ATTACH;FMTTYPE=image/png:https://operaatioruokakassi.fi/wp-content/uploads/2021/04/Helluntaiseurakunta-turku-3.png
END:VEVENT
END:VCALENDAR