BEGIN:VCALENDAR
VERSION:2.0
PRODID:-//Operaatio Ruokakassi - ECPv6.15.20//NONSGML v1.0//EN
CALSCALE:GREGORIAN
METHOD:PUBLISH
X-ORIGINAL-URL:https://operaatioruokakassi.fi
X-WR-CALDESC:Tapahtumat Operaatio Ruokakassi
REFRESH-INTERVAL;VALUE=DURATION:PT1H
X-Robots-Tag:noindex
X-PUBLISHED-TTL:PT1H
BEGIN:VTIMEZONE
TZID:UTC
BEGIN:STANDARD
TZOFFSETFROM:+0000
TZOFFSETTO:+0000
TZNAME:UTC
DTSTART:20200101T000000
END:STANDARD
END:VTIMEZONE
BEGIN:VEVENT
DTSTART;TZID=UTC:20230909T120000
DTEND;TZID=UTC:20230909T130000
DTSTAMP:20260424T001959
CREATED:20211014T054454Z
LAST-MODIFIED:20231104T084627Z
UID:10001178-1694260800-1694264400@operaatioruokakassi.fi
SUMMARY:Raision vapaaseurakunta
DESCRIPTION:Ovet avataan klo 11\, jolloin voi tulla kuuntelemaan hengellistä musiikkia ja hartaushetkeä\, mutta RUOKAKASSIEN jako\, RUOKAILU\, KAHVIO ja KIRPPUTORI aukeavat klo 12.
URL:https://operaatioruokakassi.fi/event/raision-vapaaseurakunta-3/2023-09-09/
LOCATION:Raision Vapaaseurakunta\, Frälsintie 20\, Raisio\, 21200
ORGANIZER;CN="Marja-Terttu Lampinen":MAILTO:m-t.lampinen@suomi24.fi
END:VEVENT
BEGIN:VEVENT
DTSTART;TZID=UTC:20230513T120000
DTEND;TZID=UTC:20230513T130000
DTSTAMP:20260424T001959
CREATED:20211014T054454Z
LAST-MODIFIED:20231104T084627Z
UID:10000808-1683979200-1683982800@operaatioruokakassi.fi
SUMMARY:Raision vapaaseurakunta
DESCRIPTION:Ovet avataan klo 11\, jolloin voi tulla kuuntelemaan hengellistä musiikkia ja hartaushetkeä\, mutta RUOKAKASSIEN jako\, RUOKAILU\, KAHVIO ja KIRPPUTORI aukeavat klo 12.
URL:https://operaatioruokakassi.fi/event/raision-vapaaseurakunta-3/2023-05-13/
LOCATION:Raision Vapaaseurakunta\, Frälsintie 20\, Raisio\, 21200
ORGANIZER;CN="Marja-Terttu Lampinen":MAILTO:m-t.lampinen@suomi24.fi
END:VEVENT
BEGIN:VEVENT
DTSTART;TZID=UTC:20230415T120000
DTEND;TZID=UTC:20230415T130000
DTSTAMP:20260424T001959
CREATED:20211014T054454Z
LAST-MODIFIED:20231104T084627Z
UID:10000807-1681560000-1681563600@operaatioruokakassi.fi
SUMMARY:Raision vapaaseurakunta
DESCRIPTION:Ovet avataan klo 11\, jolloin voi tulla kuuntelemaan hengellistä musiikkia ja hartaushetkeä\, mutta RUOKAKASSIEN jako\, RUOKAILU\, KAHVIO ja KIRPPUTORI aukeavat klo 12.
URL:https://operaatioruokakassi.fi/event/raision-vapaaseurakunta-3/2023-04-15/
LOCATION:Raision Vapaaseurakunta\, Frälsintie 20\, Raisio\, 21200
ORGANIZER;CN="Marja-Terttu Lampinen":MAILTO:m-t.lampinen@suomi24.fi
END:VEVENT
BEGIN:VEVENT
DTSTART;TZID=UTC:20230311T120000
DTEND;TZID=UTC:20230311T130000
DTSTAMP:20260424T001959
CREATED:20211014T054454Z
LAST-MODIFIED:20231104T084627Z
UID:10000806-1678536000-1678539600@operaatioruokakassi.fi
SUMMARY:Raision vapaaseurakunta
DESCRIPTION:Ovet avataan klo 11\, jolloin voi tulla kuuntelemaan hengellistä musiikkia ja hartaushetkeä\, mutta RUOKAKASSIEN jako\, RUOKAILU\, KAHVIO ja KIRPPUTORI aukeavat klo 12.
URL:https://operaatioruokakassi.fi/event/raision-vapaaseurakunta-3/2023-03-11/
LOCATION:Raision Vapaaseurakunta\, Frälsintie 20\, Raisio\, 21200
ORGANIZER;CN="Marja-Terttu Lampinen":MAILTO:m-t.lampinen@suomi24.fi
END:VEVENT
BEGIN:VEVENT
DTSTART;TZID=UTC:20230211T120000
DTEND;TZID=UTC:20230211T130000
DTSTAMP:20260424T001959
CREATED:20211014T054454Z
LAST-MODIFIED:20231104T084627Z
UID:10000805-1676116800-1676120400@operaatioruokakassi.fi
SUMMARY:Raision vapaaseurakunta
DESCRIPTION:Ovet avataan klo 11\, jolloin voi tulla kuuntelemaan hengellistä musiikkia ja hartaushetkeä\, mutta RUOKAKASSIEN jako\, RUOKAILU\, KAHVIO ja KIRPPUTORI aukeavat klo 12.
URL:https://operaatioruokakassi.fi/event/raision-vapaaseurakunta-3/2023-02-11/
LOCATION:Raision Vapaaseurakunta\, Frälsintie 20\, Raisio\, 21200
ORGANIZER;CN="Marja-Terttu Lampinen":MAILTO:m-t.lampinen@suomi24.fi
END:VEVENT
BEGIN:VEVENT
DTSTART;TZID=UTC:20230114T120000
DTEND;TZID=UTC:20230114T130000
DTSTAMP:20260424T001959
CREATED:20211014T054454Z
LAST-MODIFIED:20231104T084627Z
UID:10000804-1673697600-1673701200@operaatioruokakassi.fi
SUMMARY:Raision vapaaseurakunta
DESCRIPTION:Ovet avataan klo 11\, jolloin voi tulla kuuntelemaan hengellistä musiikkia ja hartaushetkeä\, mutta RUOKAKASSIEN jako\, RUOKAILU\, KAHVIO ja KIRPPUTORI aukeavat klo 12.
URL:https://operaatioruokakassi.fi/event/raision-vapaaseurakunta-3/2023-01-14/
LOCATION:Raision Vapaaseurakunta\, Frälsintie 20\, Raisio\, 21200
ORGANIZER;CN="Marja-Terttu Lampinen":MAILTO:m-t.lampinen@suomi24.fi
END:VEVENT
BEGIN:VEVENT
DTSTART;TZID=UTC:20221210T120000
DTEND;TZID=UTC:20221210T130000
DTSTAMP:20260424T001959
CREATED:20211014T054454Z
LAST-MODIFIED:20231104T084627Z
UID:10000546-1670673600-1670677200@operaatioruokakassi.fi
SUMMARY:Raision vapaaseurakunta
DESCRIPTION:Ovet avataan klo 11\, jolloin voi tulla kuuntelemaan hengellistä musiikkia ja hartaushetkeä\, mutta RUOKAKASSIEN jako\, RUOKAILU\, KAHVIO ja KIRPPUTORI aukeavat klo 12.
URL:https://operaatioruokakassi.fi/event/raision-vapaaseurakunta-3/2022-12-10/
LOCATION:Raision Vapaaseurakunta\, Frälsintie 20\, Raisio\, 21200
ORGANIZER;CN="Marja-Terttu Lampinen":MAILTO:m-t.lampinen@suomi24.fi
END:VEVENT
BEGIN:VEVENT
DTSTART;TZID=UTC:20221112T120000
DTEND;TZID=UTC:20221112T130000
DTSTAMP:20260424T001959
CREATED:20211014T054454Z
LAST-MODIFIED:20231104T084627Z
UID:10000545-1668254400-1668258000@operaatioruokakassi.fi
SUMMARY:Raision vapaaseurakunta
DESCRIPTION:Ovet avataan klo 11\, jolloin voi tulla kuuntelemaan hengellistä musiikkia ja hartaushetkeä\, mutta RUOKAKASSIEN jako\, RUOKAILU\, KAHVIO ja KIRPPUTORI aukeavat klo 12.
URL:https://operaatioruokakassi.fi/event/raision-vapaaseurakunta-3/2022-11-12/
LOCATION:Raision Vapaaseurakunta\, Frälsintie 20\, Raisio\, 21200
ORGANIZER;CN="Marja-Terttu Lampinen":MAILTO:m-t.lampinen@suomi24.fi
END:VEVENT
BEGIN:VEVENT
DTSTART;TZID=UTC:20221008T120000
DTEND;TZID=UTC:20221008T130000
DTSTAMP:20260424T001959
CREATED:20211014T054454Z
LAST-MODIFIED:20231104T084627Z
UID:10000544-1665230400-1665234000@operaatioruokakassi.fi
SUMMARY:Raision vapaaseurakunta
DESCRIPTION:Ovet avataan klo 11\, jolloin voi tulla kuuntelemaan hengellistä musiikkia ja hartaushetkeä\, mutta RUOKAKASSIEN jako\, RUOKAILU\, KAHVIO ja KIRPPUTORI aukeavat klo 12.
URL:https://operaatioruokakassi.fi/event/raision-vapaaseurakunta-3/2022-10-08/
LOCATION:Raision Vapaaseurakunta\, Frälsintie 20\, Raisio\, 21200
ORGANIZER;CN="Marja-Terttu Lampinen":MAILTO:m-t.lampinen@suomi24.fi
END:VEVENT
BEGIN:VEVENT
DTSTART;TZID=UTC:20220514T120000
DTEND;TZID=UTC:20220514T130000
DTSTAMP:20260424T001959
CREATED:20211014T054454Z
LAST-MODIFIED:20231104T084627Z
UID:10000543-1652529600-1652533200@operaatioruokakassi.fi
SUMMARY:Raision vapaaseurakunta
DESCRIPTION:Ovet avataan klo 11\, jolloin voi tulla kuuntelemaan hengellistä musiikkia ja hartaushetkeä\, mutta RUOKAKASSIEN jako\, RUOKAILU\, KAHVIO ja KIRPPUTORI aukeavat klo 12.
URL:https://operaatioruokakassi.fi/event/raision-vapaaseurakunta-3/2022-05-14/
LOCATION:Raision Vapaaseurakunta\, Frälsintie 20\, Raisio\, 21200
ORGANIZER;CN="Marja-Terttu Lampinen":MAILTO:m-t.lampinen@suomi24.fi
END:VEVENT
BEGIN:VEVENT
DTSTART;TZID=UTC:20220409T120000
DTEND;TZID=UTC:20220409T130000
DTSTAMP:20260424T001959
CREATED:20211014T054454Z
LAST-MODIFIED:20231104T084627Z
UID:10000542-1649505600-1649509200@operaatioruokakassi.fi
SUMMARY:Raision vapaaseurakunta
DESCRIPTION:Ovet avataan klo 11\, jolloin voi tulla kuuntelemaan hengellistä musiikkia ja hartaushetkeä\, mutta RUOKAKASSIEN jako\, RUOKAILU\, KAHVIO ja KIRPPUTORI aukeavat klo 12.
URL:https://operaatioruokakassi.fi/event/raision-vapaaseurakunta-3/2022-04-09/
LOCATION:Raision Vapaaseurakunta\, Frälsintie 20\, Raisio\, 21200
ORGANIZER;CN="Marja-Terttu Lampinen":MAILTO:m-t.lampinen@suomi24.fi
END:VEVENT
BEGIN:VEVENT
DTSTART;TZID=UTC:20220312T120000
DTEND;TZID=UTC:20220312T130000
DTSTAMP:20260424T001959
CREATED:20211014T054454Z
LAST-MODIFIED:20231104T084627Z
UID:10000541-1647086400-1647090000@operaatioruokakassi.fi
SUMMARY:Raision vapaaseurakunta
DESCRIPTION:Ovet avataan klo 11\, jolloin voi tulla kuuntelemaan hengellistä musiikkia ja hartaushetkeä\, mutta RUOKAKASSIEN jako\, RUOKAILU\, KAHVIO ja KIRPPUTORI aukeavat klo 12.
URL:https://operaatioruokakassi.fi/event/raision-vapaaseurakunta-3/2022-03-12/
LOCATION:Raision Vapaaseurakunta\, Frälsintie 20\, Raisio\, 21200
ORGANIZER;CN="Marja-Terttu Lampinen":MAILTO:m-t.lampinen@suomi24.fi
END:VEVENT
BEGIN:VEVENT
DTSTART;TZID=UTC:20220212T120000
DTEND;TZID=UTC:20220212T130000
DTSTAMP:20260424T001959
CREATED:20211014T054454Z
LAST-MODIFIED:20231104T084627Z
UID:10000540-1644667200-1644670800@operaatioruokakassi.fi
SUMMARY:Raision vapaaseurakunta
DESCRIPTION:Ovet avataan klo 11\, jolloin voi tulla kuuntelemaan hengellistä musiikkia ja hartaushetkeä\, mutta RUOKAKASSIEN jako\, RUOKAILU\, KAHVIO ja KIRPPUTORI aukeavat klo 12.
URL:https://operaatioruokakassi.fi/event/raision-vapaaseurakunta-3/2022-02-12/
LOCATION:Raision Vapaaseurakunta\, Frälsintie 20\, Raisio\, 21200
ORGANIZER;CN="Marja-Terttu Lampinen":MAILTO:m-t.lampinen@suomi24.fi
END:VEVENT
BEGIN:VEVENT
DTSTART;TZID=UTC:20220108T120000
DTEND;TZID=UTC:20220108T130000
DTSTAMP:20260424T001959
CREATED:20211014T054454Z
LAST-MODIFIED:20231104T084627Z
UID:10000539-1641643200-1641646800@operaatioruokakassi.fi
SUMMARY:Raision vapaaseurakunta
DESCRIPTION:Ovet avataan klo 11\, jolloin voi tulla kuuntelemaan hengellistä musiikkia ja hartaushetkeä\, mutta RUOKAKASSIEN jako\, RUOKAILU\, KAHVIO ja KIRPPUTORI aukeavat klo 12.
URL:https://operaatioruokakassi.fi/event/raision-vapaaseurakunta-3/2022-01-08/
LOCATION:Raision Vapaaseurakunta\, Frälsintie 20\, Raisio\, 21200
ORGANIZER;CN="Marja-Terttu Lampinen":MAILTO:m-t.lampinen@suomi24.fi
END:VEVENT
BEGIN:VEVENT
DTSTART;TZID=UTC:20211211T120000
DTEND;TZID=UTC:20211211T130000
DTSTAMP:20260424T001959
CREATED:20211014T054454Z
LAST-MODIFIED:20231104T084627Z
UID:10000538-1639224000-1639227600@operaatioruokakassi.fi
SUMMARY:Raision vapaaseurakunta
DESCRIPTION:Ovet avataan klo 11\, jolloin voi tulla kuuntelemaan hengellistä musiikkia ja hartaushetkeä\, mutta RUOKAKASSIEN jako\, RUOKAILU\, KAHVIO ja KIRPPUTORI aukeavat klo 12.
URL:https://operaatioruokakassi.fi/event/raision-vapaaseurakunta-3/2021-12-11/
LOCATION:Raision Vapaaseurakunta\, Frälsintie 20\, Raisio\, 21200
ORGANIZER;CN="Marja-Terttu Lampinen":MAILTO:m-t.lampinen@suomi24.fi
END:VEVENT
BEGIN:VEVENT
DTSTART;TZID=UTC:20211113T120000
DTEND;TZID=UTC:20211113T130000
DTSTAMP:20260424T001959
CREATED:20211014T054454Z
LAST-MODIFIED:20231104T084627Z
UID:10000537-1636804800-1636808400@operaatioruokakassi.fi
SUMMARY:Raision vapaaseurakunta
DESCRIPTION:Ovet avataan klo 11\, jolloin voi tulla kuuntelemaan hengellistä musiikkia ja hartaushetkeä\, mutta RUOKAKASSIEN jako\, RUOKAILU\, KAHVIO ja KIRPPUTORI aukeavat klo 12.
URL:https://operaatioruokakassi.fi/event/raision-vapaaseurakunta-3/2021-11-13/
LOCATION:Raision Vapaaseurakunta\, Frälsintie 20\, Raisio\, 21200
ORGANIZER;CN="Marja-Terttu Lampinen":MAILTO:m-t.lampinen@suomi24.fi
END:VEVENT
BEGIN:VEVENT
DTSTART;TZID=UTC:20211009T100000
DTEND;TZID=UTC:20211009T120000
DTSTAMP:20260424T001959
CREATED:20210924T060841Z
LAST-MODIFIED:20210924T060841Z
UID:10000088-1633773600-1633780800@operaatioruokakassi.fi
SUMMARY:Raision vapaaseurakunta
DESCRIPTION:
URL:https://operaatioruokakassi.fi/event/raision-vapaaseurakunta-2/
LOCATION:Raision Vapaaseurakunta\, Frälsintie 20\, Raisio\, 21200
ORGANIZER;CN="Marja-Terttu Lampinen":MAILTO:m-t.lampinen@suomi24.fi
END:VEVENT
END:VCALENDAR