BEGIN:VCALENDAR
VERSION:2.0
PRODID:-//Operaatio Ruokakassi - ECPv6.15.20//NONSGML v1.0//EN
CALSCALE:GREGORIAN
METHOD:PUBLISH
X-ORIGINAL-URL:https://operaatioruokakassi.fi
X-WR-CALDESC:Tapahtumat Operaatio Ruokakassi
REFRESH-INTERVAL;VALUE=DURATION:PT1H
X-Robots-Tag:noindex
X-PUBLISHED-TTL:PT1H
BEGIN:VTIMEZONE
TZID:UTC
BEGIN:STANDARD
TZOFFSETFROM:+0000
TZOFFSETTO:+0000
TZNAME:UTC
DTSTART:20210101T000000
END:STANDARD
END:VTIMEZONE
BEGIN:VEVENT
DTSTART;TZID=UTC:20221223T170000
DTEND;TZID=UTC:20221223T200000
DTSTAMP:20260424T082514
CREATED:20221121T113536Z
LAST-MODIFIED:20221216T064337Z
UID:10000002-1671814800-1671825600@operaatioruokakassi.fi
SUMMARY:Vähävaraisten joulujuhla Logomossa
DESCRIPTION:Vähävaraisten joulujuhla järjestetään Logomossa 23.12.2022\, ja kyseessä on 25. juhlavuosi! Ovet vieraille avataan klo 16.00. Juhlaan ei ole ennakkoilmoittautumista\, vaan sisään otetaan noin tuhat ensimmäistä paikalle saapunutta. \nJoulupöydän antimien lisäksi luvassa on musiikkia\, esityksiä sekä lopuksi ruokakassien jako. Joulujuhla on suunnattu vähävaraisille\, työttömille ja muille avun tarpeessa oleville. Mukana juhlaa mahdollistamassa ovat Operaatio Ruokakassin jäsenyhteisöt\, yhteistyökumppanit sekä useat vapaaehtoiset.
URL:https://operaatioruokakassi.fi/event/vahavaraisten-joulujuhla-logomossa/
LOCATION:Logomo\, Junakatu 9\, Turku\, 20100
ORGANIZER;CN="Julia Lastunen":MAILTO:julia.lastunen@operaatioruokakassi.fi
END:VEVENT
END:VCALENDAR