BEGIN:VCALENDAR
VERSION:2.0
PRODID:-//Operaatio Ruokakassi - ECPv6.15.20//NONSGML v1.0//EN
CALSCALE:GREGORIAN
METHOD:PUBLISH
X-ORIGINAL-URL:https://operaatioruokakassi.fi
X-WR-CALDESC:Tapahtumat Operaatio Ruokakassi
REFRESH-INTERVAL;VALUE=DURATION:PT1H
X-Robots-Tag:noindex
X-PUBLISHED-TTL:PT1H
BEGIN:VTIMEZONE
TZID:UTC
BEGIN:STANDARD
TZOFFSETFROM:+0000
TZOFFSETTO:+0000
TZNAME:UTC
DTSTART:20200101T000000
END:STANDARD
END:VTIMEZONE
BEGIN:VEVENT
DTSTART;TZID=UTC:20210604T113000
DTEND;TZID=UTC:20210604T124500
DTSTAMP:20260424T083216
CREATED:20210510T065441Z
LAST-MODIFIED:20210510T065517Z
UID:10000598-1622806200-1622810700@operaatioruokakassi.fi
SUMMARY:Katulähetys
DESCRIPTION:
URL:https://operaatioruokakassi.fi/event/katulahetys-4/2021-06-04/
LOCATION:Katulähetys\, Läntinen pitkäkatu 8\, TURKU\, 20100
ATTACH;FMTTYPE=image/png:https://operaatioruokakassi.fi/wp-content/uploads/2021/04/KLahetysLogo.png
END:VEVENT
BEGIN:VEVENT
DTSTART;TZID=UTC:20210602T113000
DTEND;TZID=UTC:20210602T124500
DTSTAMP:20260424T083216
CREATED:20210510T065441Z
LAST-MODIFIED:20210510T065517Z
UID:10000597-1622633400-1622637900@operaatioruokakassi.fi
SUMMARY:Katulähetys
DESCRIPTION:
URL:https://operaatioruokakassi.fi/event/katulahetys-4/2021-06-02/
LOCATION:Katulähetys\, Läntinen pitkäkatu 8\, TURKU\, 20100
ATTACH;FMTTYPE=image/png:https://operaatioruokakassi.fi/wp-content/uploads/2021/04/KLahetysLogo.png
END:VEVENT
BEGIN:VEVENT
DTSTART;TZID=UTC:20210531T113000
DTEND;TZID=UTC:20210531T124500
DTSTAMP:20260424T083216
CREATED:20210510T065441Z
LAST-MODIFIED:20210510T065517Z
UID:10000596-1622460600-1622465100@operaatioruokakassi.fi
SUMMARY:Katulähetys
DESCRIPTION:
URL:https://operaatioruokakassi.fi/event/katulahetys-4/2021-05-31/
LOCATION:Katulähetys\, Läntinen pitkäkatu 8\, TURKU\, 20100
ATTACH;FMTTYPE=image/png:https://operaatioruokakassi.fi/wp-content/uploads/2021/04/KLahetysLogo.png
END:VEVENT
BEGIN:VEVENT
DTSTART;TZID=UTC:20210528T113000
DTEND;TZID=UTC:20210528T124500
DTSTAMP:20260424T083216
CREATED:20210510T065441Z
LAST-MODIFIED:20210510T065517Z
UID:10000595-1622201400-1622205900@operaatioruokakassi.fi
SUMMARY:Katulähetys
DESCRIPTION:
URL:https://operaatioruokakassi.fi/event/katulahetys-4/2021-05-28/
LOCATION:Katulähetys\, Läntinen pitkäkatu 8\, TURKU\, 20100
ATTACH;FMTTYPE=image/png:https://operaatioruokakassi.fi/wp-content/uploads/2021/04/KLahetysLogo.png
END:VEVENT
BEGIN:VEVENT
DTSTART;TZID=UTC:20210526T113000
DTEND;TZID=UTC:20210526T124500
DTSTAMP:20260424T083216
CREATED:20210510T065441Z
LAST-MODIFIED:20210510T065517Z
UID:10000594-1622028600-1622033100@operaatioruokakassi.fi
SUMMARY:Katulähetys
DESCRIPTION:
URL:https://operaatioruokakassi.fi/event/katulahetys-4/2021-05-26/
LOCATION:Katulähetys\, Läntinen pitkäkatu 8\, TURKU\, 20100
ATTACH;FMTTYPE=image/png:https://operaatioruokakassi.fi/wp-content/uploads/2021/04/KLahetysLogo.png
END:VEVENT
BEGIN:VEVENT
DTSTART;TZID=UTC:20210524T113000
DTEND;TZID=UTC:20210524T124500
DTSTAMP:20260424T083216
CREATED:20210510T065441Z
LAST-MODIFIED:20210510T065517Z
UID:10000593-1621855800-1621860300@operaatioruokakassi.fi
SUMMARY:Katulähetys
DESCRIPTION:
URL:https://operaatioruokakassi.fi/event/katulahetys-4/2021-05-24/
LOCATION:Katulähetys\, Läntinen pitkäkatu 8\, TURKU\, 20100
ATTACH;FMTTYPE=image/png:https://operaatioruokakassi.fi/wp-content/uploads/2021/04/KLahetysLogo.png
END:VEVENT
BEGIN:VEVENT
DTSTART;TZID=UTC:20210521T113000
DTEND;TZID=UTC:20210521T124500
DTSTAMP:20260424T083216
CREATED:20210510T065441Z
LAST-MODIFIED:20210510T065517Z
UID:10000592-1621596600-1621601100@operaatioruokakassi.fi
SUMMARY:Katulähetys
DESCRIPTION:
URL:https://operaatioruokakassi.fi/event/katulahetys-4/2021-05-21/
LOCATION:Katulähetys\, Läntinen pitkäkatu 8\, TURKU\, 20100
ATTACH;FMTTYPE=image/png:https://operaatioruokakassi.fi/wp-content/uploads/2021/04/KLahetysLogo.png
END:VEVENT
BEGIN:VEVENT
DTSTART;TZID=UTC:20210519T113000
DTEND;TZID=UTC:20210519T124500
DTSTAMP:20260424T083216
CREATED:20210510T065441Z
LAST-MODIFIED:20210510T065517Z
UID:10000591-1621423800-1621428300@operaatioruokakassi.fi
SUMMARY:Katulähetys
DESCRIPTION:
URL:https://operaatioruokakassi.fi/event/katulahetys-4/2021-05-19/
LOCATION:Katulähetys\, Läntinen pitkäkatu 8\, TURKU\, 20100
ATTACH;FMTTYPE=image/png:https://operaatioruokakassi.fi/wp-content/uploads/2021/04/KLahetysLogo.png
END:VEVENT
BEGIN:VEVENT
DTSTART;TZID=UTC:20210517T113000
DTEND;TZID=UTC:20210517T124500
DTSTAMP:20260424T083216
CREATED:20210510T065441Z
LAST-MODIFIED:20210510T065517Z
UID:10000590-1621251000-1621255500@operaatioruokakassi.fi
SUMMARY:Katulähetys
DESCRIPTION:
URL:https://operaatioruokakassi.fi/event/katulahetys-4/2021-05-17/
LOCATION:Katulähetys\, Läntinen pitkäkatu 8\, TURKU\, 20100
ATTACH;FMTTYPE=image/png:https://operaatioruokakassi.fi/wp-content/uploads/2021/04/KLahetysLogo.png
END:VEVENT
BEGIN:VEVENT
DTSTART;TZID=UTC:20210514T113000
DTEND;TZID=UTC:20210514T124500
DTSTAMP:20260424T083216
CREATED:20210510T065441Z
LAST-MODIFIED:20210510T065517Z
UID:10000589-1620991800-1620996300@operaatioruokakassi.fi
SUMMARY:Katulähetys
DESCRIPTION:
URL:https://operaatioruokakassi.fi/event/katulahetys-4/2021-05-14/
LOCATION:Katulähetys\, Läntinen pitkäkatu 8\, TURKU\, 20100
ATTACH;FMTTYPE=image/png:https://operaatioruokakassi.fi/wp-content/uploads/2021/04/KLahetysLogo.png
END:VEVENT
BEGIN:VEVENT
DTSTART;TZID=UTC:20210512T113000
DTEND;TZID=UTC:20210512T124500
DTSTAMP:20260424T083216
CREATED:20210510T065441Z
LAST-MODIFIED:20210510T065517Z
UID:10000588-1620819000-1620823500@operaatioruokakassi.fi
SUMMARY:Katulähetys
DESCRIPTION:
URL:https://operaatioruokakassi.fi/event/katulahetys-4/2021-05-12/
LOCATION:Katulähetys\, Läntinen pitkäkatu 8\, TURKU\, 20100
ATTACH;FMTTYPE=image/png:https://operaatioruokakassi.fi/wp-content/uploads/2021/04/KLahetysLogo.png
END:VEVENT
BEGIN:VEVENT
DTSTART;TZID=UTC:20210510T113000
DTEND;TZID=UTC:20210510T124500
DTSTAMP:20260424T083216
CREATED:20210510T065441Z
LAST-MODIFIED:20210510T065517Z
UID:10000587-1620646200-1620650700@operaatioruokakassi.fi
SUMMARY:Katulähetys
DESCRIPTION:
URL:https://operaatioruokakassi.fi/event/katulahetys-4/2021-05-10/
LOCATION:Katulähetys\, Läntinen pitkäkatu 8\, TURKU\, 20100
ATTACH;FMTTYPE=image/png:https://operaatioruokakassi.fi/wp-content/uploads/2021/04/KLahetysLogo.png
END:VEVENT
BEGIN:VEVENT
DTSTART;TZID=UTC:20210507T113000
DTEND;TZID=UTC:20210507T124500
DTSTAMP:20260424T083216
CREATED:20210423T065226Z
LAST-MODIFIED:20210423T065226Z
UID:10000614-1620387000-1620391500@operaatioruokakassi.fi
SUMMARY:Katulähetys
DESCRIPTION:
URL:https://operaatioruokakassi.fi/event/katulahetys-3/
LOCATION:Katulähetys\, Läntinen pitkäkatu 8\, TURKU\, 20100
ATTACH;FMTTYPE=image/png:https://operaatioruokakassi.fi/wp-content/uploads/2021/04/KLahetysLogo.png
END:VEVENT
BEGIN:VEVENT
DTSTART;TZID=UTC:20210505T113000
DTEND;TZID=UTC:20210505T124500
DTSTAMP:20260424T083216
CREATED:20210423T065026Z
LAST-MODIFIED:20210423T065026Z
UID:10000089-1620214200-1620218700@operaatioruokakassi.fi
SUMMARY:Katulähetys
DESCRIPTION:
URL:https://operaatioruokakassi.fi/event/katulahetys-2/
LOCATION:Katulähetys\, Läntinen pitkäkatu 8\, TURKU\, 20100
ATTACH;FMTTYPE=image/png:https://operaatioruokakassi.fi/wp-content/uploads/2021/04/KLahetysLogo.png
END:VEVENT
BEGIN:VEVENT
DTSTART;TZID=UTC:20210503T113000
DTEND;TZID=UTC:20210503T124500
DTSTAMP:20260424T083216
CREATED:20210423T061223Z
LAST-MODIFIED:20210423T061505Z
UID:10000085-1620041400-1620045900@operaatioruokakassi.fi
SUMMARY:Katulähetys
DESCRIPTION:
URL:https://operaatioruokakassi.fi/event/katulahetys/
LOCATION:Katulähetys\, Läntinen pitkäkatu 8\, TURKU\, 20100
ATTACH;FMTTYPE=image/png:https://operaatioruokakassi.fi/wp-content/uploads/2021/04/KLahetysLogo.png
END:VEVENT
END:VCALENDAR