BEGIN:VCALENDAR
VERSION:2.0
PRODID:-//Operaatio Ruokakassi - ECPv6.15.20//NONSGML v1.0//EN
CALSCALE:GREGORIAN
METHOD:PUBLISH
X-WR-CALNAME:Operaatio Ruokakassi
X-ORIGINAL-URL:https://operaatioruokakassi.fi
X-WR-CALDESC:Tapahtumat Operaatio Ruokakassi
REFRESH-INTERVAL;VALUE=DURATION:PT1H
X-Robots-Tag:noindex
X-PUBLISHED-TTL:PT1H
BEGIN:VTIMEZONE
TZID:UTC
BEGIN:STANDARD
TZOFFSETFROM:+0000
TZOFFSETTO:+0000
TZNAME:UTC
DTSTART:20200101T000000
END:STANDARD
END:VTIMEZONE
BEGIN:VEVENT
DTSTART;TZID=UTC:20210730T120000
DTEND;TZID=UTC:20210730T130000
DTSTAMP:20260424T054752
CREATED:20210615T073407Z
LAST-MODIFIED:20210615T073452Z
UID:10000383-1627646400-1627650000@operaatioruokakassi.fi
SUMMARY:Katulähetys
DESCRIPTION:Ruokaa jaetaan niin kauan kun riittää.
URL:https://operaatioruokakassi.fi/event/katulahetys-6/2021-07-30/
LOCATION:Katulähetys\, Läntinen pitkäkatu 8\, TURKU\, 20100
ATTACH;FMTTYPE=image/png:https://operaatioruokakassi.fi/wp-content/uploads/2021/04/KLahetysLogo.png
END:VEVENT
BEGIN:VEVENT
DTSTART;TZID=UTC:20210728T120000
DTEND;TZID=UTC:20210728T130000
DTSTAMP:20260424T054752
CREATED:20210615T073407Z
LAST-MODIFIED:20210615T073452Z
UID:10000382-1627473600-1627477200@operaatioruokakassi.fi
SUMMARY:Katulähetys
DESCRIPTION:Ruokaa jaetaan niin kauan kun riittää.
URL:https://operaatioruokakassi.fi/event/katulahetys-6/2021-07-28/
LOCATION:Katulähetys\, Läntinen pitkäkatu 8\, TURKU\, 20100
ATTACH;FMTTYPE=image/png:https://operaatioruokakassi.fi/wp-content/uploads/2021/04/KLahetysLogo.png
END:VEVENT
BEGIN:VEVENT
DTSTART;TZID=UTC:20210726T110000
DTEND;TZID=UTC:20210726T113000
DTSTAMP:20260424T054752
CREATED:20210615T073140Z
LAST-MODIFIED:20210615T073140Z
UID:10000613-1627297200-1627299000@operaatioruokakassi.fi
SUMMARY:Katulähetys
DESCRIPTION:Liikuntarajoitteiset ja pienten lasten perheet maanantaisin elintarvikejakelu (sisäpihankautta)
URL:https://operaatioruokakassi.fi/event/katulahetys-5/2021-07-26/
LOCATION:Katulähetys\, Läntinen pitkäkatu 8\, TURKU\, 20100
ATTACH;FMTTYPE=image/png:https://operaatioruokakassi.fi/wp-content/uploads/2021/04/KLahetysLogo.png
END:VEVENT
BEGIN:VEVENT
DTSTART;TZID=UTC:20210723T120000
DTEND;TZID=UTC:20210723T130000
DTSTAMP:20260424T054752
CREATED:20210615T073407Z
LAST-MODIFIED:20210615T073452Z
UID:10000381-1627041600-1627045200@operaatioruokakassi.fi
SUMMARY:Katulähetys
DESCRIPTION:Ruokaa jaetaan niin kauan kun riittää.
URL:https://operaatioruokakassi.fi/event/katulahetys-6/2021-07-23/
LOCATION:Katulähetys\, Läntinen pitkäkatu 8\, TURKU\, 20100
ATTACH;FMTTYPE=image/png:https://operaatioruokakassi.fi/wp-content/uploads/2021/04/KLahetysLogo.png
END:VEVENT
BEGIN:VEVENT
DTSTART;TZID=UTC:20210721T120000
DTEND;TZID=UTC:20210721T130000
DTSTAMP:20260424T054752
CREATED:20210615T073407Z
LAST-MODIFIED:20210615T073452Z
UID:10000380-1626868800-1626872400@operaatioruokakassi.fi
SUMMARY:Katulähetys
DESCRIPTION:Ruokaa jaetaan niin kauan kun riittää.
URL:https://operaatioruokakassi.fi/event/katulahetys-6/2021-07-21/
LOCATION:Katulähetys\, Läntinen pitkäkatu 8\, TURKU\, 20100
ATTACH;FMTTYPE=image/png:https://operaatioruokakassi.fi/wp-content/uploads/2021/04/KLahetysLogo.png
END:VEVENT
BEGIN:VEVENT
DTSTART;TZID=UTC:20210719T110000
DTEND;TZID=UTC:20210719T113000
DTSTAMP:20260424T054752
CREATED:20210615T073140Z
LAST-MODIFIED:20210615T073140Z
UID:10000612-1626692400-1626694200@operaatioruokakassi.fi
SUMMARY:Katulähetys
DESCRIPTION:Liikuntarajoitteiset ja pienten lasten perheet maanantaisin elintarvikejakelu (sisäpihankautta)
URL:https://operaatioruokakassi.fi/event/katulahetys-5/2021-07-19/
LOCATION:Katulähetys\, Läntinen pitkäkatu 8\, TURKU\, 20100
ATTACH;FMTTYPE=image/png:https://operaatioruokakassi.fi/wp-content/uploads/2021/04/KLahetysLogo.png
END:VEVENT
BEGIN:VEVENT
DTSTART;TZID=UTC:20210716T120000
DTEND;TZID=UTC:20210716T130000
DTSTAMP:20260424T054752
CREATED:20210615T073407Z
LAST-MODIFIED:20210615T073452Z
UID:10000379-1626436800-1626440400@operaatioruokakassi.fi
SUMMARY:Katulähetys
DESCRIPTION:Ruokaa jaetaan niin kauan kun riittää.
URL:https://operaatioruokakassi.fi/event/katulahetys-6/2021-07-16/
LOCATION:Katulähetys\, Läntinen pitkäkatu 8\, TURKU\, 20100
ATTACH;FMTTYPE=image/png:https://operaatioruokakassi.fi/wp-content/uploads/2021/04/KLahetysLogo.png
END:VEVENT
BEGIN:VEVENT
DTSTART;TZID=UTC:20210714T120000
DTEND;TZID=UTC:20210714T130000
DTSTAMP:20260424T054752
CREATED:20210615T073407Z
LAST-MODIFIED:20210615T073452Z
UID:10000378-1626264000-1626267600@operaatioruokakassi.fi
SUMMARY:Katulähetys
DESCRIPTION:Ruokaa jaetaan niin kauan kun riittää.
URL:https://operaatioruokakassi.fi/event/katulahetys-6/2021-07-14/
LOCATION:Katulähetys\, Läntinen pitkäkatu 8\, TURKU\, 20100
ATTACH;FMTTYPE=image/png:https://operaatioruokakassi.fi/wp-content/uploads/2021/04/KLahetysLogo.png
END:VEVENT
BEGIN:VEVENT
DTSTART;TZID=UTC:20210712T110000
DTEND;TZID=UTC:20210712T113000
DTSTAMP:20260424T054752
CREATED:20210615T073140Z
LAST-MODIFIED:20210615T073140Z
UID:10000611-1626087600-1626089400@operaatioruokakassi.fi
SUMMARY:Katulähetys
DESCRIPTION:Liikuntarajoitteiset ja pienten lasten perheet maanantaisin elintarvikejakelu (sisäpihankautta)
URL:https://operaatioruokakassi.fi/event/katulahetys-5/2021-07-12/
LOCATION:Katulähetys\, Läntinen pitkäkatu 8\, TURKU\, 20100
ATTACH;FMTTYPE=image/png:https://operaatioruokakassi.fi/wp-content/uploads/2021/04/KLahetysLogo.png
END:VEVENT
BEGIN:VEVENT
DTSTART;TZID=UTC:20210709T120000
DTEND;TZID=UTC:20210709T130000
DTSTAMP:20260424T054752
CREATED:20210615T073407Z
LAST-MODIFIED:20210615T073452Z
UID:10000377-1625832000-1625835600@operaatioruokakassi.fi
SUMMARY:Katulähetys
DESCRIPTION:Ruokaa jaetaan niin kauan kun riittää.
URL:https://operaatioruokakassi.fi/event/katulahetys-6/2021-07-09/
LOCATION:Katulähetys\, Läntinen pitkäkatu 8\, TURKU\, 20100
ATTACH;FMTTYPE=image/png:https://operaatioruokakassi.fi/wp-content/uploads/2021/04/KLahetysLogo.png
END:VEVENT
BEGIN:VEVENT
DTSTART;TZID=UTC:20210707T120000
DTEND;TZID=UTC:20210707T130000
DTSTAMP:20260424T054752
CREATED:20210615T073407Z
LAST-MODIFIED:20210615T073452Z
UID:10000376-1625659200-1625662800@operaatioruokakassi.fi
SUMMARY:Katulähetys
DESCRIPTION:Ruokaa jaetaan niin kauan kun riittää.
URL:https://operaatioruokakassi.fi/event/katulahetys-6/2021-07-07/
LOCATION:Katulähetys\, Läntinen pitkäkatu 8\, TURKU\, 20100
ATTACH;FMTTYPE=image/png:https://operaatioruokakassi.fi/wp-content/uploads/2021/04/KLahetysLogo.png
END:VEVENT
BEGIN:VEVENT
DTSTART;TZID=UTC:20210705T110000
DTEND;TZID=UTC:20210705T113000
DTSTAMP:20260424T054752
CREATED:20210615T073140Z
LAST-MODIFIED:20210615T073140Z
UID:10000610-1625482800-1625484600@operaatioruokakassi.fi
SUMMARY:Katulähetys
DESCRIPTION:Liikuntarajoitteiset ja pienten lasten perheet maanantaisin elintarvikejakelu (sisäpihankautta)
URL:https://operaatioruokakassi.fi/event/katulahetys-5/2021-07-05/
LOCATION:Katulähetys\, Läntinen pitkäkatu 8\, TURKU\, 20100
ATTACH;FMTTYPE=image/png:https://operaatioruokakassi.fi/wp-content/uploads/2021/04/KLahetysLogo.png
END:VEVENT
BEGIN:VEVENT
DTSTART;TZID=UTC:20210702T120000
DTEND;TZID=UTC:20210702T130000
DTSTAMP:20260424T054752
CREATED:20210615T073407Z
LAST-MODIFIED:20210615T073452Z
UID:10000375-1625227200-1625230800@operaatioruokakassi.fi
SUMMARY:Katulähetys
DESCRIPTION:Ruokaa jaetaan niin kauan kun riittää.
URL:https://operaatioruokakassi.fi/event/katulahetys-6/2021-07-02/
LOCATION:Katulähetys\, Läntinen pitkäkatu 8\, TURKU\, 20100
ATTACH;FMTTYPE=image/png:https://operaatioruokakassi.fi/wp-content/uploads/2021/04/KLahetysLogo.png
END:VEVENT
BEGIN:VEVENT
DTSTART;TZID=UTC:20210630T113000
DTEND;TZID=UTC:20210630T124500
DTSTAMP:20260424T054752
CREATED:20210510T065441Z
LAST-MODIFIED:20210510T065517Z
UID:10000609-1625052600-1625057100@operaatioruokakassi.fi
SUMMARY:Katulähetys
DESCRIPTION:
URL:https://operaatioruokakassi.fi/event/katulahetys-4/2021-06-30/
LOCATION:Katulähetys\, Läntinen pitkäkatu 8\, TURKU\, 20100
ATTACH;FMTTYPE=image/png:https://operaatioruokakassi.fi/wp-content/uploads/2021/04/KLahetysLogo.png
END:VEVENT
BEGIN:VEVENT
DTSTART;TZID=UTC:20210628T113000
DTEND;TZID=UTC:20210628T124500
DTSTAMP:20260424T054752
CREATED:20210510T065441Z
LAST-MODIFIED:20210510T065517Z
UID:10000608-1624879800-1624884300@operaatioruokakassi.fi
SUMMARY:Katulähetys
DESCRIPTION:
URL:https://operaatioruokakassi.fi/event/katulahetys-4/2021-06-28/
LOCATION:Katulähetys\, Läntinen pitkäkatu 8\, TURKU\, 20100
ATTACH;FMTTYPE=image/png:https://operaatioruokakassi.fi/wp-content/uploads/2021/04/KLahetysLogo.png
END:VEVENT
BEGIN:VEVENT
DTSTART;TZID=UTC:20210625T113000
DTEND;TZID=UTC:20210625T124500
DTSTAMP:20260424T054752
CREATED:20210510T065441Z
LAST-MODIFIED:20210510T065517Z
UID:10000607-1624620600-1624625100@operaatioruokakassi.fi
SUMMARY:Katulähetys
DESCRIPTION:
URL:https://operaatioruokakassi.fi/event/katulahetys-4/2021-06-25/
LOCATION:Katulähetys\, Läntinen pitkäkatu 8\, TURKU\, 20100
ATTACH;FMTTYPE=image/png:https://operaatioruokakassi.fi/wp-content/uploads/2021/04/KLahetysLogo.png
END:VEVENT
BEGIN:VEVENT
DTSTART;TZID=UTC:20210623T113000
DTEND;TZID=UTC:20210623T124500
DTSTAMP:20260424T054752
CREATED:20210510T065441Z
LAST-MODIFIED:20210510T065517Z
UID:10000606-1624447800-1624452300@operaatioruokakassi.fi
SUMMARY:Katulähetys
DESCRIPTION:
URL:https://operaatioruokakassi.fi/event/katulahetys-4/2021-06-23/
LOCATION:Katulähetys\, Läntinen pitkäkatu 8\, TURKU\, 20100
ATTACH;FMTTYPE=image/png:https://operaatioruokakassi.fi/wp-content/uploads/2021/04/KLahetysLogo.png
END:VEVENT
BEGIN:VEVENT
DTSTART;TZID=UTC:20210621T113000
DTEND;TZID=UTC:20210621T124500
DTSTAMP:20260424T054752
CREATED:20210510T065441Z
LAST-MODIFIED:20210510T065517Z
UID:10000605-1624275000-1624279500@operaatioruokakassi.fi
SUMMARY:Katulähetys
DESCRIPTION:
URL:https://operaatioruokakassi.fi/event/katulahetys-4/2021-06-21/
LOCATION:Katulähetys\, Läntinen pitkäkatu 8\, TURKU\, 20100
ATTACH;FMTTYPE=image/png:https://operaatioruokakassi.fi/wp-content/uploads/2021/04/KLahetysLogo.png
END:VEVENT
BEGIN:VEVENT
DTSTART;TZID=UTC:20210618T113000
DTEND;TZID=UTC:20210618T124500
DTSTAMP:20260424T054752
CREATED:20210510T065441Z
LAST-MODIFIED:20210510T065517Z
UID:10000604-1624015800-1624020300@operaatioruokakassi.fi
SUMMARY:Katulähetys
DESCRIPTION:
URL:https://operaatioruokakassi.fi/event/katulahetys-4/2021-06-18/
LOCATION:Katulähetys\, Läntinen pitkäkatu 8\, TURKU\, 20100
ATTACH;FMTTYPE=image/png:https://operaatioruokakassi.fi/wp-content/uploads/2021/04/KLahetysLogo.png
END:VEVENT
BEGIN:VEVENT
DTSTART;TZID=UTC:20210616T113000
DTEND;TZID=UTC:20210616T124500
DTSTAMP:20260424T054752
CREATED:20210510T065441Z
LAST-MODIFIED:20210510T065517Z
UID:10000603-1623843000-1623847500@operaatioruokakassi.fi
SUMMARY:Katulähetys
DESCRIPTION:
URL:https://operaatioruokakassi.fi/event/katulahetys-4/2021-06-16/
LOCATION:Katulähetys\, Läntinen pitkäkatu 8\, TURKU\, 20100
ATTACH;FMTTYPE=image/png:https://operaatioruokakassi.fi/wp-content/uploads/2021/04/KLahetysLogo.png
END:VEVENT
BEGIN:VEVENT
DTSTART;TZID=UTC:20210614T113000
DTEND;TZID=UTC:20210614T124500
DTSTAMP:20260424T054752
CREATED:20210510T065441Z
LAST-MODIFIED:20210510T065517Z
UID:10000602-1623670200-1623674700@operaatioruokakassi.fi
SUMMARY:Katulähetys
DESCRIPTION:
URL:https://operaatioruokakassi.fi/event/katulahetys-4/2021-06-14/
LOCATION:Katulähetys\, Läntinen pitkäkatu 8\, TURKU\, 20100
ATTACH;FMTTYPE=image/png:https://operaatioruokakassi.fi/wp-content/uploads/2021/04/KLahetysLogo.png
END:VEVENT
BEGIN:VEVENT
DTSTART;TZID=UTC:20210611T113000
DTEND;TZID=UTC:20210611T124500
DTSTAMP:20260424T054752
CREATED:20210510T065441Z
LAST-MODIFIED:20210510T065517Z
UID:10000601-1623411000-1623415500@operaatioruokakassi.fi
SUMMARY:Katulähetys
DESCRIPTION:
URL:https://operaatioruokakassi.fi/event/katulahetys-4/2021-06-11/
LOCATION:Katulähetys\, Läntinen pitkäkatu 8\, TURKU\, 20100
ATTACH;FMTTYPE=image/png:https://operaatioruokakassi.fi/wp-content/uploads/2021/04/KLahetysLogo.png
END:VEVENT
BEGIN:VEVENT
DTSTART;TZID=UTC:20210609T113000
DTEND;TZID=UTC:20210609T124500
DTSTAMP:20260424T054752
CREATED:20210510T065441Z
LAST-MODIFIED:20210510T065517Z
UID:10000600-1623238200-1623242700@operaatioruokakassi.fi
SUMMARY:Katulähetys
DESCRIPTION:
URL:https://operaatioruokakassi.fi/event/katulahetys-4/2021-06-09/
LOCATION:Katulähetys\, Läntinen pitkäkatu 8\, TURKU\, 20100
ATTACH;FMTTYPE=image/png:https://operaatioruokakassi.fi/wp-content/uploads/2021/04/KLahetysLogo.png
END:VEVENT
BEGIN:VEVENT
DTSTART;TZID=UTC:20210607T113000
DTEND;TZID=UTC:20210607T124500
DTSTAMP:20260424T054752
CREATED:20210510T065441Z
LAST-MODIFIED:20210510T065517Z
UID:10000599-1623065400-1623069900@operaatioruokakassi.fi
SUMMARY:Katulähetys
DESCRIPTION:
URL:https://operaatioruokakassi.fi/event/katulahetys-4/2021-06-07/
LOCATION:Katulähetys\, Läntinen pitkäkatu 8\, TURKU\, 20100
ATTACH;FMTTYPE=image/png:https://operaatioruokakassi.fi/wp-content/uploads/2021/04/KLahetysLogo.png
END:VEVENT
BEGIN:VEVENT
DTSTART;TZID=UTC:20210604T113000
DTEND;TZID=UTC:20210604T124500
DTSTAMP:20260424T054752
CREATED:20210510T065441Z
LAST-MODIFIED:20210510T065517Z
UID:10000598-1622806200-1622810700@operaatioruokakassi.fi
SUMMARY:Katulähetys
DESCRIPTION:
URL:https://operaatioruokakassi.fi/event/katulahetys-4/2021-06-04/
LOCATION:Katulähetys\, Läntinen pitkäkatu 8\, TURKU\, 20100
ATTACH;FMTTYPE=image/png:https://operaatioruokakassi.fi/wp-content/uploads/2021/04/KLahetysLogo.png
END:VEVENT
BEGIN:VEVENT
DTSTART;TZID=UTC:20210602T113000
DTEND;TZID=UTC:20210602T124500
DTSTAMP:20260424T054752
CREATED:20210510T065441Z
LAST-MODIFIED:20210510T065517Z
UID:10000597-1622633400-1622637900@operaatioruokakassi.fi
SUMMARY:Katulähetys
DESCRIPTION:
URL:https://operaatioruokakassi.fi/event/katulahetys-4/2021-06-02/
LOCATION:Katulähetys\, Läntinen pitkäkatu 8\, TURKU\, 20100
ATTACH;FMTTYPE=image/png:https://operaatioruokakassi.fi/wp-content/uploads/2021/04/KLahetysLogo.png
END:VEVENT
BEGIN:VEVENT
DTSTART;TZID=UTC:20210531T113000
DTEND;TZID=UTC:20210531T124500
DTSTAMP:20260424T054752
CREATED:20210510T065441Z
LAST-MODIFIED:20210510T065517Z
UID:10000596-1622460600-1622465100@operaatioruokakassi.fi
SUMMARY:Katulähetys
DESCRIPTION:
URL:https://operaatioruokakassi.fi/event/katulahetys-4/2021-05-31/
LOCATION:Katulähetys\, Läntinen pitkäkatu 8\, TURKU\, 20100
ATTACH;FMTTYPE=image/png:https://operaatioruokakassi.fi/wp-content/uploads/2021/04/KLahetysLogo.png
END:VEVENT
BEGIN:VEVENT
DTSTART;TZID=UTC:20210528T113000
DTEND;TZID=UTC:20210528T124500
DTSTAMP:20260424T054752
CREATED:20210510T065441Z
LAST-MODIFIED:20210510T065517Z
UID:10000595-1622201400-1622205900@operaatioruokakassi.fi
SUMMARY:Katulähetys
DESCRIPTION:
URL:https://operaatioruokakassi.fi/event/katulahetys-4/2021-05-28/
LOCATION:Katulähetys\, Läntinen pitkäkatu 8\, TURKU\, 20100
ATTACH;FMTTYPE=image/png:https://operaatioruokakassi.fi/wp-content/uploads/2021/04/KLahetysLogo.png
END:VEVENT
BEGIN:VEVENT
DTSTART;TZID=UTC:20210526T113000
DTEND;TZID=UTC:20210526T124500
DTSTAMP:20260424T054752
CREATED:20210510T065441Z
LAST-MODIFIED:20210510T065517Z
UID:10000594-1622028600-1622033100@operaatioruokakassi.fi
SUMMARY:Katulähetys
DESCRIPTION:
URL:https://operaatioruokakassi.fi/event/katulahetys-4/2021-05-26/
LOCATION:Katulähetys\, Läntinen pitkäkatu 8\, TURKU\, 20100
ATTACH;FMTTYPE=image/png:https://operaatioruokakassi.fi/wp-content/uploads/2021/04/KLahetysLogo.png
END:VEVENT
BEGIN:VEVENT
DTSTART;TZID=UTC:20210524T113000
DTEND;TZID=UTC:20210524T124500
DTSTAMP:20260424T054752
CREATED:20210510T065441Z
LAST-MODIFIED:20210510T065517Z
UID:10000593-1621855800-1621860300@operaatioruokakassi.fi
SUMMARY:Katulähetys
DESCRIPTION:
URL:https://operaatioruokakassi.fi/event/katulahetys-4/2021-05-24/
LOCATION:Katulähetys\, Läntinen pitkäkatu 8\, TURKU\, 20100
ATTACH;FMTTYPE=image/png:https://operaatioruokakassi.fi/wp-content/uploads/2021/04/KLahetysLogo.png
END:VEVENT
END:VCALENDAR