BEGIN:VCALENDAR
VERSION:2.0
PRODID:-//Operaatio Ruokakassi - ECPv6.15.20//NONSGML v1.0//EN
CALSCALE:GREGORIAN
METHOD:PUBLISH
X-WR-CALNAME:Operaatio Ruokakassi
X-ORIGINAL-URL:https://operaatioruokakassi.fi
X-WR-CALDESC:Tapahtumat Operaatio Ruokakassi
REFRESH-INTERVAL;VALUE=DURATION:PT1H
X-Robots-Tag:noindex
X-PUBLISHED-TTL:PT1H
BEGIN:VTIMEZONE
TZID:Europe/Helsinki
BEGIN:DAYLIGHT
TZOFFSETFROM:+0200
TZOFFSETTO:+0300
TZNAME:EEST
DTSTART:20220327T010000
END:DAYLIGHT
BEGIN:STANDARD
TZOFFSETFROM:+0300
TZOFFSETTO:+0200
TZNAME:EET
DTSTART:20221030T010000
END:STANDARD
BEGIN:DAYLIGHT
TZOFFSETFROM:+0200
TZOFFSETTO:+0300
TZNAME:EEST
DTSTART:20230326T010000
END:DAYLIGHT
BEGIN:STANDARD
TZOFFSETFROM:+0300
TZOFFSETTO:+0200
TZNAME:EET
DTSTART:20231029T010000
END:STANDARD
BEGIN:DAYLIGHT
TZOFFSETFROM:+0200
TZOFFSETTO:+0300
TZNAME:EEST
DTSTART:20240331T010000
END:DAYLIGHT
BEGIN:STANDARD
TZOFFSETFROM:+0300
TZOFFSETTO:+0200
TZNAME:EET
DTSTART:20241027T010000
END:STANDARD
END:VTIMEZONE
BEGIN:VTIMEZONE
TZID:UTC
BEGIN:STANDARD
TZOFFSETFROM:+0000
TZOFFSETTO:+0000
TZNAME:UTC
DTSTART:20210101T000000
END:STANDARD
END:VTIMEZONE
BEGIN:VEVENT
DTSTART;TZID=Europe/Helsinki:20231121T110000
DTEND;TZID=Europe/Helsinki:20231121T130000
DTSTAMP:20260424T043426
CREATED:20230801T053124Z
LAST-MODIFIED:20231124T102450Z
UID:10001230-1700564400-1700571600@operaatioruokakassi.fi
SUMMARY:Turun Helluntaiseurakunta
DESCRIPTION:Tilaisuus ennen ruokajakoa.
URL:https://operaatioruokakassi.fi/event/turun-helluntaiseurakunta-5/2023-11-21/
LOCATION:Turun helluntaiseurakunta\, Puistokatu 6 b\, Turku\, 20200
ATTACH;FMTTYPE=image/png:https://operaatioruokakassi.fi/wp-content/uploads/2021/04/Helluntaiseurakunta-turku-3.png
END:VEVENT
BEGIN:VEVENT
DTSTART;TZID=Europe/Helsinki:20231107T110000
DTEND;TZID=Europe/Helsinki:20231107T130000
DTSTAMP:20260424T043426
CREATED:20230801T053124Z
LAST-MODIFIED:20231124T102450Z
UID:10001229-1699354800-1699362000@operaatioruokakassi.fi
SUMMARY:Turun Helluntaiseurakunta
DESCRIPTION:Tilaisuus ennen ruokajakoa.
URL:https://operaatioruokakassi.fi/event/turun-helluntaiseurakunta-5/2023-11-07/
LOCATION:Turun helluntaiseurakunta\, Puistokatu 6 b\, Turku\, 20200
ATTACH;FMTTYPE=image/png:https://operaatioruokakassi.fi/wp-content/uploads/2021/04/Helluntaiseurakunta-turku-3.png
END:VEVENT
BEGIN:VEVENT
DTSTART;TZID=Europe/Helsinki:20231024T110000
DTEND;TZID=Europe/Helsinki:20231024T130000
DTSTAMP:20260424T043426
CREATED:20230801T053124Z
LAST-MODIFIED:20231124T102450Z
UID:10001188-1698145200-1698152400@operaatioruokakassi.fi
SUMMARY:Turun Helluntaiseurakunta
DESCRIPTION:Tilaisuus ennen ruokajakoa.
URL:https://operaatioruokakassi.fi/event/turun-helluntaiseurakunta-5/2023-10-24/
LOCATION:Turun helluntaiseurakunta\, Puistokatu 6 b\, Turku\, 20200
ATTACH;FMTTYPE=image/png:https://operaatioruokakassi.fi/wp-content/uploads/2021/04/Helluntaiseurakunta-turku-3.png
END:VEVENT
BEGIN:VEVENT
DTSTART;TZID=Europe/Helsinki:20231010T110000
DTEND;TZID=Europe/Helsinki:20231010T130000
DTSTAMP:20260424T043426
CREATED:20230801T053124Z
LAST-MODIFIED:20231124T102450Z
UID:10001187-1696935600-1696942800@operaatioruokakassi.fi
SUMMARY:Turun Helluntaiseurakunta
DESCRIPTION:Tilaisuus ennen ruokajakoa.
URL:https://operaatioruokakassi.fi/event/turun-helluntaiseurakunta-5/2023-10-10/
LOCATION:Turun helluntaiseurakunta\, Puistokatu 6 b\, Turku\, 20200
ATTACH;FMTTYPE=image/png:https://operaatioruokakassi.fi/wp-content/uploads/2021/04/Helluntaiseurakunta-turku-3.png
END:VEVENT
BEGIN:VEVENT
DTSTART;TZID=Europe/Helsinki:20230926T110000
DTEND;TZID=Europe/Helsinki:20230926T130000
DTSTAMP:20260424T043426
CREATED:20230801T053124Z
LAST-MODIFIED:20231124T102450Z
UID:10001186-1695726000-1695733200@operaatioruokakassi.fi
SUMMARY:Turun Helluntaiseurakunta
DESCRIPTION:Tilaisuus ennen ruokajakoa.
URL:https://operaatioruokakassi.fi/event/turun-helluntaiseurakunta-5/2023-09-26/
LOCATION:Turun helluntaiseurakunta\, Puistokatu 6 b\, Turku\, 20200
ATTACH;FMTTYPE=image/png:https://operaatioruokakassi.fi/wp-content/uploads/2021/04/Helluntaiseurakunta-turku-3.png
END:VEVENT
BEGIN:VEVENT
DTSTART;TZID=Europe/Helsinki:20230912T110000
DTEND;TZID=Europe/Helsinki:20230912T130000
DTSTAMP:20260424T043426
CREATED:20230801T053124Z
LAST-MODIFIED:20231124T102450Z
UID:10001185-1694516400-1694523600@operaatioruokakassi.fi
SUMMARY:Turun Helluntaiseurakunta
DESCRIPTION:Tilaisuus ennen ruokajakoa.
URL:https://operaatioruokakassi.fi/event/turun-helluntaiseurakunta-5/2023-09-12/
LOCATION:Turun helluntaiseurakunta\, Puistokatu 6 b\, Turku\, 20200
ATTACH;FMTTYPE=image/png:https://operaatioruokakassi.fi/wp-content/uploads/2021/04/Helluntaiseurakunta-turku-3.png
END:VEVENT
BEGIN:VEVENT
DTSTART;TZID=Europe/Helsinki:20230829T110000
DTEND;TZID=Europe/Helsinki:20230829T130000
DTSTAMP:20260424T043426
CREATED:20230801T053124Z
LAST-MODIFIED:20231124T102450Z
UID:10001184-1693306800-1693314000@operaatioruokakassi.fi
SUMMARY:Turun Helluntaiseurakunta
DESCRIPTION:Tilaisuus ennen ruokajakoa.
URL:https://operaatioruokakassi.fi/event/turun-helluntaiseurakunta-5/2023-08-29/
LOCATION:Turun helluntaiseurakunta\, Puistokatu 6 b\, Turku\, 20200
ATTACH;FMTTYPE=image/png:https://operaatioruokakassi.fi/wp-content/uploads/2021/04/Helluntaiseurakunta-turku-3.png
END:VEVENT
BEGIN:VEVENT
DTSTART;TZID=UTC:20230606T110000
DTEND;TZID=UTC:20230606T130000
DTSTAMP:20260424T043426
CREATED:20230105T103026Z
LAST-MODIFIED:20230602T110743Z
UID:10000902-1686049200-1686056400@operaatioruokakassi.fi
SUMMARY:Turun Helluntaiseurakunta
DESCRIPTION:Tilaisuus ennen ruoka jakoa.
URL:https://operaatioruokakassi.fi/event/turun-helluntaiseurakunta-4/2023-06-06/
LOCATION:Turun helluntaiseurakunta\, Puistokatu 6 b\, Turku\, 20200
ATTACH;FMTTYPE=image/png:https://operaatioruokakassi.fi/wp-content/uploads/2021/05/Helluntaiseurakunta-turku.png
END:VEVENT
BEGIN:VEVENT
DTSTART;TZID=UTC:20230523T110000
DTEND;TZID=UTC:20230523T130000
DTSTAMP:20260424T043426
CREATED:20230105T103026Z
LAST-MODIFIED:20230602T110743Z
UID:10000882-1684839600-1684846800@operaatioruokakassi.fi
SUMMARY:Turun Helluntaiseurakunta
DESCRIPTION:Tilaisuus ennen ruoka jakoa.
URL:https://operaatioruokakassi.fi/event/turun-helluntaiseurakunta-4/2023-05-23/
LOCATION:Turun helluntaiseurakunta\, Puistokatu 6 b\, Turku\, 20200
ATTACH;FMTTYPE=image/png:https://operaatioruokakassi.fi/wp-content/uploads/2021/05/Helluntaiseurakunta-turku.png
END:VEVENT
BEGIN:VEVENT
DTSTART;TZID=UTC:20230509T110000
DTEND;TZID=UTC:20230509T130000
DTSTAMP:20260424T043426
CREATED:20230105T103026Z
LAST-MODIFIED:20230602T110743Z
UID:10000881-1683630000-1683637200@operaatioruokakassi.fi
SUMMARY:Turun Helluntaiseurakunta
DESCRIPTION:Tilaisuus ennen ruoka jakoa.
URL:https://operaatioruokakassi.fi/event/turun-helluntaiseurakunta-4/2023-05-09/
LOCATION:Turun helluntaiseurakunta\, Puistokatu 6 b\, Turku\, 20200
ATTACH;FMTTYPE=image/png:https://operaatioruokakassi.fi/wp-content/uploads/2021/05/Helluntaiseurakunta-turku.png
END:VEVENT
BEGIN:VEVENT
DTSTART;TZID=UTC:20230425T110000
DTEND;TZID=UTC:20230425T130000
DTSTAMP:20260424T043426
CREATED:20230105T103026Z
LAST-MODIFIED:20230602T110743Z
UID:10000880-1682420400-1682427600@operaatioruokakassi.fi
SUMMARY:Turun Helluntaiseurakunta
DESCRIPTION:Tilaisuus ennen ruoka jakoa.
URL:https://operaatioruokakassi.fi/event/turun-helluntaiseurakunta-4/2023-04-25/
LOCATION:Turun helluntaiseurakunta\, Puistokatu 6 b\, Turku\, 20200
ATTACH;FMTTYPE=image/png:https://operaatioruokakassi.fi/wp-content/uploads/2021/05/Helluntaiseurakunta-turku.png
END:VEVENT
BEGIN:VEVENT
DTSTART;TZID=UTC:20230411T110000
DTEND;TZID=UTC:20230411T130000
DTSTAMP:20260424T043426
CREATED:20230105T103026Z
LAST-MODIFIED:20230602T110743Z
UID:10000879-1681210800-1681218000@operaatioruokakassi.fi
SUMMARY:Turun Helluntaiseurakunta
DESCRIPTION:Tilaisuus ennen ruoka jakoa.
URL:https://operaatioruokakassi.fi/event/turun-helluntaiseurakunta-4/2023-04-11/
LOCATION:Turun helluntaiseurakunta\, Puistokatu 6 b\, Turku\, 20200
ATTACH;FMTTYPE=image/png:https://operaatioruokakassi.fi/wp-content/uploads/2021/05/Helluntaiseurakunta-turku.png
END:VEVENT
BEGIN:VEVENT
DTSTART;TZID=UTC:20230328T110000
DTEND;TZID=UTC:20230328T130000
DTSTAMP:20260424T043426
CREATED:20230105T103026Z
LAST-MODIFIED:20230602T110743Z
UID:10000878-1680001200-1680008400@operaatioruokakassi.fi
SUMMARY:Turun Helluntaiseurakunta
DESCRIPTION:Tilaisuus ennen ruoka jakoa.
URL:https://operaatioruokakassi.fi/event/turun-helluntaiseurakunta-4/2023-03-28/
LOCATION:Turun helluntaiseurakunta\, Puistokatu 6 b\, Turku\, 20200
ATTACH;FMTTYPE=image/png:https://operaatioruokakassi.fi/wp-content/uploads/2021/05/Helluntaiseurakunta-turku.png
END:VEVENT
BEGIN:VEVENT
DTSTART;TZID=UTC:20230314T110000
DTEND;TZID=UTC:20230314T130000
DTSTAMP:20260424T043426
CREATED:20230105T103026Z
LAST-MODIFIED:20230602T110743Z
UID:10000877-1678791600-1678798800@operaatioruokakassi.fi
SUMMARY:Turun Helluntaiseurakunta
DESCRIPTION:Tilaisuus ennen ruoka jakoa.
URL:https://operaatioruokakassi.fi/event/turun-helluntaiseurakunta-4/2023-03-14/
LOCATION:Turun helluntaiseurakunta\, Puistokatu 6 b\, Turku\, 20200
ATTACH;FMTTYPE=image/png:https://operaatioruokakassi.fi/wp-content/uploads/2021/05/Helluntaiseurakunta-turku.png
END:VEVENT
BEGIN:VEVENT
DTSTART;TZID=UTC:20230228T110000
DTEND;TZID=UTC:20230228T130000
DTSTAMP:20260424T043426
CREATED:20230105T103026Z
LAST-MODIFIED:20230602T110743Z
UID:10000876-1677582000-1677589200@operaatioruokakassi.fi
SUMMARY:Turun Helluntaiseurakunta
DESCRIPTION:Tilaisuus ennen ruoka jakoa.
URL:https://operaatioruokakassi.fi/event/turun-helluntaiseurakunta-4/2023-02-28/
LOCATION:Turun helluntaiseurakunta\, Puistokatu 6 b\, Turku\, 20200
ATTACH;FMTTYPE=image/png:https://operaatioruokakassi.fi/wp-content/uploads/2021/05/Helluntaiseurakunta-turku.png
END:VEVENT
BEGIN:VEVENT
DTSTART;TZID=UTC:20230214T110000
DTEND;TZID=UTC:20230214T130000
DTSTAMP:20260424T043426
CREATED:20230105T103026Z
LAST-MODIFIED:20230602T110743Z
UID:10000875-1676372400-1676379600@operaatioruokakassi.fi
SUMMARY:Turun Helluntaiseurakunta
DESCRIPTION:Tilaisuus ennen ruoka jakoa.
URL:https://operaatioruokakassi.fi/event/turun-helluntaiseurakunta-4/2023-02-14/
LOCATION:Turun helluntaiseurakunta\, Puistokatu 6 b\, Turku\, 20200
ATTACH;FMTTYPE=image/png:https://operaatioruokakassi.fi/wp-content/uploads/2021/05/Helluntaiseurakunta-turku.png
END:VEVENT
BEGIN:VEVENT
DTSTART;TZID=UTC:20230131T110000
DTEND;TZID=UTC:20230131T130000
DTSTAMP:20260424T043426
CREATED:20230105T103026Z
LAST-MODIFIED:20230602T110743Z
UID:10000874-1675162800-1675170000@operaatioruokakassi.fi
SUMMARY:Turun Helluntaiseurakunta
DESCRIPTION:Tilaisuus ennen ruoka jakoa.
URL:https://operaatioruokakassi.fi/event/turun-helluntaiseurakunta-4/2023-01-31/
LOCATION:Turun helluntaiseurakunta\, Puistokatu 6 b\, Turku\, 20200
ATTACH;FMTTYPE=image/png:https://operaatioruokakassi.fi/wp-content/uploads/2021/05/Helluntaiseurakunta-turku.png
END:VEVENT
BEGIN:VEVENT
DTSTART;TZID=UTC:20230117T110000
DTEND;TZID=UTC:20230117T130000
DTSTAMP:20260424T043426
CREATED:20230105T103026Z
LAST-MODIFIED:20230602T110743Z
UID:10000873-1673953200-1673960400@operaatioruokakassi.fi
SUMMARY:Turun Helluntaiseurakunta
DESCRIPTION:Tilaisuus ennen ruoka jakoa.
URL:https://operaatioruokakassi.fi/event/turun-helluntaiseurakunta-4/2023-01-17/
LOCATION:Turun helluntaiseurakunta\, Puistokatu 6 b\, Turku\, 20200
ATTACH;FMTTYPE=image/png:https://operaatioruokakassi.fi/wp-content/uploads/2021/05/Helluntaiseurakunta-turku.png
END:VEVENT
BEGIN:VEVENT
DTSTART;TZID=UTC:20220830T120000
DTEND;TZID=UTC:20220830T130000
DTSTAMP:20260424T043426
CREATED:20220729T065502Z
LAST-MODIFIED:20230105T102448Z
UID:10000081-1661860800-1661864400@operaatioruokakassi.fi
SUMMARY:Turun Helluntaiseurakunta
DESCRIPTION:
URL:https://operaatioruokakassi.fi/event/turun-helluntaiseurakunta-3/
LOCATION:Turun helluntaiseurakunta\, Puistokatu 6 b\, Turku\, 20200
ATTACH;FMTTYPE=image/png:https://operaatioruokakassi.fi/wp-content/uploads/2021/04/Helluntaiseurakunta-turku-3.png
END:VEVENT
BEGIN:VEVENT
DTSTART;TZID=UTC:20220607T120000
DTEND;TZID=UTC:20220607T130000
DTSTAMP:20260424T043426
CREATED:20210816T051240Z
LAST-MODIFIED:20220613T044415Z
UID:10000582-1654603200-1654606800@operaatioruokakassi.fi
SUMMARY:Turun Helluntaiseurakunta
DESCRIPTION:
URL:https://operaatioruokakassi.fi/event/turun-helluntaiseurakunta-2/2022-06-07/
LOCATION:Turun helluntaiseurakunta\, Puistokatu 6 b\, Turku\, 20200
ATTACH;FMTTYPE=image/png:https://operaatioruokakassi.fi/wp-content/uploads/2021/05/Helluntaiseurakunta-turku.png
END:VEVENT
BEGIN:VEVENT
DTSTART;TZID=UTC:20220524T120000
DTEND;TZID=UTC:20220524T130000
DTSTAMP:20260424T043426
CREATED:20210816T051240Z
LAST-MODIFIED:20220613T044415Z
UID:10000581-1653393600-1653397200@operaatioruokakassi.fi
SUMMARY:Turun Helluntaiseurakunta
DESCRIPTION:
URL:https://operaatioruokakassi.fi/event/turun-helluntaiseurakunta-2/2022-05-24/
LOCATION:Turun helluntaiseurakunta\, Puistokatu 6 b\, Turku\, 20200
ATTACH;FMTTYPE=image/png:https://operaatioruokakassi.fi/wp-content/uploads/2021/05/Helluntaiseurakunta-turku.png
END:VEVENT
BEGIN:VEVENT
DTSTART;TZID=UTC:20220510T120000
DTEND;TZID=UTC:20220510T130000
DTSTAMP:20260424T043426
CREATED:20210816T051240Z
LAST-MODIFIED:20220613T044415Z
UID:10000580-1652184000-1652187600@operaatioruokakassi.fi
SUMMARY:Turun Helluntaiseurakunta
DESCRIPTION:
URL:https://operaatioruokakassi.fi/event/turun-helluntaiseurakunta-2/2022-05-10/
LOCATION:Turun helluntaiseurakunta\, Puistokatu 6 b\, Turku\, 20200
ATTACH;FMTTYPE=image/png:https://operaatioruokakassi.fi/wp-content/uploads/2021/05/Helluntaiseurakunta-turku.png
END:VEVENT
BEGIN:VEVENT
DTSTART;TZID=UTC:20220426T120000
DTEND;TZID=UTC:20220426T130000
DTSTAMP:20260424T043426
CREATED:20210816T051240Z
LAST-MODIFIED:20220613T044415Z
UID:10000579-1650974400-1650978000@operaatioruokakassi.fi
SUMMARY:Turun Helluntaiseurakunta
DESCRIPTION:
URL:https://operaatioruokakassi.fi/event/turun-helluntaiseurakunta-2/2022-04-26/
LOCATION:Turun helluntaiseurakunta\, Puistokatu 6 b\, Turku\, 20200
ATTACH;FMTTYPE=image/png:https://operaatioruokakassi.fi/wp-content/uploads/2021/05/Helluntaiseurakunta-turku.png
END:VEVENT
BEGIN:VEVENT
DTSTART;TZID=UTC:20220412T120000
DTEND;TZID=UTC:20220412T130000
DTSTAMP:20260424T043426
CREATED:20210816T051240Z
LAST-MODIFIED:20220613T044415Z
UID:10000578-1649764800-1649768400@operaatioruokakassi.fi
SUMMARY:Turun Helluntaiseurakunta
DESCRIPTION:
URL:https://operaatioruokakassi.fi/event/turun-helluntaiseurakunta-2/2022-04-12/
LOCATION:Turun helluntaiseurakunta\, Puistokatu 6 b\, Turku\, 20200
ATTACH;FMTTYPE=image/png:https://operaatioruokakassi.fi/wp-content/uploads/2021/05/Helluntaiseurakunta-turku.png
END:VEVENT
BEGIN:VEVENT
DTSTART;TZID=UTC:20220329T120000
DTEND;TZID=UTC:20220329T130000
DTSTAMP:20260424T043426
CREATED:20210816T051240Z
LAST-MODIFIED:20220613T044415Z
UID:10000577-1648555200-1648558800@operaatioruokakassi.fi
SUMMARY:Turun Helluntaiseurakunta
DESCRIPTION:
URL:https://operaatioruokakassi.fi/event/turun-helluntaiseurakunta-2/2022-03-29/
LOCATION:Turun helluntaiseurakunta\, Puistokatu 6 b\, Turku\, 20200
ATTACH;FMTTYPE=image/png:https://operaatioruokakassi.fi/wp-content/uploads/2021/05/Helluntaiseurakunta-turku.png
END:VEVENT
BEGIN:VEVENT
DTSTART;TZID=UTC:20220315T120000
DTEND;TZID=UTC:20220315T130000
DTSTAMP:20260424T043426
CREATED:20210816T051240Z
LAST-MODIFIED:20220613T044415Z
UID:10000576-1647345600-1647349200@operaatioruokakassi.fi
SUMMARY:Turun Helluntaiseurakunta
DESCRIPTION:
URL:https://operaatioruokakassi.fi/event/turun-helluntaiseurakunta-2/2022-03-15/
LOCATION:Turun helluntaiseurakunta\, Puistokatu 6 b\, Turku\, 20200
ATTACH;FMTTYPE=image/png:https://operaatioruokakassi.fi/wp-content/uploads/2021/05/Helluntaiseurakunta-turku.png
END:VEVENT
BEGIN:VEVENT
DTSTART;TZID=UTC:20220301T120000
DTEND;TZID=UTC:20220301T130000
DTSTAMP:20260424T043426
CREATED:20210816T051240Z
LAST-MODIFIED:20220613T044415Z
UID:10000575-1646136000-1646139600@operaatioruokakassi.fi
SUMMARY:Turun Helluntaiseurakunta
DESCRIPTION:
URL:https://operaatioruokakassi.fi/event/turun-helluntaiseurakunta-2/2022-03-01/
LOCATION:Turun helluntaiseurakunta\, Puistokatu 6 b\, Turku\, 20200
ATTACH;FMTTYPE=image/png:https://operaatioruokakassi.fi/wp-content/uploads/2021/05/Helluntaiseurakunta-turku.png
END:VEVENT
BEGIN:VEVENT
DTSTART;TZID=UTC:20220215T120000
DTEND;TZID=UTC:20220215T130000
DTSTAMP:20260424T043426
CREATED:20210816T051240Z
LAST-MODIFIED:20220613T044415Z
UID:10000574-1644926400-1644930000@operaatioruokakassi.fi
SUMMARY:Turun Helluntaiseurakunta
DESCRIPTION:
URL:https://operaatioruokakassi.fi/event/turun-helluntaiseurakunta-2/2022-02-15/
LOCATION:Turun helluntaiseurakunta\, Puistokatu 6 b\, Turku\, 20200
ATTACH;FMTTYPE=image/png:https://operaatioruokakassi.fi/wp-content/uploads/2021/05/Helluntaiseurakunta-turku.png
END:VEVENT
BEGIN:VEVENT
DTSTART;TZID=UTC:20220201T120000
DTEND;TZID=UTC:20220201T130000
DTSTAMP:20260424T043426
CREATED:20210816T051240Z
LAST-MODIFIED:20220613T044415Z
UID:10000573-1643716800-1643720400@operaatioruokakassi.fi
SUMMARY:Turun Helluntaiseurakunta
DESCRIPTION:
URL:https://operaatioruokakassi.fi/event/turun-helluntaiseurakunta-2/2022-02-01/
LOCATION:Turun helluntaiseurakunta\, Puistokatu 6 b\, Turku\, 20200
ATTACH;FMTTYPE=image/png:https://operaatioruokakassi.fi/wp-content/uploads/2021/05/Helluntaiseurakunta-turku.png
END:VEVENT
BEGIN:VEVENT
DTSTART;TZID=UTC:20220118T120000
DTEND;TZID=UTC:20220118T130000
DTSTAMP:20260424T043426
CREATED:20210816T051240Z
LAST-MODIFIED:20220613T044415Z
UID:10000572-1642507200-1642510800@operaatioruokakassi.fi
SUMMARY:Turun Helluntaiseurakunta
DESCRIPTION:
URL:https://operaatioruokakassi.fi/event/turun-helluntaiseurakunta-2/2022-01-18/
LOCATION:Turun helluntaiseurakunta\, Puistokatu 6 b\, Turku\, 20200
ATTACH;FMTTYPE=image/png:https://operaatioruokakassi.fi/wp-content/uploads/2021/05/Helluntaiseurakunta-turku.png
END:VEVENT
END:VCALENDAR