BEGIN:VCALENDAR
VERSION:2.0
PRODID:-//Operaatio Ruokakassi - ECPv6.15.20//NONSGML v1.0//EN
CALSCALE:GREGORIAN
METHOD:PUBLISH
X-ORIGINAL-URL:https://operaatioruokakassi.fi
X-WR-CALDESC:Tapahtumat Operaatio Ruokakassi
REFRESH-INTERVAL;VALUE=DURATION:PT1H
X-Robots-Tag:noindex
X-PUBLISHED-TTL:PT1H
BEGIN:VTIMEZONE
TZID:Europe/Helsinki
BEGIN:DAYLIGHT
TZOFFSETFROM:+0200
TZOFFSETTO:+0300
TZNAME:EEST
DTSTART:20250330T010000
END:DAYLIGHT
BEGIN:STANDARD
TZOFFSETFROM:+0300
TZOFFSETTO:+0200
TZNAME:EET
DTSTART:20251026T010000
END:STANDARD
BEGIN:DAYLIGHT
TZOFFSETFROM:+0200
TZOFFSETTO:+0300
TZNAME:EEST
DTSTART:20260329T010000
END:DAYLIGHT
BEGIN:STANDARD
TZOFFSETFROM:+0300
TZOFFSETTO:+0200
TZNAME:EET
DTSTART:20261025T010000
END:STANDARD
BEGIN:DAYLIGHT
TZOFFSETFROM:+0200
TZOFFSETTO:+0300
TZNAME:EEST
DTSTART:20270328T010000
END:DAYLIGHT
BEGIN:STANDARD
TZOFFSETFROM:+0300
TZOFFSETTO:+0200
TZNAME:EET
DTSTART:20271031T010000
END:STANDARD
END:VTIMEZONE
BEGIN:VEVENT
DTSTART;TZID=Europe/Helsinki:20260813T140000
DTEND;TZID=Europe/Helsinki:20260813T150000
DTSTAMP:20260424T024505
CREATED:20260310T091749Z
LAST-MODIFIED:20260310T091749Z
UID:10002574-1786629600-1786633200@operaatioruokakassi.fi
SUMMARY:Toivon Torstai Paakarlassa
DESCRIPTION:Vuoronumerot arvotaan klo 13.30 ovelta (30 minuuttia ennen ruokailua). Ruokailu alkaa klo 14 ja ohjelma klo 14.30. Kassijako ohjelman jälkeen.
URL:https://operaatioruokakassi.fi/event/toivon-torstai-paakarlassa-17/2026-08-13/
LOCATION:Paakarlan seurakuntakoti\, Laivateollisuudenkatu 28\, Turku\, 20240
END:VEVENT
END:VCALENDAR