BEGIN:VCALENDAR
VERSION:2.0
PRODID:-//Operaatio Ruokakassi - ECPv6.15.20//NONSGML v1.0//EN
CALSCALE:GREGORIAN
METHOD:PUBLISH
X-ORIGINAL-URL:https://operaatioruokakassi.fi
X-WR-CALDESC:Tapahtumat Operaatio Ruokakassi
REFRESH-INTERVAL;VALUE=DURATION:PT1H
X-Robots-Tag:noindex
X-PUBLISHED-TTL:PT1H
BEGIN:VTIMEZONE
TZID:UTC
BEGIN:STANDARD
TZOFFSETFROM:+0000
TZOFFSETTO:+0000
TZNAME:UTC
DTSTART:20250101T000000
END:STANDARD
END:VTIMEZONE
BEGIN:VTIMEZONE
TZID:Europe/Helsinki
BEGIN:DAYLIGHT
TZOFFSETFROM:+0200
TZOFFSETTO:+0300
TZNAME:EEST
DTSTART:20250330T010000
END:DAYLIGHT
BEGIN:STANDARD
TZOFFSETFROM:+0300
TZOFFSETTO:+0200
TZNAME:EET
DTSTART:20251026T010000
END:STANDARD
BEGIN:DAYLIGHT
TZOFFSETFROM:+0200
TZOFFSETTO:+0300
TZNAME:EEST
DTSTART:20260329T010000
END:DAYLIGHT
BEGIN:STANDARD
TZOFFSETFROM:+0300
TZOFFSETTO:+0200
TZNAME:EET
DTSTART:20261025T010000
END:STANDARD
BEGIN:DAYLIGHT
TZOFFSETFROM:+0200
TZOFFSETTO:+0300
TZNAME:EEST
DTSTART:20270328T010000
END:DAYLIGHT
BEGIN:STANDARD
TZOFFSETFROM:+0300
TZOFFSETTO:+0200
TZNAME:EET
DTSTART:20271031T010000
END:STANDARD
END:VTIMEZONE
BEGIN:VEVENT
DTSTART;TZID=UTC:20260511T110000
DTEND;TZID=UTC:20260511T130000
DTSTAMP:20260423T222834
CREATED:20250102T082213Z
LAST-MODIFIED:20251110T063955Z
UID:10002466-1778497200-1778504400@operaatioruokakassi.fi
SUMMARY:Turun Katulähetys
DESCRIPTION:Elintarvikejakelu Lapsiperheet yläovelta (sisäpihan kautta) noin kello 11.00-11.30. \nElintarvikejakelu Liikuntarajoitteiset yläovelta (sisäpihan kautta) noin kello 11.30-12.00. \nElintarvikejakelu alaovelta noin kello 12.00-13.00 (tai niin kauan\, kuin ruokaa riittää). \nTarkemmat ohjeet Katulähetyksen nettisivuilla (www.turunkatulahetys.fi)
URL:https://operaatioruokakassi.fi/event/turun-katulahetys-2-2-2-2-2/2026-05-11/
LOCATION:Katulähetys\, Läntinen pitkäkatu 8\, TURKU\, 20100
ATTACH;FMTTYPE=image/png:https://operaatioruokakassi.fi/wp-content/uploads/2021/04/KLahetysLogo.png
ORGANIZER;CN="Jaana Yrj%C3%A4l%C3%A4":MAILTO:jaana.yrjala@turunkatulahetys.fi
END:VEVENT
BEGIN:VEVENT
DTSTART;TZID=Europe/Helsinki:20260512T110000
DTEND;TZID=Europe/Helsinki:20260512T120000
DTSTAMP:20260423T222834
CREATED:20260119T065506Z
LAST-MODIFIED:20260409T054346Z
UID:10002579-1778583600-1778587200@operaatioruokakassi.fi
SUMMARY:Turun Helluntaiseurakunta
DESCRIPTION:Hartaus klo 11 ja ruokakassien jako klo 11.45.
URL:https://operaatioruokakassi.fi/event/turun-helluntaiseurakunta-6/2026-05-12/
LOCATION:Turun helluntaiseurakunta\, Puistokatu 6 b\, Turku\, 20200
ATTACH;FMTTYPE=image/png:https://operaatioruokakassi.fi/wp-content/uploads/2021/05/Helluntaiseurakunta-turku.png
END:VEVENT
BEGIN:VEVENT
DTSTART;TZID=Europe/Helsinki:20260512T150000
DTEND;TZID=Europe/Helsinki:20260512T160000
DTSTAMP:20260423T222834
CREATED:20260119T085627Z
LAST-MODIFIED:20260119T085627Z
UID:10002572-1778598000-1778601600@operaatioruokakassi.fi
SUMMARY:Kaarinan seurakunta
DESCRIPTION:Ruoka-apua kerran kuussa tiistaina klo 15. Ota oma kassi mukaan. Jaamme vuoronumerot. Lapsiperheille leikkinurkkaus\, ei erillistä jakoa lapsiperheille.
URL:https://operaatioruokakassi.fi/event/kaarinan-seurakunta-4/2026-05-12/
LOCATION:Kaarinan kirkko\, Vuodinkatu 2\, Kaarina\, 20780
ATTACH;FMTTYPE=image/jpeg:https://operaatioruokakassi.fi/wp-content/uploads/2021/04/Kaarina.jpg
ORGANIZER;CN="Anu Aarnivala":MAILTO:anu.aarnivala@evl.fi
END:VEVENT
BEGIN:VEVENT
DTSTART;TZID=Europe/Helsinki:20260512T173000
DTEND;TZID=Europe/Helsinki:20260512T180000
DTSTAMP:20260423T222834
CREATED:20240618T071436Z
LAST-MODIFIED:20251125T082327Z
UID:10002486-1778607000-1778608800@operaatioruokakassi.fi
SUMMARY:Piikkiön Adventtiseurakunta
DESCRIPTION:Vuoronumeroiden jako alkaa pihalla klo 16 \nTiistaisin klo 17:30-18:00 ruoka-apu. \nElintarvikkeita työttömille ja vähävaraisille.
URL:https://operaatioruokakassi.fi/event/piikkion-adventtiseurakunta-4/2026-05-12/
LOCATION:Piikkiön Adventtiseurakunta\, Korvenmäentie 11\, Piikkiö\, 21500
END:VEVENT
BEGIN:VEVENT
DTSTART;TZID=UTC:20260513T111500
DTEND;TZID=UTC:20260513T123000
DTSTAMP:20260423T222834
CREATED:20251106T144955Z
LAST-MODIFIED:20251110T063807Z
UID:10002441-1778670900-1778675400@operaatioruokakassi.fi
SUMMARY:Turun Katulähetys
DESCRIPTION:Elintarvikejakelu alaovelta noin kello 11.15-12.30 (tai niin kauan\, kuin ruokaa riittää). \nTarkemmat ohjeet Katulähetyksen nettisivuilla (www.turunkatulahetys.fi)
URL:https://operaatioruokakassi.fi/event/turun-katulahetys-5-2-2/2026-05-13/
LOCATION:Katulähetys\, Läntinen pitkäkatu 8\, TURKU\, 20100
ATTACH;FMTTYPE=image/png:https://operaatioruokakassi.fi/wp-content/uploads/2021/04/KLahetysLogo.png
ORGANIZER;CN="Jaana Yrj%C3%A4l%C3%A4":MAILTO:jaana.yrjala@turunkatulahetys.fi
END:VEVENT
BEGIN:VEVENT
DTSTART;TZID=Europe/Helsinki:20260513T153000
DTEND;TZID=Europe/Helsinki:20260513T173000
DTSTAMP:20260423T222834
CREATED:20260113T124420Z
LAST-MODIFIED:20260113T124420Z
UID:10002557-1778686200-1778693400@operaatioruokakassi.fi
SUMMARY:Elämän Sana
DESCRIPTION:Ruokajaot klo 15.30 ja 16.30.
URL:https://operaatioruokakassi.fi/event/elaman-sana-2/2026-05-13/
LOCATION:Elämän sana srk\, Helsinginkatu 21\, Turku\, 20100
END:VEVENT
BEGIN:VEVENT
DTSTART;TZID=UTC:20260514T193000
DTEND;TZID=UTC:20260514T203000
DTSTAMP:20260423T222834
CREATED:20240617T063115Z
LAST-MODIFIED:20251125T104638Z
UID:10002516-1778787000-1778790600@operaatioruokakassi.fi
SUMMARY:Uusipesula
DESCRIPTION:Ovet avataan kello 18. Ruokajako 19.30-20.30
URL:https://operaatioruokakassi.fi/event/uusipesula-4-2/2026-05-14/
LOCATION:Uusipesula\, Kousankatu 1\, Turku\, 20610
ATTACH;FMTTYPE=image/jpeg:https://operaatioruokakassi.fi/wp-content/uploads/2021/05/Uusipesula-logo.jpg
END:VEVENT
BEGIN:VEVENT
DTSTART;TZID=UTC:20260515T111500
DTEND;TZID=UTC:20260515T123000
DTSTAMP:20260423T222834
CREATED:20251106T144955Z
LAST-MODIFIED:20251110T063807Z
UID:10002442-1778843700-1778848200@operaatioruokakassi.fi
SUMMARY:Turun Katulähetys
DESCRIPTION:Elintarvikejakelu alaovelta noin kello 11.15-12.30 (tai niin kauan\, kuin ruokaa riittää). \nTarkemmat ohjeet Katulähetyksen nettisivuilla (www.turunkatulahetys.fi)
URL:https://operaatioruokakassi.fi/event/turun-katulahetys-5-2-2/2026-05-15/
LOCATION:Katulähetys\, Läntinen pitkäkatu 8\, TURKU\, 20100
ATTACH;FMTTYPE=image/png:https://operaatioruokakassi.fi/wp-content/uploads/2021/04/KLahetysLogo.png
ORGANIZER;CN="Jaana Yrj%C3%A4l%C3%A4":MAILTO:jaana.yrjala@turunkatulahetys.fi
END:VEVENT
END:VCALENDAR