BEGIN:VCALENDAR
VERSION:2.0
PRODID:-//Operaatio Ruokakassi - ECPv6.15.20//NONSGML v1.0//EN
CALSCALE:GREGORIAN
METHOD:PUBLISH
X-WR-CALNAME:Operaatio Ruokakassi
X-ORIGINAL-URL:https://operaatioruokakassi.fi
X-WR-CALDESC:Tapahtumat Operaatio Ruokakassi
REFRESH-INTERVAL;VALUE=DURATION:PT1H
X-Robots-Tag:noindex
X-PUBLISHED-TTL:PT1H
BEGIN:VTIMEZONE
TZID:UTC
BEGIN:STANDARD
TZOFFSETFROM:+0000
TZOFFSETTO:+0000
TZNAME:UTC
DTSTART:20240101T000000
END:STANDARD
END:VTIMEZONE
BEGIN:VTIMEZONE
TZID:Europe/Helsinki
BEGIN:DAYLIGHT
TZOFFSETFROM:+0200
TZOFFSETTO:+0300
TZNAME:EEST
DTSTART:20240331T010000
END:DAYLIGHT
BEGIN:STANDARD
TZOFFSETFROM:+0300
TZOFFSETTO:+0200
TZNAME:EET
DTSTART:20241027T010000
END:STANDARD
BEGIN:DAYLIGHT
TZOFFSETFROM:+0200
TZOFFSETTO:+0300
TZNAME:EEST
DTSTART:20250330T010000
END:DAYLIGHT
BEGIN:STANDARD
TZOFFSETFROM:+0300
TZOFFSETTO:+0200
TZNAME:EET
DTSTART:20251026T010000
END:STANDARD
BEGIN:DAYLIGHT
TZOFFSETFROM:+0200
TZOFFSETTO:+0300
TZNAME:EEST
DTSTART:20260329T010000
END:DAYLIGHT
BEGIN:STANDARD
TZOFFSETFROM:+0300
TZOFFSETTO:+0200
TZNAME:EET
DTSTART:20261025T010000
END:STANDARD
END:VTIMEZONE
BEGIN:VEVENT
DTSTART;TZID=UTC:20250630T110000
DTEND;TZID=UTC:20250630T130000
DTSTAMP:20260424T151351
CREATED:20250102T082213Z
LAST-MODIFIED:20251110T063955Z
UID:10002255-1751281200-1751288400@operaatioruokakassi.fi
SUMMARY:Turun Katulähetys
DESCRIPTION:Elintarvikejakelu Lapsiperheet yläovelta (sisäpihan kautta) noin kello 11.00-11.30. \nElintarvikejakelu Liikuntarajoitteiset yläovelta (sisäpihan kautta) noin kello 11.30-12.00. \nElintarvikejakelu alaovelta noin kello 12.00-13.00 (tai niin kauan\, kuin ruokaa riittää). \nTarkemmat ohjeet Katulähetyksen nettisivuilla (www.turunkatulahetys.fi)
URL:https://operaatioruokakassi.fi/event/turun-katulahetys-2-2-2-2-2/2025-06-30/
LOCATION:Katulähetys\, Läntinen pitkäkatu 8\, TURKU\, 20100
ATTACH;FMTTYPE=image/png:https://operaatioruokakassi.fi/wp-content/uploads/2021/04/KLahetysLogo.png
ORGANIZER;CN="Jaana Yrj%C3%A4l%C3%A4":MAILTO:jaana.yrjala@turunkatulahetys.fi
END:VEVENT
BEGIN:VEVENT
DTSTART;TZID=Europe/Helsinki:20250701T140000
DTEND;TZID=Europe/Helsinki:20250701T143000
DTSTAMP:20260424T151351
CREATED:20250512T082114Z
LAST-MODIFIED:20250519T064859Z
UID:10002224-1751378400-1751380200@operaatioruokakassi.fi
SUMMARY:Piikkiön Adventtiseurakunta
DESCRIPTION:Kesän minijako. Ainoastaan lapsiperheille.
URL:https://operaatioruokakassi.fi/event/piikkion-adventtiseurakunta-6/2025-07-01/
LOCATION:Piikkiön Adventtiseurakunta\, Korvenmäentie 11\, Piikkiö\, 21500
END:VEVENT
BEGIN:VEVENT
DTSTART;TZID=UTC:20250702T120000
DTEND;TZID=UTC:20250702T130000
DTSTAMP:20260424T151351
CREATED:20240610T055118Z
LAST-MODIFIED:20250422T075311Z
UID:10002174-1751457600-1751461200@operaatioruokakassi.fi
SUMMARY:Turun Katulähetys
DESCRIPTION:Elintarvikejakelu alaovelta noin kello 12.00-13.00 (tai niin kauan\, kuin ruokaa riittää). \nTarkemmat ohjeet Katulähetyksen nettisivuilla (www.turunkatulahetys.fi)
URL:https://operaatioruokakassi.fi/event/turun-katulahetys-5-2/2025-07-02/
LOCATION:Katulähetys\, Läntinen pitkäkatu 8\, TURKU\, 20100
ATTACH;FMTTYPE=image/png:https://operaatioruokakassi.fi/wp-content/uploads/2021/04/KLahetysLogo.png
ORGANIZER;CN="Jaana Yrj%C3%A4l%C3%A4":MAILTO:jaana.yrjala@turunkatulahetys.fi
END:VEVENT
BEGIN:VEVENT
DTSTART;TZID=UTC:20250704T120000
DTEND;TZID=UTC:20250704T130000
DTSTAMP:20260424T151351
CREATED:20240610T055118Z
LAST-MODIFIED:20250422T075311Z
UID:10002175-1751630400-1751634000@operaatioruokakassi.fi
SUMMARY:Turun Katulähetys
DESCRIPTION:Elintarvikejakelu alaovelta noin kello 12.00-13.00 (tai niin kauan\, kuin ruokaa riittää). \nTarkemmat ohjeet Katulähetyksen nettisivuilla (www.turunkatulahetys.fi)
URL:https://operaatioruokakassi.fi/event/turun-katulahetys-5-2/2025-07-04/
LOCATION:Katulähetys\, Läntinen pitkäkatu 8\, TURKU\, 20100
ATTACH;FMTTYPE=image/png:https://operaatioruokakassi.fi/wp-content/uploads/2021/04/KLahetysLogo.png
ORGANIZER;CN="Jaana Yrj%C3%A4l%C3%A4":MAILTO:jaana.yrjala@turunkatulahetys.fi
END:VEVENT
END:VCALENDAR