BEGIN:VCALENDAR
VERSION:2.0
PRODID:-//Operaatio Ruokakassi - ECPv6.15.20//NONSGML v1.0//EN
CALSCALE:GREGORIAN
METHOD:PUBLISH
X-WR-CALNAME:Operaatio Ruokakassi
X-ORIGINAL-URL:https://operaatioruokakassi.fi
X-WR-CALDESC:Tapahtumat Operaatio Ruokakassi
REFRESH-INTERVAL;VALUE=DURATION:PT1H
X-Robots-Tag:noindex
X-PUBLISHED-TTL:PT1H
BEGIN:VTIMEZONE
TZID:Europe/Helsinki
BEGIN:DAYLIGHT
TZOFFSETFROM:+0200
TZOFFSETTO:+0300
TZNAME:EEST
DTSTART:20230326T010000
END:DAYLIGHT
BEGIN:STANDARD
TZOFFSETFROM:+0300
TZOFFSETTO:+0200
TZNAME:EET
DTSTART:20231029T010000
END:STANDARD
BEGIN:DAYLIGHT
TZOFFSETFROM:+0200
TZOFFSETTO:+0300
TZNAME:EEST
DTSTART:20240331T010000
END:DAYLIGHT
BEGIN:STANDARD
TZOFFSETFROM:+0300
TZOFFSETTO:+0200
TZNAME:EET
DTSTART:20241027T010000
END:STANDARD
BEGIN:DAYLIGHT
TZOFFSETFROM:+0200
TZOFFSETTO:+0300
TZNAME:EEST
DTSTART:20250330T010000
END:DAYLIGHT
BEGIN:STANDARD
TZOFFSETFROM:+0300
TZOFFSETTO:+0200
TZNAME:EET
DTSTART:20251026T010000
END:STANDARD
END:VTIMEZONE
BEGIN:VTIMEZONE
TZID:UTC
BEGIN:STANDARD
TZOFFSETFROM:+0000
TZOFFSETTO:+0000
TZNAME:UTC
DTSTART:20230101T000000
END:STANDARD
END:VTIMEZONE
BEGIN:VEVENT
DTSTART;TZID=Europe/Helsinki:20240722T110000
DTEND;TZID=Europe/Helsinki:20240722T130000
DTSTAMP:20260425T071911
CREATED:20240610T060407Z
LAST-MODIFIED:20240610T060407Z
UID:10001772-1721646000-1721653200@operaatioruokakassi.fi
SUMMARY:Turun Katulähetys
DESCRIPTION:Elintarvikejakelu Lapsiperheet yläovelta (sisäpihan kautta) noin kello 11.00-11.30. \nElintarvikejakelu Liikuntarajoitteiset yläovelta (sisäpihan kautta) noin kello 11.30-12.00. \nElintarvikejakelu alaovelta noin kello 12.00-13.00 (tai niin kauan\, kuin ruokaa riittää). \nTarkemmat ohjeet Katulähetyksen nettisivuilla (www.turunkatulahetys.fi)
URL:https://operaatioruokakassi.fi/event/turun-katulahetys-8/2024-07-22/
LOCATION:Katulähetys\, Läntinen pitkäkatu 8\, TURKU\, 20100
ORGANIZER;CN="Jaana Yrj%C3%A4l%C3%A4":MAILTO:jaana.yrjala@turunkatulahetys.fi
END:VEVENT
BEGIN:VEVENT
DTSTART;TZID=Europe/Helsinki:20240723T173000
DTEND;TZID=Europe/Helsinki:20240723T180000
DTSTAMP:20260425T071911
CREATED:20240618T071436Z
LAST-MODIFIED:20251125T082327Z
UID:10001938-1721755800-1721757600@operaatioruokakassi.fi
SUMMARY:Piikkiön Adventtiseurakunta
DESCRIPTION:Vuoronumeroiden jako alkaa pihalla klo 16 \nTiistaisin klo 17:30-18:00 ruoka-apu. \nElintarvikkeita työttömille ja vähävaraisille.
URL:https://operaatioruokakassi.fi/event/piikkion-adventtiseurakunta-4/2024-07-23/
LOCATION:Piikkiön Adventtiseurakunta\, Korvenmäentie 11\, Piikkiö\, 21500
END:VEVENT
BEGIN:VEVENT
DTSTART;TZID=UTC:20240724T120000
DTEND;TZID=UTC:20240724T130000
DTSTAMP:20260425T071911
CREATED:20240603T060701Z
LAST-MODIFIED:20240603T060704Z
UID:10001528-1721822400-1721826000@operaatioruokakassi.fi
SUMMARY:Turun Katulähetys
DESCRIPTION:Elintarvikejakelu alaovelta. Ajat ovat noin aikoja.
URL:https://operaatioruokakassi.fi/event/turun-katulahetys-2-2-2/2024-07-24/
LOCATION:Katulähetys\, Läntinen pitkäkatu 8\, TURKU\, 20100
ATTACH;FMTTYPE=image/png:https://operaatioruokakassi.fi/wp-content/uploads/2021/04/KLahetysLogo.png
ORGANIZER;CN="Jaana Yrj%C3%A4l%C3%A4":MAILTO:jaana.yrjala@turunkatulahetys.fi
END:VEVENT
BEGIN:VEVENT
DTSTART;TZID=Europe/Helsinki:20240725T180000
DTEND;TZID=Europe/Helsinki:20240725T193000
DTSTAMP:20260425T071911
CREATED:20240617T063549Z
LAST-MODIFIED:20240617T063645Z
UID:10001777-1721930400-1721935800@operaatioruokakassi.fi
SUMMARY:Uusipesula
DESCRIPTION:Ruokajako 18.00-19.30
URL:https://operaatioruokakassi.fi/event/uusipesula-5/2024-07-25/
LOCATION:Uusipesula\, Kousankatu 1\, Turku\, 20610
END:VEVENT
BEGIN:VEVENT
DTSTART;TZID=Europe/Helsinki:20240726T110000
DTEND;TZID=Europe/Helsinki:20240726T130000
DTSTAMP:20260425T071911
CREATED:20240610T055806Z
LAST-MODIFIED:20240610T060003Z
UID:10001711-1721991600-1721998800@operaatioruokakassi.fi
SUMMARY:Turun Katulähetys
DESCRIPTION:Elintarvikejakelu Lapsiperheet yläovelta (sisäpihan kautta\, osoitteessa Kauppiaskatu 21 b) noin kello 11.00-11.45. \nElintarvikejakelu alaovelta (Läntinen Pitkäkatu 8) noin kello 12.00-13.00 (tai niin kauan\, kuin ruokaa riittää). \nTarkemmat ohjeet Katulähetyksen nettisivuilla (www.turunkatulahetys.fi)
URL:https://operaatioruokakassi.fi/event/turun-katulahetys-7/2024-07-26/
LOCATION:Katulähetys\, Läntinen pitkäkatu 8\, TURKU\, 20100
ORGANIZER;CN="Jaana Yrj%C3%A4l%C3%A4":MAILTO:jaana.yrjala@turunkatulahetys.fi
END:VEVENT
END:VCALENDAR