BEGIN:VCALENDAR
VERSION:2.0
PRODID:-//Operaatio Ruokakassi - ECPv6.15.20//NONSGML v1.0//EN
CALSCALE:GREGORIAN
METHOD:PUBLISH
X-ORIGINAL-URL:https://operaatioruokakassi.fi
X-WR-CALDESC:Tapahtumat Operaatio Ruokakassi
REFRESH-INTERVAL;VALUE=DURATION:PT1H
X-Robots-Tag:noindex
X-PUBLISHED-TTL:PT1H
BEGIN:VTIMEZONE
TZID:UTC
BEGIN:STANDARD
TZOFFSETFROM:+0000
TZOFFSETTO:+0000
TZNAME:UTC
DTSTART:20220101T000000
END:STANDARD
END:VTIMEZONE
BEGIN:VEVENT
DTSTART;TZID=UTC:20231225T110000
DTEND;TZID=UTC:20231225T130000
DTSTAMP:20260425T162551
CREATED:20230614T115424Z
LAST-MODIFIED:20240603T060722Z
UID:10001651-1703502000-1703509200@operaatioruokakassi.fi
SUMMARY:Turun Katulähetys
DESCRIPTION:Elintarvikejakelu Lapsiperheet yläovelta (sisäpihan kautta) noin kello 11.00-11.30. \nElintarvikejakelu Liikuntarajoitteiset yläovelta (sisäpihan kautta) noin kello 11.30-12.00. \nElintarvikejakelu alaovelta noin kello 12.00-13.00 (tai niin kauan\, kuin ruokaa riittää). \nTarkemmat ohjeet Katulähetyksen nettisivuilla (www.turunkatulahetys.fi)
URL:https://operaatioruokakassi.fi/event/turun-katulahetys-5/2023-12-25/
LOCATION:Katulähetys\, Läntinen pitkäkatu 8\, TURKU\, 20100
ATTACH;FMTTYPE=image/png:https://operaatioruokakassi.fi/wp-content/uploads/2021/04/KLahetysLogo.png
ORGANIZER;CN="Jaana Yrj%C3%A4l%C3%A4":MAILTO:jaana.yrjala@turunkatulahetys.fi
END:VEVENT
BEGIN:VEVENT
DTSTART;TZID=UTC:20231226T163000
DTEND;TZID=UTC:20231226T173000
DTSTAMP:20260425T162551
CREATED:20210802T072040Z
LAST-MODIFIED:20240320T072250Z
UID:10001238-1703608200-1703611800@operaatioruokakassi.fi
SUMMARY:Piikkiön Adventtiseurakunta
DESCRIPTION:Tiistaisin klo 16.30-17:30 ruoka-apu.  \nElintarvikkeita työttömille ja vähävaraisille.
URL:https://operaatioruokakassi.fi/event/piikkion-adventtiseurakunta-3/2023-12-26/
LOCATION:Piikkiön Adventtiseurakunta\, Korvenmäentie 11\, Piikkiö\, 21500
END:VEVENT
BEGIN:VEVENT
DTSTART;TZID=UTC:20231227T120000
DTEND;TZID=UTC:20231227T130000
DTSTAMP:20260425T162551
CREATED:20231226T185809Z
LAST-MODIFIED:20240521T055610Z
UID:10001269-1703678400-1703682000@operaatioruokakassi.fi
SUMMARY:Turun Katulähetys
DESCRIPTION:Elintarvikejakelu alaovelta. Ajat ovat noin aikoja.
URL:https://operaatioruokakassi.fi/event/turun-katulahetys-2-2/2023-12-27/
LOCATION:Katulähetys\, Läntinen pitkäkatu 8\, TURKU\, 20100
ATTACH;FMTTYPE=image/png:https://operaatioruokakassi.fi/wp-content/uploads/2021/04/KLahetysLogo.png
ORGANIZER;CN="Jaana Yrj%C3%A4l%C3%A4":MAILTO:jaana.yrjala@turunkatulahetys.fi
END:VEVENT
BEGIN:VEVENT
DTSTART;TZID=UTC:20231229T110000
DTEND;TZID=UTC:20231229T130000
DTSTAMP:20260425T162551
CREATED:20230614T115424Z
LAST-MODIFIED:20240603T060722Z
UID:10001652-1703847600-1703854800@operaatioruokakassi.fi
SUMMARY:Turun Katulähetys
DESCRIPTION:Elintarvikejakelu Lapsiperheet yläovelta (sisäpihan kautta) noin kello 11.00-11.30. \nElintarvikejakelu Liikuntarajoitteiset yläovelta (sisäpihan kautta) noin kello 11.30-12.00. \nElintarvikejakelu alaovelta noin kello 12.00-13.00 (tai niin kauan\, kuin ruokaa riittää). \nTarkemmat ohjeet Katulähetyksen nettisivuilla (www.turunkatulahetys.fi)
URL:https://operaatioruokakassi.fi/event/turun-katulahetys-5/2023-12-29/
LOCATION:Katulähetys\, Läntinen pitkäkatu 8\, TURKU\, 20100
ATTACH;FMTTYPE=image/png:https://operaatioruokakassi.fi/wp-content/uploads/2021/04/KLahetysLogo.png
ORGANIZER;CN="Jaana Yrj%C3%A4l%C3%A4":MAILTO:jaana.yrjala@turunkatulahetys.fi
END:VEVENT
BEGIN:VEVENT
DTSTART;TZID=UTC:20231229T120000
DTEND;TZID=UTC:20231229T130000
DTSTAMP:20260425T162551
CREATED:20231226T185809Z
LAST-MODIFIED:20240521T055610Z
UID:10001270-1703851200-1703854800@operaatioruokakassi.fi
SUMMARY:Turun Katulähetys
DESCRIPTION:Elintarvikejakelu alaovelta. Ajat ovat noin aikoja.
URL:https://operaatioruokakassi.fi/event/turun-katulahetys-2-2/2023-12-29/
LOCATION:Katulähetys\, Läntinen pitkäkatu 8\, TURKU\, 20100
ATTACH;FMTTYPE=image/png:https://operaatioruokakassi.fi/wp-content/uploads/2021/04/KLahetysLogo.png
ORGANIZER;CN="Jaana Yrj%C3%A4l%C3%A4":MAILTO:jaana.yrjala@turunkatulahetys.fi
END:VEVENT
END:VCALENDAR