BEGIN:VCALENDAR
VERSION:2.0
PRODID:-//Operaatio Ruokakassi - ECPv6.15.20//NONSGML v1.0//EN
CALSCALE:GREGORIAN
METHOD:PUBLISH
X-ORIGINAL-URL:https://operaatioruokakassi.fi
X-WR-CALDESC:Tapahtumat Operaatio Ruokakassi
REFRESH-INTERVAL;VALUE=DURATION:PT1H
X-Robots-Tag:noindex
X-PUBLISHED-TTL:PT1H
BEGIN:VTIMEZONE
TZID:UTC
BEGIN:STANDARD
TZOFFSETFROM:+0000
TZOFFSETTO:+0000
TZNAME:UTC
DTSTART:20220101T000000
END:STANDARD
END:VTIMEZONE
BEGIN:VTIMEZONE
TZID:Europe/Helsinki
BEGIN:DAYLIGHT
TZOFFSETFROM:+0200
TZOFFSETTO:+0300
TZNAME:EEST
DTSTART:20220327T010000
END:DAYLIGHT
BEGIN:STANDARD
TZOFFSETFROM:+0300
TZOFFSETTO:+0200
TZNAME:EET
DTSTART:20221030T010000
END:STANDARD
BEGIN:DAYLIGHT
TZOFFSETFROM:+0200
TZOFFSETTO:+0300
TZNAME:EEST
DTSTART:20230326T010000
END:DAYLIGHT
BEGIN:STANDARD
TZOFFSETFROM:+0300
TZOFFSETTO:+0200
TZNAME:EET
DTSTART:20231029T010000
END:STANDARD
BEGIN:DAYLIGHT
TZOFFSETFROM:+0200
TZOFFSETTO:+0300
TZNAME:EEST
DTSTART:20240331T010000
END:DAYLIGHT
BEGIN:STANDARD
TZOFFSETFROM:+0300
TZOFFSETTO:+0200
TZNAME:EET
DTSTART:20241027T010000
END:STANDARD
END:VTIMEZONE
BEGIN:VEVENT
DTSTART;TZID=UTC:20231211T110000
DTEND;TZID=UTC:20231211T130000
DTSTAMP:20260425T162559
CREATED:20230614T115424Z
LAST-MODIFIED:20240603T060722Z
UID:10000934-1702292400-1702299600@operaatioruokakassi.fi
SUMMARY:Turun Katulähetys
DESCRIPTION:Elintarvikejakelu Lapsiperheet yläovelta (sisäpihan kautta) noin kello 11.00-11.30. \nElintarvikejakelu Liikuntarajoitteiset yläovelta (sisäpihan kautta) noin kello 11.30-12.00. \nElintarvikejakelu alaovelta noin kello 12.00-13.00 (tai niin kauan\, kuin ruokaa riittää). \nTarkemmat ohjeet Katulähetyksen nettisivuilla (www.turunkatulahetys.fi)
URL:https://operaatioruokakassi.fi/event/turun-katulahetys-5/2023-12-11/
LOCATION:Katulähetys\, Läntinen pitkäkatu 8\, TURKU\, 20100
ATTACH;FMTTYPE=image/png:https://operaatioruokakassi.fi/wp-content/uploads/2021/04/KLahetysLogo.png
ORGANIZER;CN="Jaana Yrj%C3%A4l%C3%A4":MAILTO:jaana.yrjala@turunkatulahetys.fi
END:VEVENT
BEGIN:VEVENT
DTSTART;TZID=UTC:20231212T163000
DTEND;TZID=UTC:20231212T173000
DTSTAMP:20260425T162559
CREATED:20210802T072040Z
LAST-MODIFIED:20240320T072250Z
UID:10001236-1702398600-1702402200@operaatioruokakassi.fi
SUMMARY:Piikkiön Adventtiseurakunta
DESCRIPTION:Tiistaisin klo 16.30-17:30 ruoka-apu.  \nElintarvikkeita työttömille ja vähävaraisille.
URL:https://operaatioruokakassi.fi/event/piikkion-adventtiseurakunta-3/2023-12-12/
LOCATION:Piikkiön Adventtiseurakunta\, Korvenmäentie 11\, Piikkiö\, 21500
END:VEVENT
BEGIN:VEVENT
DTSTART;TZID=Europe/Helsinki:20231213T160000
DTEND;TZID=Europe/Helsinki:20231213T180000
DTSTAMP:20260425T162559
CREATED:20230614T120644Z
LAST-MODIFIED:20250410T075249Z
UID:10001009-1702483200-1702490400@operaatioruokakassi.fi
SUMMARY:Elämän Sana Srk
DESCRIPTION:
URL:https://operaatioruokakassi.fi/event/elaman-sana-srk-5/2023-12-13/
LOCATION:Elämän sana srk\, Helsinginkatu 21\, Turku\, 20100
ATTACH;FMTTYPE=image/png:https://operaatioruokakassi.fi/wp-content/uploads/2022/03/EsLogo1lineHarmTxt-e1547150675551.png
END:VEVENT
BEGIN:VEVENT
DTSTART;TZID=Europe/Helsinki:20231214T140000
DTEND;TZID=Europe/Helsinki:20231214T150000
DTSTAMP:20260425T162559
CREATED:20230730T131000Z
LAST-MODIFIED:20230730T131000Z
UID:10001122-1702562400-1702566000@operaatioruokakassi.fi
SUMMARY:Toivon Torstai Paakarlassa
DESCRIPTION:
URL:https://operaatioruokakassi.fi/event/toivon-torstai-paakarlassa-13/2023-12-14/
LOCATION:Paakarlan seurakuntakoti\, Laivateollisuudenkatu 28\, Turku\, 20240
ATTACH;FMTTYPE=image/png:https://operaatioruokakassi.fi/wp-content/uploads/2021/09/Mikaelinsrk1849.png
END:VEVENT
BEGIN:VEVENT
DTSTART;TZID=UTC:20231214T193000
DTEND;TZID=UTC:20231214T203000
DTSTAMP:20260425T162559
CREATED:20220729T064844Z
LAST-MODIFIED:20240529T122603Z
UID:10001398-1702582200-1702585800@operaatioruokakassi.fi
SUMMARY:Uusipesula
DESCRIPTION:Ovet avataan kello 18. Ruokajako 19.30-20.30
URL:https://operaatioruokakassi.fi/event/uusipesula-4/2023-12-14/
LOCATION:Uusipesula\, Kousankatu 1\, Turku\, 20610
ATTACH;FMTTYPE=image/jpeg:https://operaatioruokakassi.fi/wp-content/uploads/2021/05/Uusipesula-logo.jpg
END:VEVENT
BEGIN:VEVENT
DTSTART;TZID=UTC:20231215T110000
DTEND;TZID=UTC:20231215T130000
DTSTAMP:20260425T162559
CREATED:20230614T115424Z
LAST-MODIFIED:20240603T060722Z
UID:10001649-1702638000-1702645200@operaatioruokakassi.fi
SUMMARY:Turun Katulähetys
DESCRIPTION:Elintarvikejakelu Lapsiperheet yläovelta (sisäpihan kautta) noin kello 11.00-11.30. \nElintarvikejakelu Liikuntarajoitteiset yläovelta (sisäpihan kautta) noin kello 11.30-12.00. \nElintarvikejakelu alaovelta noin kello 12.00-13.00 (tai niin kauan\, kuin ruokaa riittää). \nTarkemmat ohjeet Katulähetyksen nettisivuilla (www.turunkatulahetys.fi)
URL:https://operaatioruokakassi.fi/event/turun-katulahetys-5/2023-12-15/
LOCATION:Katulähetys\, Läntinen pitkäkatu 8\, TURKU\, 20100
ATTACH;FMTTYPE=image/png:https://operaatioruokakassi.fi/wp-content/uploads/2021/04/KLahetysLogo.png
ORGANIZER;CN="Jaana Yrj%C3%A4l%C3%A4":MAILTO:jaana.yrjala@turunkatulahetys.fi
END:VEVENT
END:VCALENDAR