BEGIN:VCALENDAR
VERSION:2.0
PRODID:-//Operaatio Ruokakassi - ECPv6.15.20//NONSGML v1.0//EN
CALSCALE:GREGORIAN
METHOD:PUBLISH
X-ORIGINAL-URL:https://operaatioruokakassi.fi
X-WR-CALDESC:Tapahtumat Operaatio Ruokakassi
REFRESH-INTERVAL;VALUE=DURATION:PT1H
X-Robots-Tag:noindex
X-PUBLISHED-TTL:PT1H
BEGIN:VTIMEZONE
TZID:UTC
BEGIN:STANDARD
TZOFFSETFROM:+0000
TZOFFSETTO:+0000
TZNAME:UTC
DTSTART:20220101T000000
END:STANDARD
END:VTIMEZONE
BEGIN:VTIMEZONE
TZID:Europe/Helsinki
BEGIN:DAYLIGHT
TZOFFSETFROM:+0200
TZOFFSETTO:+0300
TZNAME:EEST
DTSTART:20220327T010000
END:DAYLIGHT
BEGIN:STANDARD
TZOFFSETFROM:+0300
TZOFFSETTO:+0200
TZNAME:EET
DTSTART:20221030T010000
END:STANDARD
BEGIN:DAYLIGHT
TZOFFSETFROM:+0200
TZOFFSETTO:+0300
TZNAME:EEST
DTSTART:20230326T010000
END:DAYLIGHT
BEGIN:STANDARD
TZOFFSETFROM:+0300
TZOFFSETTO:+0200
TZNAME:EET
DTSTART:20231029T010000
END:STANDARD
BEGIN:DAYLIGHT
TZOFFSETFROM:+0200
TZOFFSETTO:+0300
TZNAME:EEST
DTSTART:20240331T010000
END:DAYLIGHT
BEGIN:STANDARD
TZOFFSETFROM:+0300
TZOFFSETTO:+0200
TZNAME:EET
DTSTART:20241027T010000
END:STANDARD
END:VTIMEZONE
BEGIN:VEVENT
DTSTART;TZID=UTC:20231127T110000
DTEND;TZID=UTC:20231127T130000
DTSTAMP:20260425T150319
CREATED:20230614T115424Z
LAST-MODIFIED:20240603T060722Z
UID:10000932-1701082800-1701090000@operaatioruokakassi.fi
SUMMARY:Turun Katulähetys
DESCRIPTION:Elintarvikejakelu Lapsiperheet yläovelta (sisäpihan kautta) noin kello 11.00-11.30. \nElintarvikejakelu Liikuntarajoitteiset yläovelta (sisäpihan kautta) noin kello 11.30-12.00. \nElintarvikejakelu alaovelta noin kello 12.00-13.00 (tai niin kauan\, kuin ruokaa riittää). \nTarkemmat ohjeet Katulähetyksen nettisivuilla (www.turunkatulahetys.fi)
URL:https://operaatioruokakassi.fi/event/turun-katulahetys-5/2023-11-27/
LOCATION:Katulähetys\, Läntinen pitkäkatu 8\, TURKU\, 20100
ATTACH;FMTTYPE=image/png:https://operaatioruokakassi.fi/wp-content/uploads/2021/04/KLahetysLogo.png
ORGANIZER;CN="Jaana Yrj%C3%A4l%C3%A4":MAILTO:jaana.yrjala@turunkatulahetys.fi
END:VEVENT
BEGIN:VEVENT
DTSTART;TZID=UTC:20231128T120000
DTEND;TZID=UTC:20231128T130000
DTSTAMP:20260425T150319
CREATED:20211014T054054Z
LAST-MODIFIED:20230626T052128Z
UID:10001115-1701172800-1701176400@operaatioruokakassi.fi
SUMMARY:Mikaelin seurakunta
DESCRIPTION:Tervetuloa nauttimaan ilmaista keittolounasta ja hakemaan ruokakassia Mikaelinseurakuntakodilta kerran kuussa! Pääset valitsemaan haluamasi elintarvikkeet itse\, joten otathan oman kassin mukaan.
URL:https://operaatioruokakassi.fi/event/mikaelin-seurakunta-6/2023-11-28/
LOCATION:Mikaelin seurakuntakoti\, Puistokatu 13\, Turku\, 20100
ATTACH;FMTTYPE=image/png:https://operaatioruokakassi.fi/wp-content/uploads/2021/09/Mikaelinsrk1849.png
ORGANIZER;CN="Heli Ojala":MAILTO:heli.m.ojala@evl.fi
END:VEVENT
BEGIN:VEVENT
DTSTART;TZID=UTC:20231128T163000
DTEND;TZID=UTC:20231128T173000
DTSTAMP:20260425T150319
CREATED:20210802T072040Z
LAST-MODIFIED:20240320T072250Z
UID:10001163-1701189000-1701192600@operaatioruokakassi.fi
SUMMARY:Piikkiön Adventtiseurakunta
DESCRIPTION:Tiistaisin klo 16.30-17:30 ruoka-apu.  \nElintarvikkeita työttömille ja vähävaraisille.
URL:https://operaatioruokakassi.fi/event/piikkion-adventtiseurakunta-3/2023-11-28/
LOCATION:Piikkiön Adventtiseurakunta\, Korvenmäentie 11\, Piikkiö\, 21500
END:VEVENT
BEGIN:VEVENT
DTSTART;TZID=Europe/Helsinki:20231129T160000
DTEND;TZID=Europe/Helsinki:20231129T180000
DTSTAMP:20260425T150319
CREATED:20230614T120644Z
LAST-MODIFIED:20250410T075249Z
UID:10001007-1701273600-1701280800@operaatioruokakassi.fi
SUMMARY:Elämän Sana Srk
DESCRIPTION:
URL:https://operaatioruokakassi.fi/event/elaman-sana-srk-5/2023-11-29/
LOCATION:Elämän sana srk\, Helsinginkatu 21\, Turku\, 20100
ATTACH;FMTTYPE=image/png:https://operaatioruokakassi.fi/wp-content/uploads/2022/03/EsLogo1lineHarmTxt-e1547150675551.png
END:VEVENT
BEGIN:VEVENT
DTSTART;TZID=Europe/Helsinki:20231130T140000
DTEND;TZID=Europe/Helsinki:20231130T150000
DTSTAMP:20260425T150319
CREATED:20230730T131000Z
LAST-MODIFIED:20230730T131000Z
UID:10001121-1701352800-1701356400@operaatioruokakassi.fi
SUMMARY:Toivon Torstai Paakarlassa
DESCRIPTION:
URL:https://operaatioruokakassi.fi/event/toivon-torstai-paakarlassa-13/2023-11-30/
LOCATION:Paakarlan seurakuntakoti\, Laivateollisuudenkatu 28\, Turku\, 20240
ATTACH;FMTTYPE=image/png:https://operaatioruokakassi.fi/wp-content/uploads/2021/09/Mikaelinsrk1849.png
END:VEVENT
BEGIN:VEVENT
DTSTART;TZID=Europe/Helsinki:20231130T143000
DTEND;TZID=Europe/Helsinki:20231130T163000
DTSTAMP:20260425T150319
CREATED:20230730T131931Z
LAST-MODIFIED:20240502T065321Z
UID:10001206-1701354600-1701361800@operaatioruokakassi.fi
SUMMARY:Raision seurakunta
DESCRIPTION:Raisiolaiset pienituloiset perheet ja yksin asuvat voivat saada ruoka-apua helpottamaan arkea. Myös hetkellinen kriisi voi aiheuttaa vain väliaikaisen ruoka-avun tarpeen. \nSamassa rakennuksessa ruokajaon kanssa toimii kaikille avoin\, ilmainen ruokailu\, joka alkaa klo 14.30. Haettujen ruokakassien kanssa ei kuitenkaan voi tulla ruokasaliin. Ruokakassin tuotteet helposti pilaantuvat ruokailusi aikana. Ne kannattaa viedä mahdollisimman nopeasti kotiin. Olethan siis ystävällinen ja käyt ensin syömässä. \nSukunimen alkukirjaimen mukaan. \nKlo 15.00 – A\, B\, C\, D\, E\, F\, G\, H\, I\, J\, K. Tämä ryhmä voi tulla syömään jo klo 14.30 \nKlo 15.30 – L\, M\, N\, O\, P\, Q \nKlo 16.00 – R\, S\, T\, U\, V\, X\, Y\, Z\, Å\, Ä\, Ö
URL:https://operaatioruokakassi.fi/event/raision-seurakunta/2023-11-30/
LOCATION:Kokinvuoren seurakuntakoti\, Murroskuja 3\, Raisio\, 21200
ATTACH;FMTTYPE=image/png:https://operaatioruokakassi.fi/wp-content/uploads/2021/04/Raision-seurakunta.png
ORGANIZER;CN="Raision seurakunta":MAILTO:diakonia.raisio@evl.fi
END:VEVENT
BEGIN:VEVENT
DTSTART;TZID=UTC:20231130T193000
DTEND;TZID=UTC:20231130T203000
DTSTAMP:20260425T150319
CREATED:20220729T064844Z
LAST-MODIFIED:20240529T122603Z
UID:10001396-1701372600-1701376200@operaatioruokakassi.fi
SUMMARY:Uusipesula
DESCRIPTION:Ovet avataan kello 18. Ruokajako 19.30-20.30
URL:https://operaatioruokakassi.fi/event/uusipesula-4/2023-11-30/
LOCATION:Uusipesula\, Kousankatu 1\, Turku\, 20610
ATTACH;FMTTYPE=image/jpeg:https://operaatioruokakassi.fi/wp-content/uploads/2021/05/Uusipesula-logo.jpg
END:VEVENT
BEGIN:VEVENT
DTSTART;TZID=UTC:20231201T110000
DTEND;TZID=UTC:20231201T130000
DTSTAMP:20260425T150319
CREATED:20230614T115424Z
LAST-MODIFIED:20240603T060722Z
UID:10001647-1701428400-1701435600@operaatioruokakassi.fi
SUMMARY:Turun Katulähetys
DESCRIPTION:Elintarvikejakelu Lapsiperheet yläovelta (sisäpihan kautta) noin kello 11.00-11.30. \nElintarvikejakelu Liikuntarajoitteiset yläovelta (sisäpihan kautta) noin kello 11.30-12.00. \nElintarvikejakelu alaovelta noin kello 12.00-13.00 (tai niin kauan\, kuin ruokaa riittää). \nTarkemmat ohjeet Katulähetyksen nettisivuilla (www.turunkatulahetys.fi)
URL:https://operaatioruokakassi.fi/event/turun-katulahetys-5/2023-12-01/
LOCATION:Katulähetys\, Läntinen pitkäkatu 8\, TURKU\, 20100
ATTACH;FMTTYPE=image/png:https://operaatioruokakassi.fi/wp-content/uploads/2021/04/KLahetysLogo.png
ORGANIZER;CN="Jaana Yrj%C3%A4l%C3%A4":MAILTO:jaana.yrjala@turunkatulahetys.fi
END:VEVENT
END:VCALENDAR