BEGIN:VCALENDAR
VERSION:2.0
PRODID:-//Operaatio Ruokakassi - ECPv6.15.20//NONSGML v1.0//EN
CALSCALE:GREGORIAN
METHOD:PUBLISH
X-WR-CALNAME:Operaatio Ruokakassi
X-ORIGINAL-URL:https://operaatioruokakassi.fi
X-WR-CALDESC:Tapahtumat Operaatio Ruokakassi
REFRESH-INTERVAL;VALUE=DURATION:PT1H
X-Robots-Tag:noindex
X-PUBLISHED-TTL:PT1H
BEGIN:VTIMEZONE
TZID:UTC
BEGIN:STANDARD
TZOFFSETFROM:+0000
TZOFFSETTO:+0000
TZNAME:UTC
DTSTART:20250101T000000
END:STANDARD
END:VTIMEZONE
BEGIN:VTIMEZONE
TZID:Europe/Helsinki
BEGIN:DAYLIGHT
TZOFFSETFROM:+0200
TZOFFSETTO:+0300
TZNAME:EEST
DTSTART:20250330T010000
END:DAYLIGHT
BEGIN:STANDARD
TZOFFSETFROM:+0300
TZOFFSETTO:+0200
TZNAME:EET
DTSTART:20251026T010000
END:STANDARD
BEGIN:DAYLIGHT
TZOFFSETFROM:+0200
TZOFFSETTO:+0300
TZNAME:EEST
DTSTART:20260329T010000
END:DAYLIGHT
BEGIN:STANDARD
TZOFFSETFROM:+0300
TZOFFSETTO:+0200
TZNAME:EET
DTSTART:20261025T010000
END:STANDARD
BEGIN:DAYLIGHT
TZOFFSETFROM:+0200
TZOFFSETTO:+0300
TZNAME:EEST
DTSTART:20270328T010000
END:DAYLIGHT
BEGIN:STANDARD
TZOFFSETFROM:+0300
TZOFFSETTO:+0200
TZNAME:EET
DTSTART:20271031T010000
END:STANDARD
END:VTIMEZONE
BEGIN:VEVENT
DTSTART;TZID=UTC:20260202T110000
DTEND;TZID=UTC:20260202T130000
DTSTAMP:20260424T030513
CREATED:20250102T082213Z
LAST-MODIFIED:20251110T063955Z
UID:10002453-1770030000-1770037200@operaatioruokakassi.fi
SUMMARY:Turun Katulähetys
DESCRIPTION:Elintarvikejakelu Lapsiperheet yläovelta (sisäpihan kautta) noin kello 11.00-11.30. \nElintarvikejakelu Liikuntarajoitteiset yläovelta (sisäpihan kautta) noin kello 11.30-12.00. \nElintarvikejakelu alaovelta noin kello 12.00-13.00 (tai niin kauan\, kuin ruokaa riittää). \nTarkemmat ohjeet Katulähetyksen nettisivuilla (www.turunkatulahetys.fi)
URL:https://operaatioruokakassi.fi/event/turun-katulahetys-2-2-2-2-2/2026-02-02/
LOCATION:Katulähetys\, Läntinen pitkäkatu 8\, TURKU\, 20100
ATTACH;FMTTYPE=image/png:https://operaatioruokakassi.fi/wp-content/uploads/2021/04/KLahetysLogo.png
ORGANIZER;CN="Jaana Yrj%C3%A4l%C3%A4":MAILTO:jaana.yrjala@turunkatulahetys.fi
END:VEVENT
BEGIN:VEVENT
DTSTART;TZID=Europe/Helsinki:20260203T110000
DTEND;TZID=Europe/Helsinki:20260203T120000
DTSTAMP:20260424T030513
CREATED:20260119T065506Z
LAST-MODIFIED:20260409T054346Z
UID:10002564-1770116400-1770120000@operaatioruokakassi.fi
SUMMARY:Turun Helluntaiseurakunta
DESCRIPTION:Hartaus klo 11 ja ruokakassien jako klo 11.45.
URL:https://operaatioruokakassi.fi/event/turun-helluntaiseurakunta-6/2026-02-03/
LOCATION:Turun helluntaiseurakunta\, Puistokatu 6 b\, Turku\, 20200
ATTACH;FMTTYPE=image/png:https://operaatioruokakassi.fi/wp-content/uploads/2021/05/Helluntaiseurakunta-turku.png
END:VEVENT
BEGIN:VEVENT
DTSTART;TZID=Europe/Helsinki:20260203T173000
DTEND;TZID=Europe/Helsinki:20260203T180000
DTSTAMP:20260424T030513
CREATED:20240618T071436Z
LAST-MODIFIED:20251125T082327Z
UID:10002472-1770139800-1770141600@operaatioruokakassi.fi
SUMMARY:Piikkiön Adventtiseurakunta
DESCRIPTION:Vuoronumeroiden jako alkaa pihalla klo 16 \nTiistaisin klo 17:30-18:00 ruoka-apu. \nElintarvikkeita työttömille ja vähävaraisille.
URL:https://operaatioruokakassi.fi/event/piikkion-adventtiseurakunta-4/2026-02-03/
LOCATION:Piikkiön Adventtiseurakunta\, Korvenmäentie 11\, Piikkiö\, 21500
END:VEVENT
BEGIN:VEVENT
DTSTART;TZID=UTC:20260204T111500
DTEND;TZID=UTC:20260204T123000
DTSTAMP:20260424T030513
CREATED:20251106T144955Z
LAST-MODIFIED:20251110T063807Z
UID:10002414-1770203700-1770208200@operaatioruokakassi.fi
SUMMARY:Turun Katulähetys
DESCRIPTION:Elintarvikejakelu alaovelta noin kello 11.15-12.30 (tai niin kauan\, kuin ruokaa riittää). \nTarkemmat ohjeet Katulähetyksen nettisivuilla (www.turunkatulahetys.fi)
URL:https://operaatioruokakassi.fi/event/turun-katulahetys-5-2-2/2026-02-04/
LOCATION:Katulähetys\, Läntinen pitkäkatu 8\, TURKU\, 20100
ATTACH;FMTTYPE=image/png:https://operaatioruokakassi.fi/wp-content/uploads/2021/04/KLahetysLogo.png
ORGANIZER;CN="Jaana Yrj%C3%A4l%C3%A4":MAILTO:jaana.yrjala@turunkatulahetys.fi
END:VEVENT
BEGIN:VEVENT
DTSTART;TZID=Europe/Helsinki:20260204T153000
DTEND;TZID=Europe/Helsinki:20260204T173000
DTSTAMP:20260424T030513
CREATED:20260113T124420Z
LAST-MODIFIED:20260113T124420Z
UID:10002543-1770219000-1770226200@operaatioruokakassi.fi
SUMMARY:Elämän Sana
DESCRIPTION:Ruokajaot klo 15.30 ja 16.30.
URL:https://operaatioruokakassi.fi/event/elaman-sana-2/2026-02-04/
LOCATION:Elämän sana srk\, Helsinginkatu 21\, Turku\, 20100
END:VEVENT
BEGIN:VEVENT
DTSTART;TZID=UTC:20260205T193000
DTEND;TZID=UTC:20260205T203000
DTSTAMP:20260424T030513
CREATED:20240617T063115Z
LAST-MODIFIED:20251125T104638Z
UID:10002502-1770319800-1770323400@operaatioruokakassi.fi
SUMMARY:Uusipesula
DESCRIPTION:Ovet avataan kello 18. Ruokajako 19.30-20.30
URL:https://operaatioruokakassi.fi/event/uusipesula-4-2/2026-02-05/
LOCATION:Uusipesula\, Kousankatu 1\, Turku\, 20610
ATTACH;FMTTYPE=image/jpeg:https://operaatioruokakassi.fi/wp-content/uploads/2021/05/Uusipesula-logo.jpg
END:VEVENT
BEGIN:VEVENT
DTSTART;TZID=UTC:20260206T111500
DTEND;TZID=UTC:20260206T123000
DTSTAMP:20260424T030513
CREATED:20251106T144955Z
LAST-MODIFIED:20251110T063807Z
UID:10002415-1770376500-1770381000@operaatioruokakassi.fi
SUMMARY:Turun Katulähetys
DESCRIPTION:Elintarvikejakelu alaovelta noin kello 11.15-12.30 (tai niin kauan\, kuin ruokaa riittää). \nTarkemmat ohjeet Katulähetyksen nettisivuilla (www.turunkatulahetys.fi)
URL:https://operaatioruokakassi.fi/event/turun-katulahetys-5-2-2/2026-02-06/
LOCATION:Katulähetys\, Läntinen pitkäkatu 8\, TURKU\, 20100
ATTACH;FMTTYPE=image/png:https://operaatioruokakassi.fi/wp-content/uploads/2021/04/KLahetysLogo.png
ORGANIZER;CN="Jaana Yrj%C3%A4l%C3%A4":MAILTO:jaana.yrjala@turunkatulahetys.fi
END:VEVENT
BEGIN:VEVENT
DTSTART;TZID=UTC:20260209T110000
DTEND;TZID=UTC:20260209T130000
DTSTAMP:20260424T030513
CREATED:20250102T082213Z
LAST-MODIFIED:20251110T063955Z
UID:10002454-1770634800-1770642000@operaatioruokakassi.fi
SUMMARY:Turun Katulähetys
DESCRIPTION:Elintarvikejakelu Lapsiperheet yläovelta (sisäpihan kautta) noin kello 11.00-11.30. \nElintarvikejakelu Liikuntarajoitteiset yläovelta (sisäpihan kautta) noin kello 11.30-12.00. \nElintarvikejakelu alaovelta noin kello 12.00-13.00 (tai niin kauan\, kuin ruokaa riittää). \nTarkemmat ohjeet Katulähetyksen nettisivuilla (www.turunkatulahetys.fi)
URL:https://operaatioruokakassi.fi/event/turun-katulahetys-2-2-2-2-2/2026-02-09/
LOCATION:Katulähetys\, Läntinen pitkäkatu 8\, TURKU\, 20100
ATTACH;FMTTYPE=image/png:https://operaatioruokakassi.fi/wp-content/uploads/2021/04/KLahetysLogo.png
ORGANIZER;CN="Jaana Yrj%C3%A4l%C3%A4":MAILTO:jaana.yrjala@turunkatulahetys.fi
END:VEVENT
BEGIN:VEVENT
DTSTART;TZID=Europe/Helsinki:20260210T120000
DTEND;TZID=Europe/Helsinki:20260210T130000
DTSTAMP:20260424T030513
CREATED:20260108T102719Z
LAST-MODIFIED:20260409T054053Z
UID:10002536-1770724800-1770728400@operaatioruokakassi.fi
SUMMARY:Mikaelin seurakunta
DESCRIPTION:Tervetuloa nauttimaan ilmaista keittolounasta ja hakemaan ruokakassia Mikaelinseurakuntakodilta kerran kuussa! Pääset valitsemaan haluamasi elintarvikkeet itse\, joten otathan oman kassin mukaan.
URL:https://operaatioruokakassi.fi/event/mikaelin-seurakunta-8/2026-02-10/
LOCATION:Mikaelin seurakuntakoti\, Puistokatu 13\, Turku\, 20100
ATTACH;FMTTYPE=image/png:https://operaatioruokakassi.fi/wp-content/uploads/2021/09/Mikaelinsrk1849.png
ORGANIZER;CN="Heli Ojala":MAILTO:heli.m.ojala@evl.fi
END:VEVENT
BEGIN:VEVENT
DTSTART;TZID=Europe/Helsinki:20260210T150000
DTEND;TZID=Europe/Helsinki:20260210T160000
DTSTAMP:20260424T030513
CREATED:20260119T085627Z
LAST-MODIFIED:20260119T085627Z
UID:10002569-1770735600-1770739200@operaatioruokakassi.fi
SUMMARY:Kaarinan seurakunta
DESCRIPTION:Ruoka-apua kerran kuussa tiistaina klo 15. Ota oma kassi mukaan. Jaamme vuoronumerot. Lapsiperheille leikkinurkkaus\, ei erillistä jakoa lapsiperheille.
URL:https://operaatioruokakassi.fi/event/kaarinan-seurakunta-4/2026-02-10/
LOCATION:Kaarinan kirkko\, Vuodinkatu 2\, Kaarina\, 20780
ATTACH;FMTTYPE=image/jpeg:https://operaatioruokakassi.fi/wp-content/uploads/2021/04/Kaarina.jpg
ORGANIZER;CN="Anu Aarnivala":MAILTO:anu.aarnivala@evl.fi
END:VEVENT
BEGIN:VEVENT
DTSTART;TZID=Europe/Helsinki:20260210T173000
DTEND;TZID=Europe/Helsinki:20260210T180000
DTSTAMP:20260424T030513
CREATED:20240618T071436Z
LAST-MODIFIED:20251125T082327Z
UID:10002473-1770744600-1770746400@operaatioruokakassi.fi
SUMMARY:Piikkiön Adventtiseurakunta
DESCRIPTION:Vuoronumeroiden jako alkaa pihalla klo 16 \nTiistaisin klo 17:30-18:00 ruoka-apu. \nElintarvikkeita työttömille ja vähävaraisille.
URL:https://operaatioruokakassi.fi/event/piikkion-adventtiseurakunta-4/2026-02-10/
LOCATION:Piikkiön Adventtiseurakunta\, Korvenmäentie 11\, Piikkiö\, 21500
END:VEVENT
BEGIN:VEVENT
DTSTART;TZID=UTC:20260211T111500
DTEND;TZID=UTC:20260211T123000
DTSTAMP:20260424T030513
CREATED:20251106T144955Z
LAST-MODIFIED:20251110T063807Z
UID:10002416-1770808500-1770813000@operaatioruokakassi.fi
SUMMARY:Turun Katulähetys
DESCRIPTION:Elintarvikejakelu alaovelta noin kello 11.15-12.30 (tai niin kauan\, kuin ruokaa riittää). \nTarkemmat ohjeet Katulähetyksen nettisivuilla (www.turunkatulahetys.fi)
URL:https://operaatioruokakassi.fi/event/turun-katulahetys-5-2-2/2026-02-11/
LOCATION:Katulähetys\, Läntinen pitkäkatu 8\, TURKU\, 20100
ATTACH;FMTTYPE=image/png:https://operaatioruokakassi.fi/wp-content/uploads/2021/04/KLahetysLogo.png
ORGANIZER;CN="Jaana Yrj%C3%A4l%C3%A4":MAILTO:jaana.yrjala@turunkatulahetys.fi
END:VEVENT
BEGIN:VEVENT
DTSTART;TZID=Europe/Helsinki:20260211T153000
DTEND;TZID=Europe/Helsinki:20260211T173000
DTSTAMP:20260424T030513
CREATED:20260113T124420Z
LAST-MODIFIED:20260113T124420Z
UID:10002544-1770823800-1770831000@operaatioruokakassi.fi
SUMMARY:Elämän Sana
DESCRIPTION:Ruokajaot klo 15.30 ja 16.30.
URL:https://operaatioruokakassi.fi/event/elaman-sana-2/2026-02-11/
LOCATION:Elämän sana srk\, Helsinginkatu 21\, Turku\, 20100
END:VEVENT
BEGIN:VEVENT
DTSTART;TZID=Europe/Helsinki:20260212T140000
DTEND;TZID=Europe/Helsinki:20260212T150000
DTSTAMP:20260424T030513
CREATED:20251126T091633Z
LAST-MODIFIED:20251128T111716Z
UID:10002522-1770904800-1770908400@operaatioruokakassi.fi
SUMMARY:Toivon Torstai Paakarlassa
DESCRIPTION:Vuoronumerot arvotaan klo 13.30 ovelta (30 minuuttia ennen ruokailua). Ruokailu alkaa klo 14 ja ohjelma klo 14.30. Kassijako ohjelman jälkeen.
URL:https://operaatioruokakassi.fi/event/toivon-torstai-paakarlassa-16/2026-02-12/
LOCATION:Paakarlan seurakuntakoti\, Laivateollisuudenkatu 28\, Turku\, 20240
END:VEVENT
BEGIN:VEVENT
DTSTART;TZID=UTC:20260212T193000
DTEND;TZID=UTC:20260212T203000
DTSTAMP:20260424T030513
CREATED:20240617T063115Z
LAST-MODIFIED:20251125T104638Z
UID:10002503-1770924600-1770928200@operaatioruokakassi.fi
SUMMARY:Uusipesula
DESCRIPTION:Ovet avataan kello 18. Ruokajako 19.30-20.30
URL:https://operaatioruokakassi.fi/event/uusipesula-4-2/2026-02-12/
LOCATION:Uusipesula\, Kousankatu 1\, Turku\, 20610
ATTACH;FMTTYPE=image/jpeg:https://operaatioruokakassi.fi/wp-content/uploads/2021/05/Uusipesula-logo.jpg
END:VEVENT
BEGIN:VEVENT
DTSTART;TZID=UTC:20260213T111500
DTEND;TZID=UTC:20260213T123000
DTSTAMP:20260424T030513
CREATED:20251106T144955Z
LAST-MODIFIED:20251110T063807Z
UID:10002417-1770981300-1770985800@operaatioruokakassi.fi
SUMMARY:Turun Katulähetys
DESCRIPTION:Elintarvikejakelu alaovelta noin kello 11.15-12.30 (tai niin kauan\, kuin ruokaa riittää). \nTarkemmat ohjeet Katulähetyksen nettisivuilla (www.turunkatulahetys.fi)
URL:https://operaatioruokakassi.fi/event/turun-katulahetys-5-2-2/2026-02-13/
LOCATION:Katulähetys\, Läntinen pitkäkatu 8\, TURKU\, 20100
ATTACH;FMTTYPE=image/png:https://operaatioruokakassi.fi/wp-content/uploads/2021/04/KLahetysLogo.png
ORGANIZER;CN="Jaana Yrj%C3%A4l%C3%A4":MAILTO:jaana.yrjala@turunkatulahetys.fi
END:VEVENT
BEGIN:VEVENT
DTSTART;TZID=Europe/Helsinki:20260214T120000
DTEND;TZID=Europe/Helsinki:20260214T130000
DTSTAMP:20260424T030513
CREATED:20251203T065906Z
LAST-MODIFIED:20251203T065906Z
UID:10002531-1771070400-1771074000@operaatioruokakassi.fi
SUMMARY:ViaDia Raisio
DESCRIPTION:Ovet avataan klo 11 ja samalla aloitetaan vuoronumeroiden jako pääovelta. Numeron saatuasi voit jäädä ulos odottelemaan tai halutessasi tulla sisään kuuntelemaan hengellistä musiikkia ja hartaushetkeä. \nRuokakassien jako\, ruokailu ja kahvio aukeavat VASTA klo 12:00. \nViaDia Raisio toimii Raision Vapaaseurakunnan tiloissa.
URL:https://operaatioruokakassi.fi/event/viadia-raisio/2026-02-14/
LOCATION:Raision Vapaaseurakunta\, Frälsintie 20\, Raisio\, 21200
ORGANIZER;CN="Marja-Terttu Lampinen":MAILTO:m-t.lampinen@suomi24.fi
END:VEVENT
BEGIN:VEVENT
DTSTART;TZID=UTC:20260216T110000
DTEND;TZID=UTC:20260216T130000
DTSTAMP:20260424T030513
CREATED:20250102T082213Z
LAST-MODIFIED:20251110T063955Z
UID:10002455-1771239600-1771246800@operaatioruokakassi.fi
SUMMARY:Turun Katulähetys
DESCRIPTION:Elintarvikejakelu Lapsiperheet yläovelta (sisäpihan kautta) noin kello 11.00-11.30. \nElintarvikejakelu Liikuntarajoitteiset yläovelta (sisäpihan kautta) noin kello 11.30-12.00. \nElintarvikejakelu alaovelta noin kello 12.00-13.00 (tai niin kauan\, kuin ruokaa riittää). \nTarkemmat ohjeet Katulähetyksen nettisivuilla (www.turunkatulahetys.fi)
URL:https://operaatioruokakassi.fi/event/turun-katulahetys-2-2-2-2-2/2026-02-16/
LOCATION:Katulähetys\, Läntinen pitkäkatu 8\, TURKU\, 20100
ATTACH;FMTTYPE=image/png:https://operaatioruokakassi.fi/wp-content/uploads/2021/04/KLahetysLogo.png
ORGANIZER;CN="Jaana Yrj%C3%A4l%C3%A4":MAILTO:jaana.yrjala@turunkatulahetys.fi
END:VEVENT
BEGIN:VEVENT
DTSTART;TZID=Europe/Helsinki:20260217T110000
DTEND;TZID=Europe/Helsinki:20260217T120000
DTSTAMP:20260424T030513
CREATED:20260119T065506Z
LAST-MODIFIED:20260409T054346Z
UID:10002565-1771326000-1771329600@operaatioruokakassi.fi
SUMMARY:Turun Helluntaiseurakunta
DESCRIPTION:Hartaus klo 11 ja ruokakassien jako klo 11.45.
URL:https://operaatioruokakassi.fi/event/turun-helluntaiseurakunta-6/2026-02-17/
LOCATION:Turun helluntaiseurakunta\, Puistokatu 6 b\, Turku\, 20200
ATTACH;FMTTYPE=image/png:https://operaatioruokakassi.fi/wp-content/uploads/2021/05/Helluntaiseurakunta-turku.png
END:VEVENT
BEGIN:VEVENT
DTSTART;TZID=Europe/Helsinki:20260217T173000
DTEND;TZID=Europe/Helsinki:20260217T180000
DTSTAMP:20260424T030513
CREATED:20240618T071436Z
LAST-MODIFIED:20251125T082327Z
UID:10002474-1771349400-1771351200@operaatioruokakassi.fi
SUMMARY:Piikkiön Adventtiseurakunta
DESCRIPTION:Vuoronumeroiden jako alkaa pihalla klo 16 \nTiistaisin klo 17:30-18:00 ruoka-apu. \nElintarvikkeita työttömille ja vähävaraisille.
URL:https://operaatioruokakassi.fi/event/piikkion-adventtiseurakunta-4/2026-02-17/
LOCATION:Piikkiön Adventtiseurakunta\, Korvenmäentie 11\, Piikkiö\, 21500
END:VEVENT
BEGIN:VEVENT
DTSTART;TZID=UTC:20260218T111500
DTEND;TZID=UTC:20260218T123000
DTSTAMP:20260424T030513
CREATED:20251106T144955Z
LAST-MODIFIED:20251110T063807Z
UID:10002418-1771413300-1771417800@operaatioruokakassi.fi
SUMMARY:Turun Katulähetys
DESCRIPTION:Elintarvikejakelu alaovelta noin kello 11.15-12.30 (tai niin kauan\, kuin ruokaa riittää). \nTarkemmat ohjeet Katulähetyksen nettisivuilla (www.turunkatulahetys.fi)
URL:https://operaatioruokakassi.fi/event/turun-katulahetys-5-2-2/2026-02-18/
LOCATION:Katulähetys\, Läntinen pitkäkatu 8\, TURKU\, 20100
ATTACH;FMTTYPE=image/png:https://operaatioruokakassi.fi/wp-content/uploads/2021/04/KLahetysLogo.png
ORGANIZER;CN="Jaana Yrj%C3%A4l%C3%A4":MAILTO:jaana.yrjala@turunkatulahetys.fi
END:VEVENT
BEGIN:VEVENT
DTSTART;TZID=Europe/Helsinki:20260218T153000
DTEND;TZID=Europe/Helsinki:20260218T173000
DTSTAMP:20260424T030513
CREATED:20260113T124420Z
LAST-MODIFIED:20260113T124420Z
UID:10002545-1771428600-1771435800@operaatioruokakassi.fi
SUMMARY:Elämän Sana
DESCRIPTION:Ruokajaot klo 15.30 ja 16.30.
URL:https://operaatioruokakassi.fi/event/elaman-sana-2/2026-02-18/
LOCATION:Elämän sana srk\, Helsinginkatu 21\, Turku\, 20100
END:VEVENT
BEGIN:VEVENT
DTSTART;TZID=UTC:20260219T193000
DTEND;TZID=UTC:20260219T203000
DTSTAMP:20260424T030513
CREATED:20240617T063115Z
LAST-MODIFIED:20251125T104638Z
UID:10002504-1771529400-1771533000@operaatioruokakassi.fi
SUMMARY:Uusipesula
DESCRIPTION:Ovet avataan kello 18. Ruokajako 19.30-20.30
URL:https://operaatioruokakassi.fi/event/uusipesula-4-2/2026-02-19/
LOCATION:Uusipesula\, Kousankatu 1\, Turku\, 20610
ATTACH;FMTTYPE=image/jpeg:https://operaatioruokakassi.fi/wp-content/uploads/2021/05/Uusipesula-logo.jpg
END:VEVENT
BEGIN:VEVENT
DTSTART;TZID=UTC:20260220T111500
DTEND;TZID=UTC:20260220T123000
DTSTAMP:20260424T030513
CREATED:20251106T144955Z
LAST-MODIFIED:20251110T063807Z
UID:10002419-1771586100-1771590600@operaatioruokakassi.fi
SUMMARY:Turun Katulähetys
DESCRIPTION:Elintarvikejakelu alaovelta noin kello 11.15-12.30 (tai niin kauan\, kuin ruokaa riittää). \nTarkemmat ohjeet Katulähetyksen nettisivuilla (www.turunkatulahetys.fi)
URL:https://operaatioruokakassi.fi/event/turun-katulahetys-5-2-2/2026-02-20/
LOCATION:Katulähetys\, Läntinen pitkäkatu 8\, TURKU\, 20100
ATTACH;FMTTYPE=image/png:https://operaatioruokakassi.fi/wp-content/uploads/2021/04/KLahetysLogo.png
ORGANIZER;CN="Jaana Yrj%C3%A4l%C3%A4":MAILTO:jaana.yrjala@turunkatulahetys.fi
END:VEVENT
BEGIN:VEVENT
DTSTART;TZID=UTC:20260223T110000
DTEND;TZID=UTC:20260223T130000
DTSTAMP:20260424T030513
CREATED:20250102T082213Z
LAST-MODIFIED:20251110T063955Z
UID:10002456-1771844400-1771851600@operaatioruokakassi.fi
SUMMARY:Turun Katulähetys
DESCRIPTION:Elintarvikejakelu Lapsiperheet yläovelta (sisäpihan kautta) noin kello 11.00-11.30. \nElintarvikejakelu Liikuntarajoitteiset yläovelta (sisäpihan kautta) noin kello 11.30-12.00. \nElintarvikejakelu alaovelta noin kello 12.00-13.00 (tai niin kauan\, kuin ruokaa riittää). \nTarkemmat ohjeet Katulähetyksen nettisivuilla (www.turunkatulahetys.fi)
URL:https://operaatioruokakassi.fi/event/turun-katulahetys-2-2-2-2-2/2026-02-23/
LOCATION:Katulähetys\, Läntinen pitkäkatu 8\, TURKU\, 20100
ATTACH;FMTTYPE=image/png:https://operaatioruokakassi.fi/wp-content/uploads/2021/04/KLahetysLogo.png
ORGANIZER;CN="Jaana Yrj%C3%A4l%C3%A4":MAILTO:jaana.yrjala@turunkatulahetys.fi
END:VEVENT
BEGIN:VEVENT
DTSTART;TZID=Europe/Helsinki:20260224T173000
DTEND;TZID=Europe/Helsinki:20260224T180000
DTSTAMP:20260424T030513
CREATED:20240618T071436Z
LAST-MODIFIED:20251125T082327Z
UID:10002475-1771954200-1771956000@operaatioruokakassi.fi
SUMMARY:Piikkiön Adventtiseurakunta
DESCRIPTION:Vuoronumeroiden jako alkaa pihalla klo 16 \nTiistaisin klo 17:30-18:00 ruoka-apu. \nElintarvikkeita työttömille ja vähävaraisille.
URL:https://operaatioruokakassi.fi/event/piikkion-adventtiseurakunta-4/2026-02-24/
LOCATION:Piikkiön Adventtiseurakunta\, Korvenmäentie 11\, Piikkiö\, 21500
END:VEVENT
BEGIN:VEVENT
DTSTART;TZID=UTC:20260225T111500
DTEND;TZID=UTC:20260225T123000
DTSTAMP:20260424T030513
CREATED:20251106T144955Z
LAST-MODIFIED:20251110T063807Z
UID:10002420-1772018100-1772022600@operaatioruokakassi.fi
SUMMARY:Turun Katulähetys
DESCRIPTION:Elintarvikejakelu alaovelta noin kello 11.15-12.30 (tai niin kauan\, kuin ruokaa riittää). \nTarkemmat ohjeet Katulähetyksen nettisivuilla (www.turunkatulahetys.fi)
URL:https://operaatioruokakassi.fi/event/turun-katulahetys-5-2-2/2026-02-25/
LOCATION:Katulähetys\, Läntinen pitkäkatu 8\, TURKU\, 20100
ATTACH;FMTTYPE=image/png:https://operaatioruokakassi.fi/wp-content/uploads/2021/04/KLahetysLogo.png
ORGANIZER;CN="Jaana Yrj%C3%A4l%C3%A4":MAILTO:jaana.yrjala@turunkatulahetys.fi
END:VEVENT
BEGIN:VEVENT
DTSTART;TZID=Europe/Helsinki:20260225T153000
DTEND;TZID=Europe/Helsinki:20260225T173000
DTSTAMP:20260424T030513
CREATED:20260113T124420Z
LAST-MODIFIED:20260113T124420Z
UID:10002546-1772033400-1772040600@operaatioruokakassi.fi
SUMMARY:Elämän Sana
DESCRIPTION:Ruokajaot klo 15.30 ja 16.30.
URL:https://operaatioruokakassi.fi/event/elaman-sana-2/2026-02-25/
LOCATION:Elämän sana srk\, Helsinginkatu 21\, Turku\, 20100
END:VEVENT
BEGIN:VEVENT
DTSTART;TZID=Europe/Helsinki:20260226T140000
DTEND;TZID=Europe/Helsinki:20260226T150000
DTSTAMP:20260424T030513
CREATED:20251126T091633Z
LAST-MODIFIED:20251128T111716Z
UID:10002523-1772114400-1772118000@operaatioruokakassi.fi
SUMMARY:Toivon Torstai Paakarlassa
DESCRIPTION:Vuoronumerot arvotaan klo 13.30 ovelta (30 minuuttia ennen ruokailua). Ruokailu alkaa klo 14 ja ohjelma klo 14.30. Kassijako ohjelman jälkeen.
URL:https://operaatioruokakassi.fi/event/toivon-torstai-paakarlassa-16/2026-02-26/
LOCATION:Paakarlan seurakuntakoti\, Laivateollisuudenkatu 28\, Turku\, 20240
END:VEVENT
BEGIN:VEVENT
DTSTART;TZID=UTC:20260226T193000
DTEND;TZID=UTC:20260226T203000
DTSTAMP:20260424T030513
CREATED:20240617T063115Z
LAST-MODIFIED:20251125T104638Z
UID:10002505-1772134200-1772137800@operaatioruokakassi.fi
SUMMARY:Uusipesula
DESCRIPTION:Ovet avataan kello 18. Ruokajako 19.30-20.30
URL:https://operaatioruokakassi.fi/event/uusipesula-4-2/2026-02-26/
LOCATION:Uusipesula\, Kousankatu 1\, Turku\, 20610
ATTACH;FMTTYPE=image/jpeg:https://operaatioruokakassi.fi/wp-content/uploads/2021/05/Uusipesula-logo.jpg
END:VEVENT
END:VCALENDAR