BEGIN:VCALENDAR
VERSION:2.0
PRODID:-//Operaatio Ruokakassi - ECPv6.15.20//NONSGML v1.0//EN
CALSCALE:GREGORIAN
METHOD:PUBLISH
X-ORIGINAL-URL:https://operaatioruokakassi.fi
X-WR-CALDESC:Tapahtumat Operaatio Ruokakassi
REFRESH-INTERVAL;VALUE=DURATION:PT1H
X-Robots-Tag:noindex
X-PUBLISHED-TTL:PT1H
BEGIN:VTIMEZONE
TZID:UTC
BEGIN:STANDARD
TZOFFSETFROM:+0000
TZOFFSETTO:+0000
TZNAME:UTC
DTSTART:20230101T000000
END:STANDARD
END:VTIMEZONE
BEGIN:VTIMEZONE
TZID:Europe/Helsinki
BEGIN:DAYLIGHT
TZOFFSETFROM:+0200
TZOFFSETTO:+0300
TZNAME:EEST
DTSTART:20230326T010000
END:DAYLIGHT
BEGIN:STANDARD
TZOFFSETFROM:+0300
TZOFFSETTO:+0200
TZNAME:EET
DTSTART:20231029T010000
END:STANDARD
BEGIN:DAYLIGHT
TZOFFSETFROM:+0200
TZOFFSETTO:+0300
TZNAME:EEST
DTSTART:20240331T010000
END:DAYLIGHT
BEGIN:STANDARD
TZOFFSETFROM:+0300
TZOFFSETTO:+0200
TZNAME:EET
DTSTART:20241027T010000
END:STANDARD
BEGIN:DAYLIGHT
TZOFFSETFROM:+0200
TZOFFSETTO:+0300
TZNAME:EEST
DTSTART:20250330T010000
END:DAYLIGHT
BEGIN:STANDARD
TZOFFSETFROM:+0300
TZOFFSETTO:+0200
TZNAME:EET
DTSTART:20251026T010000
END:STANDARD
END:VTIMEZONE
BEGIN:VEVENT
DTSTART;TZID=UTC:20241101T120000
DTEND;TZID=UTC:20241101T130000
DTSTAMP:20260424T220719
CREATED:20240610T055118Z
LAST-MODIFIED:20250422T075311Z
UID:10001894-1730462400-1730466000@operaatioruokakassi.fi
SUMMARY:Turun Katulähetys
DESCRIPTION:Elintarvikejakelu alaovelta noin kello 12.00-13.00 (tai niin kauan\, kuin ruokaa riittää). \nTarkemmat ohjeet Katulähetyksen nettisivuilla (www.turunkatulahetys.fi)
URL:https://operaatioruokakassi.fi/event/turun-katulahetys-5-2/2024-11-01/
LOCATION:Katulähetys\, Läntinen pitkäkatu 8\, TURKU\, 20100
ATTACH;FMTTYPE=image/png:https://operaatioruokakassi.fi/wp-content/uploads/2021/04/KLahetysLogo.png
ORGANIZER;CN="Jaana Yrj%C3%A4l%C3%A4":MAILTO:jaana.yrjala@turunkatulahetys.fi
END:VEVENT
BEGIN:VEVENT
DTSTART;TZID=UTC:20241104T110000
DTEND;TZID=UTC:20241104T130000
DTSTAMP:20260424T220719
CREATED:20250102T082213Z
LAST-MODIFIED:20251110T063955Z
UID:10002039-1730718000-1730725200@operaatioruokakassi.fi
SUMMARY:Turun Katulähetys
DESCRIPTION:Elintarvikejakelu Lapsiperheet yläovelta (sisäpihan kautta) noin kello 11.00-11.30. \nElintarvikejakelu Liikuntarajoitteiset yläovelta (sisäpihan kautta) noin kello 11.30-12.00. \nElintarvikejakelu alaovelta noin kello 12.00-13.00 (tai niin kauan\, kuin ruokaa riittää). \nTarkemmat ohjeet Katulähetyksen nettisivuilla (www.turunkatulahetys.fi)
URL:https://operaatioruokakassi.fi/event/turun-katulahetys-2-2-2-2-2/2024-11-04/
LOCATION:Katulähetys\, Läntinen pitkäkatu 8\, TURKU\, 20100
ATTACH;FMTTYPE=image/png:https://operaatioruokakassi.fi/wp-content/uploads/2021/04/KLahetysLogo.png
ORGANIZER;CN="Jaana Yrj%C3%A4l%C3%A4":MAILTO:jaana.yrjala@turunkatulahetys.fi
END:VEVENT
BEGIN:VEVENT
DTSTART;TZID=Europe/Helsinki:20241105T173000
DTEND;TZID=Europe/Helsinki:20241105T180000
DTSTAMP:20260424T220719
CREATED:20240618T071436Z
LAST-MODIFIED:20251125T082327Z
UID:10001953-1730827800-1730829600@operaatioruokakassi.fi
SUMMARY:Piikkiön Adventtiseurakunta
DESCRIPTION:Vuoronumeroiden jako alkaa pihalla klo 16 \nTiistaisin klo 17:30-18:00 ruoka-apu. \nElintarvikkeita työttömille ja vähävaraisille.
URL:https://operaatioruokakassi.fi/event/piikkion-adventtiseurakunta-4/2024-11-05/
LOCATION:Piikkiön Adventtiseurakunta\, Korvenmäentie 11\, Piikkiö\, 21500
END:VEVENT
BEGIN:VEVENT
DTSTART;TZID=UTC:20241106T120000
DTEND;TZID=UTC:20241106T130000
DTSTAMP:20260424T220719
CREATED:20240610T055118Z
LAST-MODIFIED:20250422T075311Z
UID:10001895-1730894400-1730898000@operaatioruokakassi.fi
SUMMARY:Turun Katulähetys
DESCRIPTION:Elintarvikejakelu alaovelta noin kello 12.00-13.00 (tai niin kauan\, kuin ruokaa riittää). \nTarkemmat ohjeet Katulähetyksen nettisivuilla (www.turunkatulahetys.fi)
URL:https://operaatioruokakassi.fi/event/turun-katulahetys-5-2/2024-11-06/
LOCATION:Katulähetys\, Läntinen pitkäkatu 8\, TURKU\, 20100
ATTACH;FMTTYPE=image/png:https://operaatioruokakassi.fi/wp-content/uploads/2021/04/KLahetysLogo.png
ORGANIZER;CN="Jaana Yrj%C3%A4l%C3%A4":MAILTO:jaana.yrjala@turunkatulahetys.fi
END:VEVENT
BEGIN:VEVENT
DTSTART;TZID=Europe/Helsinki:20241106T160000
DTEND;TZID=Europe/Helsinki:20241106T180000
DTSTAMP:20260424T220719
CREATED:20230614T120644Z
LAST-MODIFIED:20250410T075249Z
UID:10001478-1730908800-1730916000@operaatioruokakassi.fi
SUMMARY:Elämän Sana Srk
DESCRIPTION:
URL:https://operaatioruokakassi.fi/event/elaman-sana-srk-5/2024-11-06/
LOCATION:Elämän sana srk\, Helsinginkatu 21\, Turku\, 20100
ATTACH;FMTTYPE=image/png:https://operaatioruokakassi.fi/wp-content/uploads/2022/03/EsLogo1lineHarmTxt-e1547150675551.png
END:VEVENT
BEGIN:VEVENT
DTSTART;TZID=Europe/Helsinki:20241107T140000
DTEND;TZID=Europe/Helsinki:20241107T150000
DTSTAMP:20260424T220719
CREATED:20240108T162331Z
LAST-MODIFIED:20240723T112458Z
UID:10001862-1730988000-1730991600@operaatioruokakassi.fi
SUMMARY:Toivon Torstai Paakarlassa
DESCRIPTION:Ruokailu alkaa klo 14 ja ohjelma klo 14.30. Kassijako ohjelman jälkeen.
URL:https://operaatioruokakassi.fi/event/toivon-torstai-paakarlassa-14/2024-11-07/
LOCATION:Paakarlan seurakuntakoti\, Laivateollisuudenkatu 28\, Turku\, 20240
END:VEVENT
BEGIN:VEVENT
DTSTART;TZID=UTC:20241107T193000
DTEND;TZID=UTC:20241107T203000
DTSTAMP:20260424T220719
CREATED:20240617T063115Z
LAST-MODIFIED:20251125T104638Z
UID:10001610-1731007800-1731011400@operaatioruokakassi.fi
SUMMARY:Uusipesula
DESCRIPTION:Ovet avataan kello 18. Ruokajako 19.30-20.30
URL:https://operaatioruokakassi.fi/event/uusipesula-4-2/2024-11-07/
LOCATION:Uusipesula\, Kousankatu 1\, Turku\, 20610
ATTACH;FMTTYPE=image/jpeg:https://operaatioruokakassi.fi/wp-content/uploads/2021/05/Uusipesula-logo.jpg
END:VEVENT
BEGIN:VEVENT
DTSTART;TZID=UTC:20241108T120000
DTEND;TZID=UTC:20241108T130000
DTSTAMP:20260424T220719
CREATED:20240610T055118Z
LAST-MODIFIED:20250422T075311Z
UID:10001896-1731067200-1731070800@operaatioruokakassi.fi
SUMMARY:Turun Katulähetys
DESCRIPTION:Elintarvikejakelu alaovelta noin kello 12.00-13.00 (tai niin kauan\, kuin ruokaa riittää). \nTarkemmat ohjeet Katulähetyksen nettisivuilla (www.turunkatulahetys.fi)
URL:https://operaatioruokakassi.fi/event/turun-katulahetys-5-2/2024-11-08/
LOCATION:Katulähetys\, Läntinen pitkäkatu 8\, TURKU\, 20100
ATTACH;FMTTYPE=image/png:https://operaatioruokakassi.fi/wp-content/uploads/2021/04/KLahetysLogo.png
ORGANIZER;CN="Jaana Yrj%C3%A4l%C3%A4":MAILTO:jaana.yrjala@turunkatulahetys.fi
END:VEVENT
BEGIN:VEVENT
DTSTART;TZID=Europe/Helsinki:20241109T120000
DTEND;TZID=Europe/Helsinki:20241109T130000
DTSTAMP:20260424T220719
CREATED:20240530T063420Z
LAST-MODIFIED:20250808T065229Z
UID:10001619-1731153600-1731157200@operaatioruokakassi.fi
SUMMARY:ViaDia Raisio
DESCRIPTION:Ovet avataan klo 11 ja samalla aloitetaan vuoronumeroiden jako pääovelta. Numeron saatuasi voit jäädä ulos odottelemaan tai halutessasi tulla sisään kuuntelemaan hengellistä musiikkia ja hartaushetkeä.\nRUOKAKASSIEN jako\, RUOKAILU ja KAHVIO aukeavat VASTA klo 12:00. \nViaDia Raisio toimii Raision Vapaaseurakunnan tiloissa.
URL:https://operaatioruokakassi.fi/event/raision-vapaaseurakunta-5/2024-11-09/
LOCATION:Raision Vapaaseurakunta\, Frälsintie 20\, Raisio\, 21200
ORGANIZER;CN="Marja-Terttu Lampinen":MAILTO:m-t.lampinen@suomi24.fi
END:VEVENT
BEGIN:VEVENT
DTSTART;TZID=UTC:20241111T110000
DTEND;TZID=UTC:20241111T130000
DTSTAMP:20260424T220719
CREATED:20250102T082213Z
LAST-MODIFIED:20251110T063955Z
UID:10002040-1731322800-1731330000@operaatioruokakassi.fi
SUMMARY:Turun Katulähetys
DESCRIPTION:Elintarvikejakelu Lapsiperheet yläovelta (sisäpihan kautta) noin kello 11.00-11.30. \nElintarvikejakelu Liikuntarajoitteiset yläovelta (sisäpihan kautta) noin kello 11.30-12.00. \nElintarvikejakelu alaovelta noin kello 12.00-13.00 (tai niin kauan\, kuin ruokaa riittää). \nTarkemmat ohjeet Katulähetyksen nettisivuilla (www.turunkatulahetys.fi)
URL:https://operaatioruokakassi.fi/event/turun-katulahetys-2-2-2-2-2/2024-11-11/
LOCATION:Katulähetys\, Läntinen pitkäkatu 8\, TURKU\, 20100
ATTACH;FMTTYPE=image/png:https://operaatioruokakassi.fi/wp-content/uploads/2021/04/KLahetysLogo.png
ORGANIZER;CN="Jaana Yrj%C3%A4l%C3%A4":MAILTO:jaana.yrjala@turunkatulahetys.fi
END:VEVENT
BEGIN:VEVENT
DTSTART;TZID=Europe/Helsinki:20241112T110000
DTEND;TZID=Europe/Helsinki:20241112T120000
DTSTAMP:20260424T220719
CREATED:20240122T114208Z
LAST-MODIFIED:20240527T054606Z
UID:10001577-1731409200-1731412800@operaatioruokakassi.fi
SUMMARY:Turun Helluntaiseurakunta
DESCRIPTION:Tilaisuus alkaa klo 11.00\, ruokakassijakelu n. klo 11.45.
URL:https://operaatioruokakassi.fi/event/turun-helluntaiseurakunta-5-2/2024-11-12/
LOCATION:Turun helluntaiseurakunta\, Puistokatu 6 b\, Turku\, 20200
ATTACH;FMTTYPE=image/png:https://operaatioruokakassi.fi/wp-content/uploads/2021/04/Helluntaiseurakunta-turku-3.png
END:VEVENT
BEGIN:VEVENT
DTSTART;TZID=Europe/Helsinki:20241112T173000
DTEND;TZID=Europe/Helsinki:20241112T180000
DTSTAMP:20260424T220719
CREATED:20240618T071436Z
LAST-MODIFIED:20251125T082327Z
UID:10001954-1731432600-1731434400@operaatioruokakassi.fi
SUMMARY:Piikkiön Adventtiseurakunta
DESCRIPTION:Vuoronumeroiden jako alkaa pihalla klo 16 \nTiistaisin klo 17:30-18:00 ruoka-apu. \nElintarvikkeita työttömille ja vähävaraisille.
URL:https://operaatioruokakassi.fi/event/piikkion-adventtiseurakunta-4/2024-11-12/
LOCATION:Piikkiön Adventtiseurakunta\, Korvenmäentie 11\, Piikkiö\, 21500
END:VEVENT
BEGIN:VEVENT
DTSTART;TZID=UTC:20241113T120000
DTEND;TZID=UTC:20241113T130000
DTSTAMP:20260424T220719
CREATED:20240610T055118Z
LAST-MODIFIED:20250422T075311Z
UID:10001897-1731499200-1731502800@operaatioruokakassi.fi
SUMMARY:Turun Katulähetys
DESCRIPTION:Elintarvikejakelu alaovelta noin kello 12.00-13.00 (tai niin kauan\, kuin ruokaa riittää). \nTarkemmat ohjeet Katulähetyksen nettisivuilla (www.turunkatulahetys.fi)
URL:https://operaatioruokakassi.fi/event/turun-katulahetys-5-2/2024-11-13/
LOCATION:Katulähetys\, Läntinen pitkäkatu 8\, TURKU\, 20100
ATTACH;FMTTYPE=image/png:https://operaatioruokakassi.fi/wp-content/uploads/2021/04/KLahetysLogo.png
ORGANIZER;CN="Jaana Yrj%C3%A4l%C3%A4":MAILTO:jaana.yrjala@turunkatulahetys.fi
END:VEVENT
BEGIN:VEVENT
DTSTART;TZID=Europe/Helsinki:20241113T160000
DTEND;TZID=Europe/Helsinki:20241113T180000
DTSTAMP:20260424T220719
CREATED:20230614T120644Z
LAST-MODIFIED:20250410T075249Z
UID:10001479-1731513600-1731520800@operaatioruokakassi.fi
SUMMARY:Elämän Sana Srk
DESCRIPTION:
URL:https://operaatioruokakassi.fi/event/elaman-sana-srk-5/2024-11-13/
LOCATION:Elämän sana srk\, Helsinginkatu 21\, Turku\, 20100
ATTACH;FMTTYPE=image/png:https://operaatioruokakassi.fi/wp-content/uploads/2022/03/EsLogo1lineHarmTxt-e1547150675551.png
END:VEVENT
BEGIN:VEVENT
DTSTART;TZID=UTC:20241114T193000
DTEND;TZID=UTC:20241114T203000
DTSTAMP:20260424T220719
CREATED:20240617T063115Z
LAST-MODIFIED:20251125T104638Z
UID:10001611-1731612600-1731616200@operaatioruokakassi.fi
SUMMARY:Uusipesula
DESCRIPTION:Ovet avataan kello 18. Ruokajako 19.30-20.30
URL:https://operaatioruokakassi.fi/event/uusipesula-4-2/2024-11-14/
LOCATION:Uusipesula\, Kousankatu 1\, Turku\, 20610
ATTACH;FMTTYPE=image/jpeg:https://operaatioruokakassi.fi/wp-content/uploads/2021/05/Uusipesula-logo.jpg
END:VEVENT
BEGIN:VEVENT
DTSTART;TZID=UTC:20241115T120000
DTEND;TZID=UTC:20241115T130000
DTSTAMP:20260424T220719
CREATED:20240610T055118Z
LAST-MODIFIED:20250422T075311Z
UID:10001898-1731672000-1731675600@operaatioruokakassi.fi
SUMMARY:Turun Katulähetys
DESCRIPTION:Elintarvikejakelu alaovelta noin kello 12.00-13.00 (tai niin kauan\, kuin ruokaa riittää). \nTarkemmat ohjeet Katulähetyksen nettisivuilla (www.turunkatulahetys.fi)
URL:https://operaatioruokakassi.fi/event/turun-katulahetys-5-2/2024-11-15/
LOCATION:Katulähetys\, Läntinen pitkäkatu 8\, TURKU\, 20100
ATTACH;FMTTYPE=image/png:https://operaatioruokakassi.fi/wp-content/uploads/2021/04/KLahetysLogo.png
ORGANIZER;CN="Jaana Yrj%C3%A4l%C3%A4":MAILTO:jaana.yrjala@turunkatulahetys.fi
END:VEVENT
BEGIN:VEVENT
DTSTART;TZID=UTC:20241118T110000
DTEND;TZID=UTC:20241118T130000
DTSTAMP:20260424T220719
CREATED:20250102T082213Z
LAST-MODIFIED:20251110T063955Z
UID:10002041-1731927600-1731934800@operaatioruokakassi.fi
SUMMARY:Turun Katulähetys
DESCRIPTION:Elintarvikejakelu Lapsiperheet yläovelta (sisäpihan kautta) noin kello 11.00-11.30. \nElintarvikejakelu Liikuntarajoitteiset yläovelta (sisäpihan kautta) noin kello 11.30-12.00. \nElintarvikejakelu alaovelta noin kello 12.00-13.00 (tai niin kauan\, kuin ruokaa riittää). \nTarkemmat ohjeet Katulähetyksen nettisivuilla (www.turunkatulahetys.fi)
URL:https://operaatioruokakassi.fi/event/turun-katulahetys-2-2-2-2-2/2024-11-18/
LOCATION:Katulähetys\, Läntinen pitkäkatu 8\, TURKU\, 20100
ATTACH;FMTTYPE=image/png:https://operaatioruokakassi.fi/wp-content/uploads/2021/04/KLahetysLogo.png
ORGANIZER;CN="Jaana Yrj%C3%A4l%C3%A4":MAILTO:jaana.yrjala@turunkatulahetys.fi
END:VEVENT
BEGIN:VEVENT
DTSTART;TZID=Europe/Helsinki:20241119T120000
DTEND;TZID=Europe/Helsinki:20241119T130000
DTSTAMP:20260424T220719
CREATED:20240115T064633Z
LAST-MODIFIED:20250618T061114Z
UID:10001835-1732017600-1732021200@operaatioruokakassi.fi
SUMMARY:Mikaelin seurakunta
DESCRIPTION:Tervetuloa nauttimaan ilmaista keittolounasta ja hakemaan ruokakassia Mikaelinseurakuntakodilta kerran kuussa! Pääset valitsemaan haluamasi elintarvikkeet itse\, joten otathan oman kassin mukaan.
URL:https://operaatioruokakassi.fi/event/mikaelin-seurakunta-7/2024-11-19/
LOCATION:Mikaelin seurakuntakoti\, Puistokatu 13\, Turku\, 20100
ATTACH;FMTTYPE=image/png:https://operaatioruokakassi.fi/wp-content/uploads/2021/09/Mikaelinsrk1849.png
ORGANIZER;CN="Heli Ojala":MAILTO:heli.m.ojala@evl.fi
END:VEVENT
BEGIN:VEVENT
DTSTART;TZID=Europe/Helsinki:20241119T150000
DTEND;TZID=Europe/Helsinki:20241119T160000
DTSTAMP:20260424T220719
CREATED:20240902T064620Z
LAST-MODIFIED:20250825T070834Z
UID:10001868-1732028400-1732032000@operaatioruokakassi.fi
SUMMARY:Kaarinan seurakunta
DESCRIPTION:Ruoka-apua kerran kuussa tiistaina klo 15. Ota oma kassi mukaan. Jaamme vuoronumerot. Lapsiperheille leikkinurkkaus\, ei erillistä jakoa lapsiperheille.
URL:https://operaatioruokakassi.fi/event/kaarinan-seurakunta-3/2024-11-19/
LOCATION:Kaarinan kirkko\, Vuodinkatu 2\, Kaarina\, 20780
ATTACH;FMTTYPE=image/jpeg:https://operaatioruokakassi.fi/wp-content/uploads/2021/04/Kaarina.jpg
ORGANIZER;CN="Anu Aarnivala":MAILTO:anu.aarnivala@evl.fi
END:VEVENT
BEGIN:VEVENT
DTSTART;TZID=Europe/Helsinki:20241119T173000
DTEND;TZID=Europe/Helsinki:20241119T180000
DTSTAMP:20260424T220719
CREATED:20240618T071436Z
LAST-MODIFIED:20251125T082327Z
UID:10001955-1732037400-1732039200@operaatioruokakassi.fi
SUMMARY:Piikkiön Adventtiseurakunta
DESCRIPTION:Vuoronumeroiden jako alkaa pihalla klo 16 \nTiistaisin klo 17:30-18:00 ruoka-apu. \nElintarvikkeita työttömille ja vähävaraisille.
URL:https://operaatioruokakassi.fi/event/piikkion-adventtiseurakunta-4/2024-11-19/
LOCATION:Piikkiön Adventtiseurakunta\, Korvenmäentie 11\, Piikkiö\, 21500
END:VEVENT
BEGIN:VEVENT
DTSTART;TZID=UTC:20241120T120000
DTEND;TZID=UTC:20241120T130000
DTSTAMP:20260424T220719
CREATED:20240610T055118Z
LAST-MODIFIED:20250422T075311Z
UID:10001899-1732104000-1732107600@operaatioruokakassi.fi
SUMMARY:Turun Katulähetys
DESCRIPTION:Elintarvikejakelu alaovelta noin kello 12.00-13.00 (tai niin kauan\, kuin ruokaa riittää). \nTarkemmat ohjeet Katulähetyksen nettisivuilla (www.turunkatulahetys.fi)
URL:https://operaatioruokakassi.fi/event/turun-katulahetys-5-2/2024-11-20/
LOCATION:Katulähetys\, Läntinen pitkäkatu 8\, TURKU\, 20100
ATTACH;FMTTYPE=image/png:https://operaatioruokakassi.fi/wp-content/uploads/2021/04/KLahetysLogo.png
ORGANIZER;CN="Jaana Yrj%C3%A4l%C3%A4":MAILTO:jaana.yrjala@turunkatulahetys.fi
END:VEVENT
BEGIN:VEVENT
DTSTART;TZID=Europe/Helsinki:20241120T160000
DTEND;TZID=Europe/Helsinki:20241120T180000
DTSTAMP:20260424T220719
CREATED:20230614T120644Z
LAST-MODIFIED:20250410T075249Z
UID:10001480-1732118400-1732125600@operaatioruokakassi.fi
SUMMARY:Elämän Sana Srk
DESCRIPTION:
URL:https://operaatioruokakassi.fi/event/elaman-sana-srk-5/2024-11-20/
LOCATION:Elämän sana srk\, Helsinginkatu 21\, Turku\, 20100
ATTACH;FMTTYPE=image/png:https://operaatioruokakassi.fi/wp-content/uploads/2022/03/EsLogo1lineHarmTxt-e1547150675551.png
END:VEVENT
BEGIN:VEVENT
DTSTART;TZID=Europe/Helsinki:20241121T140000
DTEND;TZID=Europe/Helsinki:20241121T150000
DTSTAMP:20260424T220719
CREATED:20240108T162331Z
LAST-MODIFIED:20240723T112458Z
UID:10001863-1732197600-1732201200@operaatioruokakassi.fi
SUMMARY:Toivon Torstai Paakarlassa
DESCRIPTION:Ruokailu alkaa klo 14 ja ohjelma klo 14.30. Kassijako ohjelman jälkeen.
URL:https://operaatioruokakassi.fi/event/toivon-torstai-paakarlassa-14/2024-11-21/
LOCATION:Paakarlan seurakuntakoti\, Laivateollisuudenkatu 28\, Turku\, 20240
END:VEVENT
BEGIN:VEVENT
DTSTART;TZID=UTC:20241121T193000
DTEND;TZID=UTC:20241121T203000
DTSTAMP:20260424T220719
CREATED:20240617T063115Z
LAST-MODIFIED:20251125T104638Z
UID:10001612-1732217400-1732221000@operaatioruokakassi.fi
SUMMARY:Uusipesula
DESCRIPTION:Ovet avataan kello 18. Ruokajako 19.30-20.30
URL:https://operaatioruokakassi.fi/event/uusipesula-4-2/2024-11-21/
LOCATION:Uusipesula\, Kousankatu 1\, Turku\, 20610
ATTACH;FMTTYPE=image/jpeg:https://operaatioruokakassi.fi/wp-content/uploads/2021/05/Uusipesula-logo.jpg
END:VEVENT
BEGIN:VEVENT
DTSTART;TZID=UTC:20241122T120000
DTEND;TZID=UTC:20241122T130000
DTSTAMP:20260424T220719
CREATED:20240610T055118Z
LAST-MODIFIED:20250422T075311Z
UID:10001900-1732276800-1732280400@operaatioruokakassi.fi
SUMMARY:Turun Katulähetys
DESCRIPTION:Elintarvikejakelu alaovelta noin kello 12.00-13.00 (tai niin kauan\, kuin ruokaa riittää). \nTarkemmat ohjeet Katulähetyksen nettisivuilla (www.turunkatulahetys.fi)
URL:https://operaatioruokakassi.fi/event/turun-katulahetys-5-2/2024-11-22/
LOCATION:Katulähetys\, Läntinen pitkäkatu 8\, TURKU\, 20100
ATTACH;FMTTYPE=image/png:https://operaatioruokakassi.fi/wp-content/uploads/2021/04/KLahetysLogo.png
ORGANIZER;CN="Jaana Yrj%C3%A4l%C3%A4":MAILTO:jaana.yrjala@turunkatulahetys.fi
END:VEVENT
BEGIN:VEVENT
DTSTART;TZID=UTC:20241125T110000
DTEND;TZID=UTC:20241125T130000
DTSTAMP:20260424T220719
CREATED:20250102T082213Z
LAST-MODIFIED:20251110T063955Z
UID:10002042-1732532400-1732539600@operaatioruokakassi.fi
SUMMARY:Turun Katulähetys
DESCRIPTION:Elintarvikejakelu Lapsiperheet yläovelta (sisäpihan kautta) noin kello 11.00-11.30. \nElintarvikejakelu Liikuntarajoitteiset yläovelta (sisäpihan kautta) noin kello 11.30-12.00. \nElintarvikejakelu alaovelta noin kello 12.00-13.00 (tai niin kauan\, kuin ruokaa riittää). \nTarkemmat ohjeet Katulähetyksen nettisivuilla (www.turunkatulahetys.fi)
URL:https://operaatioruokakassi.fi/event/turun-katulahetys-2-2-2-2-2/2024-11-25/
LOCATION:Katulähetys\, Läntinen pitkäkatu 8\, TURKU\, 20100
ATTACH;FMTTYPE=image/png:https://operaatioruokakassi.fi/wp-content/uploads/2021/04/KLahetysLogo.png
ORGANIZER;CN="Jaana Yrj%C3%A4l%C3%A4":MAILTO:jaana.yrjala@turunkatulahetys.fi
END:VEVENT
BEGIN:VEVENT
DTSTART;TZID=Europe/Helsinki:20241126T110000
DTEND;TZID=Europe/Helsinki:20241126T120000
DTSTAMP:20260424T220719
CREATED:20240122T114208Z
LAST-MODIFIED:20240527T054606Z
UID:10001578-1732618800-1732622400@operaatioruokakassi.fi
SUMMARY:Turun Helluntaiseurakunta
DESCRIPTION:Tilaisuus alkaa klo 11.00\, ruokakassijakelu n. klo 11.45.
URL:https://operaatioruokakassi.fi/event/turun-helluntaiseurakunta-5-2/2024-11-26/
LOCATION:Turun helluntaiseurakunta\, Puistokatu 6 b\, Turku\, 20200
ATTACH;FMTTYPE=image/png:https://operaatioruokakassi.fi/wp-content/uploads/2021/04/Helluntaiseurakunta-turku-3.png
END:VEVENT
BEGIN:VEVENT
DTSTART;TZID=Europe/Helsinki:20241126T173000
DTEND;TZID=Europe/Helsinki:20241126T180000
DTSTAMP:20260424T220719
CREATED:20240618T071436Z
LAST-MODIFIED:20251125T082327Z
UID:10001956-1732642200-1732644000@operaatioruokakassi.fi
SUMMARY:Piikkiön Adventtiseurakunta
DESCRIPTION:Vuoronumeroiden jako alkaa pihalla klo 16 \nTiistaisin klo 17:30-18:00 ruoka-apu. \nElintarvikkeita työttömille ja vähävaraisille.
URL:https://operaatioruokakassi.fi/event/piikkion-adventtiseurakunta-4/2024-11-26/
LOCATION:Piikkiön Adventtiseurakunta\, Korvenmäentie 11\, Piikkiö\, 21500
END:VEVENT
BEGIN:VEVENT
DTSTART;TZID=UTC:20241127T120000
DTEND;TZID=UTC:20241127T130000
DTSTAMP:20260424T220719
CREATED:20240610T055118Z
LAST-MODIFIED:20250422T075311Z
UID:10001901-1732708800-1732712400@operaatioruokakassi.fi
SUMMARY:Turun Katulähetys
DESCRIPTION:Elintarvikejakelu alaovelta noin kello 12.00-13.00 (tai niin kauan\, kuin ruokaa riittää). \nTarkemmat ohjeet Katulähetyksen nettisivuilla (www.turunkatulahetys.fi)
URL:https://operaatioruokakassi.fi/event/turun-katulahetys-5-2/2024-11-27/
LOCATION:Katulähetys\, Läntinen pitkäkatu 8\, TURKU\, 20100
ATTACH;FMTTYPE=image/png:https://operaatioruokakassi.fi/wp-content/uploads/2021/04/KLahetysLogo.png
ORGANIZER;CN="Jaana Yrj%C3%A4l%C3%A4":MAILTO:jaana.yrjala@turunkatulahetys.fi
END:VEVENT
BEGIN:VEVENT
DTSTART;TZID=Europe/Helsinki:20241127T160000
DTEND;TZID=Europe/Helsinki:20241127T180000
DTSTAMP:20260424T220719
CREATED:20230614T120644Z
LAST-MODIFIED:20250410T075249Z
UID:10001481-1732723200-1732730400@operaatioruokakassi.fi
SUMMARY:Elämän Sana Srk
DESCRIPTION:
URL:https://operaatioruokakassi.fi/event/elaman-sana-srk-5/2024-11-27/
LOCATION:Elämän sana srk\, Helsinginkatu 21\, Turku\, 20100
ATTACH;FMTTYPE=image/png:https://operaatioruokakassi.fi/wp-content/uploads/2022/03/EsLogo1lineHarmTxt-e1547150675551.png
END:VEVENT
END:VCALENDAR