BEGIN:VCALENDAR
VERSION:2.0
PRODID:-//Operaatio Ruokakassi - ECPv6.15.20//NONSGML v1.0//EN
CALSCALE:GREGORIAN
METHOD:PUBLISH
X-WR-CALNAME:Operaatio Ruokakassi
X-ORIGINAL-URL:https://operaatioruokakassi.fi
X-WR-CALDESC:Tapahtumat Operaatio Ruokakassi
REFRESH-INTERVAL;VALUE=DURATION:PT1H
X-Robots-Tag:noindex
X-PUBLISHED-TTL:PT1H
BEGIN:VTIMEZONE
TZID:Europe/Helsinki
BEGIN:DAYLIGHT
TZOFFSETFROM:+0200
TZOFFSETTO:+0300
TZNAME:EEST
DTSTART:20230326T010000
END:DAYLIGHT
BEGIN:STANDARD
TZOFFSETFROM:+0300
TZOFFSETTO:+0200
TZNAME:EET
DTSTART:20231029T010000
END:STANDARD
BEGIN:DAYLIGHT
TZOFFSETFROM:+0200
TZOFFSETTO:+0300
TZNAME:EEST
DTSTART:20240331T010000
END:DAYLIGHT
BEGIN:STANDARD
TZOFFSETFROM:+0300
TZOFFSETTO:+0200
TZNAME:EET
DTSTART:20241027T010000
END:STANDARD
BEGIN:DAYLIGHT
TZOFFSETFROM:+0200
TZOFFSETTO:+0300
TZNAME:EEST
DTSTART:20250330T010000
END:DAYLIGHT
BEGIN:STANDARD
TZOFFSETFROM:+0300
TZOFFSETTO:+0200
TZNAME:EET
DTSTART:20251026T010000
END:STANDARD
END:VTIMEZONE
BEGIN:VTIMEZONE
TZID:UTC
BEGIN:STANDARD
TZOFFSETFROM:+0000
TZOFFSETTO:+0000
TZNAME:UTC
DTSTART:20230101T000000
END:STANDARD
END:VTIMEZONE
BEGIN:VEVENT
DTSTART;TZID=Europe/Helsinki:20240801T180000
DTEND;TZID=Europe/Helsinki:20240801T193000
DTSTAMP:20260425T031702
CREATED:20240617T063549Z
LAST-MODIFIED:20240617T063645Z
UID:10001778-1722535200-1722540600@operaatioruokakassi.fi
SUMMARY:Uusipesula
DESCRIPTION:Ruokajako 18.00-19.30
URL:https://operaatioruokakassi.fi/event/uusipesula-5/2024-08-01/
LOCATION:Uusipesula\, Kousankatu 1\, Turku\, 20610
END:VEVENT
BEGIN:VEVENT
DTSTART;TZID=Europe/Helsinki:20240802T110000
DTEND;TZID=Europe/Helsinki:20240802T130000
DTSTAMP:20260425T031702
CREATED:20240610T055806Z
LAST-MODIFIED:20240610T060003Z
UID:10001712-1722596400-1722603600@operaatioruokakassi.fi
SUMMARY:Turun Katulähetys
DESCRIPTION:Elintarvikejakelu Lapsiperheet yläovelta (sisäpihan kautta\, osoitteessa Kauppiaskatu 21 b) noin kello 11.00-11.45. \nElintarvikejakelu alaovelta (Läntinen Pitkäkatu 8) noin kello 12.00-13.00 (tai niin kauan\, kuin ruokaa riittää). \nTarkemmat ohjeet Katulähetyksen nettisivuilla (www.turunkatulahetys.fi)
URL:https://operaatioruokakassi.fi/event/turun-katulahetys-7/2024-08-02/
LOCATION:Katulähetys\, Läntinen pitkäkatu 8\, TURKU\, 20100
ORGANIZER;CN="Jaana Yrj%C3%A4l%C3%A4":MAILTO:jaana.yrjala@turunkatulahetys.fi
END:VEVENT
BEGIN:VEVENT
DTSTART;TZID=Europe/Helsinki:20240805T110000
DTEND;TZID=Europe/Helsinki:20240805T130000
DTSTAMP:20260425T031702
CREATED:20240610T060407Z
LAST-MODIFIED:20240610T060407Z
UID:10001774-1722855600-1722862800@operaatioruokakassi.fi
SUMMARY:Turun Katulähetys
DESCRIPTION:Elintarvikejakelu Lapsiperheet yläovelta (sisäpihan kautta) noin kello 11.00-11.30. \nElintarvikejakelu Liikuntarajoitteiset yläovelta (sisäpihan kautta) noin kello 11.30-12.00. \nElintarvikejakelu alaovelta noin kello 12.00-13.00 (tai niin kauan\, kuin ruokaa riittää). \nTarkemmat ohjeet Katulähetyksen nettisivuilla (www.turunkatulahetys.fi)
URL:https://operaatioruokakassi.fi/event/turun-katulahetys-8/2024-08-05/
LOCATION:Katulähetys\, Läntinen pitkäkatu 8\, TURKU\, 20100
ORGANIZER;CN="Jaana Yrj%C3%A4l%C3%A4":MAILTO:jaana.yrjala@turunkatulahetys.fi
END:VEVENT
BEGIN:VEVENT
DTSTART;TZID=Europe/Helsinki:20240806T173000
DTEND;TZID=Europe/Helsinki:20240806T180000
DTSTAMP:20260425T031702
CREATED:20240618T071436Z
LAST-MODIFIED:20251125T082327Z
UID:10001940-1722965400-1722967200@operaatioruokakassi.fi
SUMMARY:Piikkiön Adventtiseurakunta
DESCRIPTION:Vuoronumeroiden jako alkaa pihalla klo 16 \nTiistaisin klo 17:30-18:00 ruoka-apu. \nElintarvikkeita työttömille ja vähävaraisille.
URL:https://operaatioruokakassi.fi/event/piikkion-adventtiseurakunta-4/2024-08-06/
LOCATION:Piikkiön Adventtiseurakunta\, Korvenmäentie 11\, Piikkiö\, 21500
END:VEVENT
BEGIN:VEVENT
DTSTART;TZID=UTC:20240807T120000
DTEND;TZID=UTC:20240807T130000
DTSTAMP:20260425T031702
CREATED:20240603T060701Z
LAST-MODIFIED:20240603T060704Z
UID:10001532-1723032000-1723035600@operaatioruokakassi.fi
SUMMARY:Turun Katulähetys
DESCRIPTION:Elintarvikejakelu alaovelta. Ajat ovat noin aikoja.
URL:https://operaatioruokakassi.fi/event/turun-katulahetys-2-2-2/2024-08-07/
LOCATION:Katulähetys\, Läntinen pitkäkatu 8\, TURKU\, 20100
ATTACH;FMTTYPE=image/png:https://operaatioruokakassi.fi/wp-content/uploads/2021/04/KLahetysLogo.png
ORGANIZER;CN="Jaana Yrj%C3%A4l%C3%A4":MAILTO:jaana.yrjala@turunkatulahetys.fi
END:VEVENT
BEGIN:VEVENT
DTSTART;TZID=Europe/Helsinki:20240807T160000
DTEND;TZID=Europe/Helsinki:20240807T180000
DTSTAMP:20260425T031702
CREATED:20230614T120644Z
LAST-MODIFIED:20250410T075249Z
UID:10001465-1723046400-1723053600@operaatioruokakassi.fi
SUMMARY:Elämän Sana Srk
DESCRIPTION:
URL:https://operaatioruokakassi.fi/event/elaman-sana-srk-5/2024-08-07/
LOCATION:Elämän sana srk\, Helsinginkatu 21\, Turku\, 20100
ATTACH;FMTTYPE=image/png:https://operaatioruokakassi.fi/wp-content/uploads/2022/03/EsLogo1lineHarmTxt-e1547150675551.png
END:VEVENT
BEGIN:VEVENT
DTSTART;TZID=Europe/Helsinki:20240808T140000
DTEND;TZID=Europe/Helsinki:20240808T150000
DTSTAMP:20260425T031702
CREATED:20240108T162331Z
LAST-MODIFIED:20240723T112458Z
UID:10001454-1723125600-1723129200@operaatioruokakassi.fi
SUMMARY:Toivon Torstai Paakarlassa
DESCRIPTION:Ruokailu alkaa klo 14 ja ohjelma klo 14.30. Kassijako ohjelman jälkeen.
URL:https://operaatioruokakassi.fi/event/toivon-torstai-paakarlassa-14/2024-08-08/
LOCATION:Paakarlan seurakuntakoti\, Laivateollisuudenkatu 28\, Turku\, 20240
END:VEVENT
BEGIN:VEVENT
DTSTART;TZID=Europe/Helsinki:20240808T180000
DTEND;TZID=Europe/Helsinki:20240808T193000
DTSTAMP:20260425T031702
CREATED:20240617T063549Z
LAST-MODIFIED:20240617T063645Z
UID:10001779-1723140000-1723145400@operaatioruokakassi.fi
SUMMARY:Uusipesula
DESCRIPTION:Ruokajako 18.00-19.30
URL:https://operaatioruokakassi.fi/event/uusipesula-5/2024-08-08/
LOCATION:Uusipesula\, Kousankatu 1\, Turku\, 20610
END:VEVENT
BEGIN:VEVENT
DTSTART;TZID=UTC:20240809T120000
DTEND;TZID=UTC:20240809T130000
DTSTAMP:20260425T031702
CREATED:20240610T055118Z
LAST-MODIFIED:20250422T075311Z
UID:10001870-1723204800-1723208400@operaatioruokakassi.fi
SUMMARY:Turun Katulähetys
DESCRIPTION:Elintarvikejakelu alaovelta noin kello 12.00-13.00 (tai niin kauan\, kuin ruokaa riittää). \nTarkemmat ohjeet Katulähetyksen nettisivuilla (www.turunkatulahetys.fi)
URL:https://operaatioruokakassi.fi/event/turun-katulahetys-5-2/2024-08-09/
LOCATION:Katulähetys\, Läntinen pitkäkatu 8\, TURKU\, 20100
ATTACH;FMTTYPE=image/png:https://operaatioruokakassi.fi/wp-content/uploads/2021/04/KLahetysLogo.png
ORGANIZER;CN="Jaana Yrj%C3%A4l%C3%A4":MAILTO:jaana.yrjala@turunkatulahetys.fi
END:VEVENT
BEGIN:VEVENT
DTSTART;TZID=Europe/Helsinki:20240813T173000
DTEND;TZID=Europe/Helsinki:20240813T180000
DTSTAMP:20260425T031702
CREATED:20240618T071436Z
LAST-MODIFIED:20251125T082327Z
UID:10001941-1723570200-1723572000@operaatioruokakassi.fi
SUMMARY:Piikkiön Adventtiseurakunta
DESCRIPTION:Vuoronumeroiden jako alkaa pihalla klo 16 \nTiistaisin klo 17:30-18:00 ruoka-apu. \nElintarvikkeita työttömille ja vähävaraisille.
URL:https://operaatioruokakassi.fi/event/piikkion-adventtiseurakunta-4/2024-08-13/
LOCATION:Piikkiön Adventtiseurakunta\, Korvenmäentie 11\, Piikkiö\, 21500
END:VEVENT
BEGIN:VEVENT
DTSTART;TZID=UTC:20240814T120000
DTEND;TZID=UTC:20240814T130000
DTSTAMP:20260425T031702
CREATED:20240603T060701Z
LAST-MODIFIED:20240603T060704Z
UID:10001534-1723636800-1723640400@operaatioruokakassi.fi
SUMMARY:Turun Katulähetys
DESCRIPTION:Elintarvikejakelu alaovelta. Ajat ovat noin aikoja.
URL:https://operaatioruokakassi.fi/event/turun-katulahetys-2-2-2/2024-08-14/
LOCATION:Katulähetys\, Läntinen pitkäkatu 8\, TURKU\, 20100
ATTACH;FMTTYPE=image/png:https://operaatioruokakassi.fi/wp-content/uploads/2021/04/KLahetysLogo.png
ORGANIZER;CN="Jaana Yrj%C3%A4l%C3%A4":MAILTO:jaana.yrjala@turunkatulahetys.fi
END:VEVENT
BEGIN:VEVENT
DTSTART;TZID=UTC:20240814T120000
DTEND;TZID=UTC:20240814T130000
DTSTAMP:20260425T031702
CREATED:20240610T055118Z
LAST-MODIFIED:20250422T075311Z
UID:10001871-1723636800-1723640400@operaatioruokakassi.fi
SUMMARY:Turun Katulähetys
DESCRIPTION:Elintarvikejakelu alaovelta noin kello 12.00-13.00 (tai niin kauan\, kuin ruokaa riittää). \nTarkemmat ohjeet Katulähetyksen nettisivuilla (www.turunkatulahetys.fi)
URL:https://operaatioruokakassi.fi/event/turun-katulahetys-5-2/2024-08-14/
LOCATION:Katulähetys\, Läntinen pitkäkatu 8\, TURKU\, 20100
ATTACH;FMTTYPE=image/png:https://operaatioruokakassi.fi/wp-content/uploads/2021/04/KLahetysLogo.png
ORGANIZER;CN="Jaana Yrj%C3%A4l%C3%A4":MAILTO:jaana.yrjala@turunkatulahetys.fi
END:VEVENT
BEGIN:VEVENT
DTSTART;TZID=Europe/Helsinki:20240814T160000
DTEND;TZID=Europe/Helsinki:20240814T180000
DTSTAMP:20260425T031702
CREATED:20230614T120644Z
LAST-MODIFIED:20250410T075249Z
UID:10001466-1723651200-1723658400@operaatioruokakassi.fi
SUMMARY:Elämän Sana Srk
DESCRIPTION:
URL:https://operaatioruokakassi.fi/event/elaman-sana-srk-5/2024-08-14/
LOCATION:Elämän sana srk\, Helsinginkatu 21\, Turku\, 20100
ATTACH;FMTTYPE=image/png:https://operaatioruokakassi.fi/wp-content/uploads/2022/03/EsLogo1lineHarmTxt-e1547150675551.png
END:VEVENT
BEGIN:VEVENT
DTSTART;TZID=UTC:20240815T193000
DTEND;TZID=UTC:20240815T203000
DTSTAMP:20260425T031702
CREATED:20240617T063115Z
LAST-MODIFIED:20251125T104638Z
UID:10001593-1723750200-1723753800@operaatioruokakassi.fi
SUMMARY:Uusipesula
DESCRIPTION:Ovet avataan kello 18. Ruokajako 19.30-20.30
URL:https://operaatioruokakassi.fi/event/uusipesula-4-2/2024-08-15/
LOCATION:Uusipesula\, Kousankatu 1\, Turku\, 20610
ATTACH;FMTTYPE=image/jpeg:https://operaatioruokakassi.fi/wp-content/uploads/2021/05/Uusipesula-logo.jpg
END:VEVENT
BEGIN:VEVENT
DTSTART;TZID=UTC:20240816T120000
DTEND;TZID=UTC:20240816T130000
DTSTAMP:20260425T031702
CREATED:20240610T055118Z
LAST-MODIFIED:20250422T075311Z
UID:10001872-1723809600-1723813200@operaatioruokakassi.fi
SUMMARY:Turun Katulähetys
DESCRIPTION:Elintarvikejakelu alaovelta noin kello 12.00-13.00 (tai niin kauan\, kuin ruokaa riittää). \nTarkemmat ohjeet Katulähetyksen nettisivuilla (www.turunkatulahetys.fi)
URL:https://operaatioruokakassi.fi/event/turun-katulahetys-5-2/2024-08-16/
LOCATION:Katulähetys\, Läntinen pitkäkatu 8\, TURKU\, 20100
ATTACH;FMTTYPE=image/png:https://operaatioruokakassi.fi/wp-content/uploads/2021/04/KLahetysLogo.png
ORGANIZER;CN="Jaana Yrj%C3%A4l%C3%A4":MAILTO:jaana.yrjala@turunkatulahetys.fi
END:VEVENT
BEGIN:VEVENT
DTSTART;TZID=Europe/Helsinki:20240820T120000
DTEND;TZID=Europe/Helsinki:20240820T130000
DTSTAMP:20260425T031702
CREATED:20240115T064633Z
LAST-MODIFIED:20250618T061114Z
UID:10001832-1724155200-1724158800@operaatioruokakassi.fi
SUMMARY:Mikaelin seurakunta
DESCRIPTION:Tervetuloa nauttimaan ilmaista keittolounasta ja hakemaan ruokakassia Mikaelinseurakuntakodilta kerran kuussa! Pääset valitsemaan haluamasi elintarvikkeet itse\, joten otathan oman kassin mukaan.
URL:https://operaatioruokakassi.fi/event/mikaelin-seurakunta-7/2024-08-20/
LOCATION:Mikaelin seurakuntakoti\, Puistokatu 13\, Turku\, 20100
ATTACH;FMTTYPE=image/png:https://operaatioruokakassi.fi/wp-content/uploads/2021/09/Mikaelinsrk1849.png
ORGANIZER;CN="Heli Ojala":MAILTO:heli.m.ojala@evl.fi
END:VEVENT
BEGIN:VEVENT
DTSTART;TZID=Europe/Helsinki:20240820T173000
DTEND;TZID=Europe/Helsinki:20240820T180000
DTSTAMP:20260425T031702
CREATED:20240618T071436Z
LAST-MODIFIED:20251125T082327Z
UID:10001942-1724175000-1724176800@operaatioruokakassi.fi
SUMMARY:Piikkiön Adventtiseurakunta
DESCRIPTION:Vuoronumeroiden jako alkaa pihalla klo 16 \nTiistaisin klo 17:30-18:00 ruoka-apu. \nElintarvikkeita työttömille ja vähävaraisille.
URL:https://operaatioruokakassi.fi/event/piikkion-adventtiseurakunta-4/2024-08-20/
LOCATION:Piikkiön Adventtiseurakunta\, Korvenmäentie 11\, Piikkiö\, 21500
END:VEVENT
BEGIN:VEVENT
DTSTART;TZID=UTC:20240821T120000
DTEND;TZID=UTC:20240821T130000
DTSTAMP:20260425T031702
CREATED:20240603T060701Z
LAST-MODIFIED:20240603T060704Z
UID:10001536-1724241600-1724245200@operaatioruokakassi.fi
SUMMARY:Turun Katulähetys
DESCRIPTION:Elintarvikejakelu alaovelta. Ajat ovat noin aikoja.
URL:https://operaatioruokakassi.fi/event/turun-katulahetys-2-2-2/2024-08-21/
LOCATION:Katulähetys\, Läntinen pitkäkatu 8\, TURKU\, 20100
ATTACH;FMTTYPE=image/png:https://operaatioruokakassi.fi/wp-content/uploads/2021/04/KLahetysLogo.png
ORGANIZER;CN="Jaana Yrj%C3%A4l%C3%A4":MAILTO:jaana.yrjala@turunkatulahetys.fi
END:VEVENT
BEGIN:VEVENT
DTSTART;TZID=UTC:20240821T120000
DTEND;TZID=UTC:20240821T130000
DTSTAMP:20260425T031702
CREATED:20240610T055118Z
LAST-MODIFIED:20250422T075311Z
UID:10001873-1724241600-1724245200@operaatioruokakassi.fi
SUMMARY:Turun Katulähetys
DESCRIPTION:Elintarvikejakelu alaovelta noin kello 12.00-13.00 (tai niin kauan\, kuin ruokaa riittää). \nTarkemmat ohjeet Katulähetyksen nettisivuilla (www.turunkatulahetys.fi)
URL:https://operaatioruokakassi.fi/event/turun-katulahetys-5-2/2024-08-21/
LOCATION:Katulähetys\, Läntinen pitkäkatu 8\, TURKU\, 20100
ATTACH;FMTTYPE=image/png:https://operaatioruokakassi.fi/wp-content/uploads/2021/04/KLahetysLogo.png
ORGANIZER;CN="Jaana Yrj%C3%A4l%C3%A4":MAILTO:jaana.yrjala@turunkatulahetys.fi
END:VEVENT
BEGIN:VEVENT
DTSTART;TZID=Europe/Helsinki:20240821T160000
DTEND;TZID=Europe/Helsinki:20240821T180000
DTSTAMP:20260425T031702
CREATED:20230614T120644Z
LAST-MODIFIED:20250410T075249Z
UID:10001467-1724256000-1724263200@operaatioruokakassi.fi
SUMMARY:Elämän Sana Srk
DESCRIPTION:
URL:https://operaatioruokakassi.fi/event/elaman-sana-srk-5/2024-08-21/
LOCATION:Elämän sana srk\, Helsinginkatu 21\, Turku\, 20100
ATTACH;FMTTYPE=image/png:https://operaatioruokakassi.fi/wp-content/uploads/2022/03/EsLogo1lineHarmTxt-e1547150675551.png
END:VEVENT
BEGIN:VEVENT
DTSTART;TZID=UTC:20240822T193000
DTEND;TZID=UTC:20240822T203000
DTSTAMP:20260425T031702
CREATED:20240617T063115Z
LAST-MODIFIED:20251125T104638Z
UID:10001599-1724355000-1724358600@operaatioruokakassi.fi
SUMMARY:Uusipesula
DESCRIPTION:Ovet avataan kello 18. Ruokajako 19.30-20.30
URL:https://operaatioruokakassi.fi/event/uusipesula-4-2/2024-08-22/
LOCATION:Uusipesula\, Kousankatu 1\, Turku\, 20610
ATTACH;FMTTYPE=image/jpeg:https://operaatioruokakassi.fi/wp-content/uploads/2021/05/Uusipesula-logo.jpg
END:VEVENT
BEGIN:VEVENT
DTSTART;TZID=UTC:20240823T120000
DTEND;TZID=UTC:20240823T130000
DTSTAMP:20260425T031702
CREATED:20240610T055118Z
LAST-MODIFIED:20250422T075311Z
UID:10001874-1724414400-1724418000@operaatioruokakassi.fi
SUMMARY:Turun Katulähetys
DESCRIPTION:Elintarvikejakelu alaovelta noin kello 12.00-13.00 (tai niin kauan\, kuin ruokaa riittää). \nTarkemmat ohjeet Katulähetyksen nettisivuilla (www.turunkatulahetys.fi)
URL:https://operaatioruokakassi.fi/event/turun-katulahetys-5-2/2024-08-23/
LOCATION:Katulähetys\, Läntinen pitkäkatu 8\, TURKU\, 20100
ATTACH;FMTTYPE=image/png:https://operaatioruokakassi.fi/wp-content/uploads/2021/04/KLahetysLogo.png
ORGANIZER;CN="Jaana Yrj%C3%A4l%C3%A4":MAILTO:jaana.yrjala@turunkatulahetys.fi
END:VEVENT
BEGIN:VEVENT
DTSTART;TZID=Europe/Helsinki:20240827T173000
DTEND;TZID=Europe/Helsinki:20240827T180000
DTSTAMP:20260425T031702
CREATED:20240618T071436Z
LAST-MODIFIED:20251125T082327Z
UID:10001943-1724779800-1724781600@operaatioruokakassi.fi
SUMMARY:Piikkiön Adventtiseurakunta
DESCRIPTION:Vuoronumeroiden jako alkaa pihalla klo 16 \nTiistaisin klo 17:30-18:00 ruoka-apu. \nElintarvikkeita työttömille ja vähävaraisille.
URL:https://operaatioruokakassi.fi/event/piikkion-adventtiseurakunta-4/2024-08-27/
LOCATION:Piikkiön Adventtiseurakunta\, Korvenmäentie 11\, Piikkiö\, 21500
END:VEVENT
BEGIN:VEVENT
DTSTART;TZID=UTC:20240828T120000
DTEND;TZID=UTC:20240828T130000
DTSTAMP:20260425T031702
CREATED:20240603T060701Z
LAST-MODIFIED:20240603T060704Z
UID:10001538-1724846400-1724850000@operaatioruokakassi.fi
SUMMARY:Turun Katulähetys
DESCRIPTION:Elintarvikejakelu alaovelta. Ajat ovat noin aikoja.
URL:https://operaatioruokakassi.fi/event/turun-katulahetys-2-2-2/2024-08-28/
LOCATION:Katulähetys\, Läntinen pitkäkatu 8\, TURKU\, 20100
ATTACH;FMTTYPE=image/png:https://operaatioruokakassi.fi/wp-content/uploads/2021/04/KLahetysLogo.png
ORGANIZER;CN="Jaana Yrj%C3%A4l%C3%A4":MAILTO:jaana.yrjala@turunkatulahetys.fi
END:VEVENT
BEGIN:VEVENT
DTSTART;TZID=UTC:20240828T120000
DTEND;TZID=UTC:20240828T130000
DTSTAMP:20260425T031702
CREATED:20240610T055118Z
LAST-MODIFIED:20250422T075311Z
UID:10001875-1724846400-1724850000@operaatioruokakassi.fi
SUMMARY:Turun Katulähetys
DESCRIPTION:Elintarvikejakelu alaovelta noin kello 12.00-13.00 (tai niin kauan\, kuin ruokaa riittää). \nTarkemmat ohjeet Katulähetyksen nettisivuilla (www.turunkatulahetys.fi)
URL:https://operaatioruokakassi.fi/event/turun-katulahetys-5-2/2024-08-28/
LOCATION:Katulähetys\, Läntinen pitkäkatu 8\, TURKU\, 20100
ATTACH;FMTTYPE=image/png:https://operaatioruokakassi.fi/wp-content/uploads/2021/04/KLahetysLogo.png
ORGANIZER;CN="Jaana Yrj%C3%A4l%C3%A4":MAILTO:jaana.yrjala@turunkatulahetys.fi
END:VEVENT
BEGIN:VEVENT
DTSTART;TZID=Europe/Helsinki:20240828T160000
DTEND;TZID=Europe/Helsinki:20240828T180000
DTSTAMP:20260425T031702
CREATED:20230614T120644Z
LAST-MODIFIED:20250410T075249Z
UID:10001468-1724860800-1724868000@operaatioruokakassi.fi
SUMMARY:Elämän Sana Srk
DESCRIPTION:
URL:https://operaatioruokakassi.fi/event/elaman-sana-srk-5/2024-08-28/
LOCATION:Elämän sana srk\, Helsinginkatu 21\, Turku\, 20100
ATTACH;FMTTYPE=image/png:https://operaatioruokakassi.fi/wp-content/uploads/2022/03/EsLogo1lineHarmTxt-e1547150675551.png
END:VEVENT
BEGIN:VEVENT
DTSTART;TZID=UTC:20240829T193000
DTEND;TZID=UTC:20240829T203000
DTSTAMP:20260425T031702
CREATED:20240617T063115Z
LAST-MODIFIED:20251125T104638Z
UID:10001600-1724959800-1724963400@operaatioruokakassi.fi
SUMMARY:Uusipesula
DESCRIPTION:Ovet avataan kello 18. Ruokajako 19.30-20.30
URL:https://operaatioruokakassi.fi/event/uusipesula-4-2/2024-08-29/
LOCATION:Uusipesula\, Kousankatu 1\, Turku\, 20610
ATTACH;FMTTYPE=image/jpeg:https://operaatioruokakassi.fi/wp-content/uploads/2021/05/Uusipesula-logo.jpg
END:VEVENT
BEGIN:VEVENT
DTSTART;TZID=UTC:20240830T120000
DTEND;TZID=UTC:20240830T130000
DTSTAMP:20260425T031702
CREATED:20240610T055118Z
LAST-MODIFIED:20250422T075311Z
UID:10001876-1725019200-1725022800@operaatioruokakassi.fi
SUMMARY:Turun Katulähetys
DESCRIPTION:Elintarvikejakelu alaovelta noin kello 12.00-13.00 (tai niin kauan\, kuin ruokaa riittää). \nTarkemmat ohjeet Katulähetyksen nettisivuilla (www.turunkatulahetys.fi)
URL:https://operaatioruokakassi.fi/event/turun-katulahetys-5-2/2024-08-30/
LOCATION:Katulähetys\, Läntinen pitkäkatu 8\, TURKU\, 20100
ATTACH;FMTTYPE=image/png:https://operaatioruokakassi.fi/wp-content/uploads/2021/04/KLahetysLogo.png
ORGANIZER;CN="Jaana Yrj%C3%A4l%C3%A4":MAILTO:jaana.yrjala@turunkatulahetys.fi
END:VEVENT
END:VCALENDAR