BEGIN:VCALENDAR
VERSION:2.0
PRODID:-//Operaatio Ruokakassi - ECPv6.15.20//NONSGML v1.0//EN
CALSCALE:GREGORIAN
METHOD:PUBLISH
X-ORIGINAL-URL:https://operaatioruokakassi.fi
X-WR-CALDESC:Tapahtumat Operaatio Ruokakassi
REFRESH-INTERVAL;VALUE=DURATION:PT1H
X-Robots-Tag:noindex
X-PUBLISHED-TTL:PT1H
BEGIN:VTIMEZONE
TZID:Europe/Helsinki
BEGIN:DAYLIGHT
TZOFFSETFROM:+0200
TZOFFSETTO:+0300
TZNAME:EEST
DTSTART:20230326T010000
END:DAYLIGHT
BEGIN:STANDARD
TZOFFSETFROM:+0300
TZOFFSETTO:+0200
TZNAME:EET
DTSTART:20231029T010000
END:STANDARD
BEGIN:DAYLIGHT
TZOFFSETFROM:+0200
TZOFFSETTO:+0300
TZNAME:EEST
DTSTART:20240331T010000
END:DAYLIGHT
BEGIN:STANDARD
TZOFFSETFROM:+0300
TZOFFSETTO:+0200
TZNAME:EET
DTSTART:20241027T010000
END:STANDARD
BEGIN:DAYLIGHT
TZOFFSETFROM:+0200
TZOFFSETTO:+0300
TZNAME:EEST
DTSTART:20250330T010000
END:DAYLIGHT
BEGIN:STANDARD
TZOFFSETFROM:+0300
TZOFFSETTO:+0200
TZNAME:EET
DTSTART:20251026T010000
END:STANDARD
END:VTIMEZONE
BEGIN:VTIMEZONE
TZID:UTC
BEGIN:STANDARD
TZOFFSETFROM:+0000
TZOFFSETTO:+0000
TZNAME:UTC
DTSTART:20230101T000000
END:STANDARD
END:VTIMEZONE
BEGIN:VEVENT
DTSTART;TZID=Europe/Helsinki:20240502T140000
DTEND;TZID=Europe/Helsinki:20240502T150000
DTSTAMP:20260425T060323
CREATED:20240108T162331Z
LAST-MODIFIED:20240723T112458Z
UID:10001317-1714658400-1714662000@operaatioruokakassi.fi
SUMMARY:Toivon Torstai Paakarlassa
DESCRIPTION:Ruokailu alkaa klo 14 ja ohjelma klo 14.30. Kassijako ohjelman jälkeen.
URL:https://operaatioruokakassi.fi/event/toivon-torstai-paakarlassa-14/2024-05-02/
LOCATION:Paakarlan seurakuntakoti\, Laivateollisuudenkatu 28\, Turku\, 20240
END:VEVENT
BEGIN:VEVENT
DTSTART;TZID=Europe/Helsinki:20240502T143000
DTEND;TZID=Europe/Helsinki:20240502T163000
DTSTAMP:20260425T060323
CREATED:20230730T131931Z
LAST-MODIFIED:20240502T065321Z
UID:10001290-1714660200-1714667400@operaatioruokakassi.fi
SUMMARY:Raision seurakunta
DESCRIPTION:Raisiolaiset pienituloiset perheet ja yksin asuvat voivat saada ruoka-apua helpottamaan arkea. Myös hetkellinen kriisi voi aiheuttaa vain väliaikaisen ruoka-avun tarpeen. \nSamassa rakennuksessa ruokajaon kanssa toimii kaikille avoin\, ilmainen ruokailu\, joka alkaa klo 14.30. Haettujen ruokakassien kanssa ei kuitenkaan voi tulla ruokasaliin. Ruokakassin tuotteet helposti pilaantuvat ruokailusi aikana. Ne kannattaa viedä mahdollisimman nopeasti kotiin. Olethan siis ystävällinen ja käyt ensin syömässä. \nSukunimen alkukirjaimen mukaan. \nKlo 15.00 – A\, B\, C\, D\, E\, F\, G\, H\, I\, J\, K. Tämä ryhmä voi tulla syömään jo klo 14.30 \nKlo 15.30 – L\, M\, N\, O\, P\, Q \nKlo 16.00 – R\, S\, T\, U\, V\, X\, Y\, Z\, Å\, Ä\, Ö
URL:https://operaatioruokakassi.fi/event/raision-seurakunta/2024-05-02/
LOCATION:Kokinvuoren seurakuntakoti\, Murroskuja 3\, Raisio\, 21200
ATTACH;FMTTYPE=image/png:https://operaatioruokakassi.fi/wp-content/uploads/2021/04/Raision-seurakunta.png
ORGANIZER;CN="Raision seurakunta":MAILTO:diakonia.raisio@evl.fi
END:VEVENT
BEGIN:VEVENT
DTSTART;TZID=UTC:20240502T193000
DTEND;TZID=UTC:20240502T203000
DTSTAMP:20260425T060323
CREATED:20220729T064844Z
LAST-MODIFIED:20240529T122603Z
UID:10001444-1714678200-1714681800@operaatioruokakassi.fi
SUMMARY:Uusipesula
DESCRIPTION:Ovet avataan kello 18. Ruokajako 19.30-20.30
URL:https://operaatioruokakassi.fi/event/uusipesula-4/2024-05-02/
LOCATION:Uusipesula\, Kousankatu 1\, Turku\, 20610
ATTACH;FMTTYPE=image/jpeg:https://operaatioruokakassi.fi/wp-content/uploads/2021/05/Uusipesula-logo.jpg
END:VEVENT
BEGIN:VEVENT
DTSTART;TZID=UTC:20240503T110000
DTEND;TZID=UTC:20240503T130000
DTSTAMP:20260425T060323
CREATED:20230614T115424Z
LAST-MODIFIED:20240603T060722Z
UID:10001672-1714734000-1714741200@operaatioruokakassi.fi
SUMMARY:Turun Katulähetys
DESCRIPTION:Elintarvikejakelu Lapsiperheet yläovelta (sisäpihan kautta) noin kello 11.00-11.30. \nElintarvikejakelu Liikuntarajoitteiset yläovelta (sisäpihan kautta) noin kello 11.30-12.00. \nElintarvikejakelu alaovelta noin kello 12.00-13.00 (tai niin kauan\, kuin ruokaa riittää). \nTarkemmat ohjeet Katulähetyksen nettisivuilla (www.turunkatulahetys.fi)
URL:https://operaatioruokakassi.fi/event/turun-katulahetys-5/2024-05-03/
LOCATION:Katulähetys\, Läntinen pitkäkatu 8\, TURKU\, 20100
ATTACH;FMTTYPE=image/png:https://operaatioruokakassi.fi/wp-content/uploads/2021/04/KLahetysLogo.png
ORGANIZER;CN="Jaana Yrj%C3%A4l%C3%A4":MAILTO:jaana.yrjala@turunkatulahetys.fi
END:VEVENT
BEGIN:VEVENT
DTSTART;TZID=UTC:20240503T120000
DTEND;TZID=UTC:20240503T130000
DTSTAMP:20260425T060323
CREATED:20231226T185809Z
LAST-MODIFIED:20240521T055610Z
UID:10001438-1714737600-1714741200@operaatioruokakassi.fi
SUMMARY:Turun Katulähetys
DESCRIPTION:Elintarvikejakelu alaovelta. Ajat ovat noin aikoja.
URL:https://operaatioruokakassi.fi/event/turun-katulahetys-2-2/2024-05-03/
LOCATION:Katulähetys\, Läntinen pitkäkatu 8\, TURKU\, 20100
ATTACH;FMTTYPE=image/png:https://operaatioruokakassi.fi/wp-content/uploads/2021/04/KLahetysLogo.png
ORGANIZER;CN="Jaana Yrj%C3%A4l%C3%A4":MAILTO:jaana.yrjala@turunkatulahetys.fi
END:VEVENT
BEGIN:VEVENT
DTSTART;TZID=UTC:20240506T110000
DTEND;TZID=UTC:20240506T130000
DTSTAMP:20260425T060323
CREATED:20230614T115424Z
LAST-MODIFIED:20240603T060722Z
UID:10000955-1714993200-1715000400@operaatioruokakassi.fi
SUMMARY:Turun Katulähetys
DESCRIPTION:Elintarvikejakelu Lapsiperheet yläovelta (sisäpihan kautta) noin kello 11.00-11.30. \nElintarvikejakelu Liikuntarajoitteiset yläovelta (sisäpihan kautta) noin kello 11.30-12.00. \nElintarvikejakelu alaovelta noin kello 12.00-13.00 (tai niin kauan\, kuin ruokaa riittää). \nTarkemmat ohjeet Katulähetyksen nettisivuilla (www.turunkatulahetys.fi)
URL:https://operaatioruokakassi.fi/event/turun-katulahetys-5/2024-05-06/
LOCATION:Katulähetys\, Läntinen pitkäkatu 8\, TURKU\, 20100
ATTACH;FMTTYPE=image/png:https://operaatioruokakassi.fi/wp-content/uploads/2021/04/KLahetysLogo.png
ORGANIZER;CN="Jaana Yrj%C3%A4l%C3%A4":MAILTO:jaana.yrjala@turunkatulahetys.fi
END:VEVENT
BEGIN:VEVENT
DTSTART;TZID=Europe/Helsinki:20240507T143000
DTEND;TZID=Europe/Helsinki:20240507T163000
DTSTAMP:20260425T060323
CREATED:20230730T131931Z
LAST-MODIFIED:20240502T065321Z
UID:10001291-1715092200-1715099400@operaatioruokakassi.fi
SUMMARY:Raision seurakunta
DESCRIPTION:Raisiolaiset pienituloiset perheet ja yksin asuvat voivat saada ruoka-apua helpottamaan arkea. Myös hetkellinen kriisi voi aiheuttaa vain väliaikaisen ruoka-avun tarpeen. \nSamassa rakennuksessa ruokajaon kanssa toimii kaikille avoin\, ilmainen ruokailu\, joka alkaa klo 14.30. Haettujen ruokakassien kanssa ei kuitenkaan voi tulla ruokasaliin. Ruokakassin tuotteet helposti pilaantuvat ruokailusi aikana. Ne kannattaa viedä mahdollisimman nopeasti kotiin. Olethan siis ystävällinen ja käyt ensin syömässä. \nSukunimen alkukirjaimen mukaan. \nKlo 15.00 – A\, B\, C\, D\, E\, F\, G\, H\, I\, J\, K. Tämä ryhmä voi tulla syömään jo klo 14.30 \nKlo 15.30 – L\, M\, N\, O\, P\, Q \nKlo 16.00 – R\, S\, T\, U\, V\, X\, Y\, Z\, Å\, Ä\, Ö
URL:https://operaatioruokakassi.fi/event/raision-seurakunta/2024-05-07/
LOCATION:Kokinvuoren seurakuntakoti\, Murroskuja 3\, Raisio\, 21200
ATTACH;FMTTYPE=image/png:https://operaatioruokakassi.fi/wp-content/uploads/2021/04/Raision-seurakunta.png
ORGANIZER;CN="Raision seurakunta":MAILTO:diakonia.raisio@evl.fi
END:VEVENT
BEGIN:VEVENT
DTSTART;TZID=UTC:20240508T120000
DTEND;TZID=UTC:20240508T130000
DTSTAMP:20260425T060323
CREATED:20231226T185809Z
LAST-MODIFIED:20240521T055610Z
UID:10001455-1715169600-1715173200@operaatioruokakassi.fi
SUMMARY:Turun Katulähetys
DESCRIPTION:Elintarvikejakelu alaovelta. Ajat ovat noin aikoja.
URL:https://operaatioruokakassi.fi/event/turun-katulahetys-2-2/2024-05-08/
LOCATION:Katulähetys\, Läntinen pitkäkatu 8\, TURKU\, 20100
ATTACH;FMTTYPE=image/png:https://operaatioruokakassi.fi/wp-content/uploads/2021/04/KLahetysLogo.png
ORGANIZER;CN="Jaana Yrj%C3%A4l%C3%A4":MAILTO:jaana.yrjala@turunkatulahetys.fi
END:VEVENT
BEGIN:VEVENT
DTSTART;TZID=Europe/Helsinki:20240508T160000
DTEND;TZID=Europe/Helsinki:20240508T180000
DTSTAMP:20260425T060323
CREATED:20230614T120644Z
LAST-MODIFIED:20250410T075249Z
UID:10001030-1715184000-1715191200@operaatioruokakassi.fi
SUMMARY:Elämän Sana Srk
DESCRIPTION:
URL:https://operaatioruokakassi.fi/event/elaman-sana-srk-5/2024-05-08/
LOCATION:Elämän sana srk\, Helsinginkatu 21\, Turku\, 20100
ATTACH;FMTTYPE=image/png:https://operaatioruokakassi.fi/wp-content/uploads/2022/03/EsLogo1lineHarmTxt-e1547150675551.png
END:VEVENT
BEGIN:VEVENT
DTSTART;TZID=UTC:20240509T193000
DTEND;TZID=UTC:20240509T203000
DTSTAMP:20260425T060323
CREATED:20220729T064844Z
LAST-MODIFIED:20240529T122603Z
UID:10001463-1715283000-1715286600@operaatioruokakassi.fi
SUMMARY:Uusipesula
DESCRIPTION:Ovet avataan kello 18. Ruokajako 19.30-20.30
URL:https://operaatioruokakassi.fi/event/uusipesula-4/2024-05-09/
LOCATION:Uusipesula\, Kousankatu 1\, Turku\, 20610
ATTACH;FMTTYPE=image/jpeg:https://operaatioruokakassi.fi/wp-content/uploads/2021/05/Uusipesula-logo.jpg
END:VEVENT
BEGIN:VEVENT
DTSTART;TZID=UTC:20240510T110000
DTEND;TZID=UTC:20240510T130000
DTSTAMP:20260425T060323
CREATED:20230614T115424Z
LAST-MODIFIED:20240603T060722Z
UID:10001673-1715338800-1715346000@operaatioruokakassi.fi
SUMMARY:Turun Katulähetys
DESCRIPTION:Elintarvikejakelu Lapsiperheet yläovelta (sisäpihan kautta) noin kello 11.00-11.30. \nElintarvikejakelu Liikuntarajoitteiset yläovelta (sisäpihan kautta) noin kello 11.30-12.00. \nElintarvikejakelu alaovelta noin kello 12.00-13.00 (tai niin kauan\, kuin ruokaa riittää). \nTarkemmat ohjeet Katulähetyksen nettisivuilla (www.turunkatulahetys.fi)
URL:https://operaatioruokakassi.fi/event/turun-katulahetys-5/2024-05-10/
LOCATION:Katulähetys\, Läntinen pitkäkatu 8\, TURKU\, 20100
ATTACH;FMTTYPE=image/png:https://operaatioruokakassi.fi/wp-content/uploads/2021/04/KLahetysLogo.png
ORGANIZER;CN="Jaana Yrj%C3%A4l%C3%A4":MAILTO:jaana.yrjala@turunkatulahetys.fi
END:VEVENT
BEGIN:VEVENT
DTSTART;TZID=UTC:20240510T120000
DTEND;TZID=UTC:20240510T130000
DTSTAMP:20260425T060323
CREATED:20231226T185809Z
LAST-MODIFIED:20240521T055610Z
UID:10001456-1715342400-1715346000@operaatioruokakassi.fi
SUMMARY:Turun Katulähetys
DESCRIPTION:Elintarvikejakelu alaovelta. Ajat ovat noin aikoja.
URL:https://operaatioruokakassi.fi/event/turun-katulahetys-2-2/2024-05-10/
LOCATION:Katulähetys\, Läntinen pitkäkatu 8\, TURKU\, 20100
ATTACH;FMTTYPE=image/png:https://operaatioruokakassi.fi/wp-content/uploads/2021/04/KLahetysLogo.png
ORGANIZER;CN="Jaana Yrj%C3%A4l%C3%A4":MAILTO:jaana.yrjala@turunkatulahetys.fi
END:VEVENT
BEGIN:VEVENT
DTSTART;TZID=Europe/Helsinki:20240511T120000
DTEND;TZID=Europe/Helsinki:20240511T130000
DTSTAMP:20260425T060323
CREATED:20240108T144041Z
LAST-MODIFIED:20240219T085421Z
UID:10001276-1715428800-1715432400@operaatioruokakassi.fi
SUMMARY:Raision vapaaseurakunta
DESCRIPTION:Ovet avataan klo 11 ja samalla aloitetaan vuoronumeroiden jako pääovelta. Numeron saatuasi voit jäädä ulos odottelemaan tai halutessasi tulla sisään kuuntelemaan hengellistä musiikkia ja hartaushetkeä.\nRUOKAKASSIEN jako\, RUOKAILU ja KAHVIO aukeavat VASTA klo 12:00.
URL:https://operaatioruokakassi.fi/event/raision-vapaaseurakunta-4/2024-05-11/
LOCATION:Raision Vapaaseurakunta\, Frälsintie 20\, Raisio\, 21200
ORGANIZER;CN="Marja-Terttu Lampinen":MAILTO:m-t.lampinen@suomi24.fi
END:VEVENT
BEGIN:VEVENT
DTSTART;TZID=UTC:20240513T110000
DTEND;TZID=UTC:20240513T130000
DTSTAMP:20260425T060323
CREATED:20230614T115424Z
LAST-MODIFIED:20240603T060722Z
UID:10000956-1715598000-1715605200@operaatioruokakassi.fi
SUMMARY:Turun Katulähetys
DESCRIPTION:Elintarvikejakelu Lapsiperheet yläovelta (sisäpihan kautta) noin kello 11.00-11.30. \nElintarvikejakelu Liikuntarajoitteiset yläovelta (sisäpihan kautta) noin kello 11.30-12.00. \nElintarvikejakelu alaovelta noin kello 12.00-13.00 (tai niin kauan\, kuin ruokaa riittää). \nTarkemmat ohjeet Katulähetyksen nettisivuilla (www.turunkatulahetys.fi)
URL:https://operaatioruokakassi.fi/event/turun-katulahetys-5/2024-05-13/
LOCATION:Katulähetys\, Läntinen pitkäkatu 8\, TURKU\, 20100
ATTACH;FMTTYPE=image/png:https://operaatioruokakassi.fi/wp-content/uploads/2021/04/KLahetysLogo.png
ORGANIZER;CN="Jaana Yrj%C3%A4l%C3%A4":MAILTO:jaana.yrjala@turunkatulahetys.fi
END:VEVENT
BEGIN:VEVENT
DTSTART;TZID=Europe/Helsinki:20240514T110000
DTEND;TZID=Europe/Helsinki:20240514T120000
DTSTAMP:20260425T060323
CREATED:20240122T114208Z
LAST-MODIFIED:20240527T054606Z
UID:10001418-1715684400-1715688000@operaatioruokakassi.fi
SUMMARY:Turun Helluntaiseurakunta
DESCRIPTION:Tilaisuus alkaa klo 11.00\, ruokakassijakelu n. klo 11.45.
URL:https://operaatioruokakassi.fi/event/turun-helluntaiseurakunta-5-2/2024-05-14/
LOCATION:Turun helluntaiseurakunta\, Puistokatu 6 b\, Turku\, 20200
ATTACH;FMTTYPE=image/png:https://operaatioruokakassi.fi/wp-content/uploads/2021/04/Helluntaiseurakunta-turku-3.png
END:VEVENT
BEGIN:VEVENT
DTSTART;TZID=UTC:20240515T120000
DTEND;TZID=UTC:20240515T130000
DTSTAMP:20260425T060323
CREATED:20231226T185809Z
LAST-MODIFIED:20240521T055610Z
UID:10001457-1715774400-1715778000@operaatioruokakassi.fi
SUMMARY:Turun Katulähetys
DESCRIPTION:Elintarvikejakelu alaovelta. Ajat ovat noin aikoja.
URL:https://operaatioruokakassi.fi/event/turun-katulahetys-2-2/2024-05-15/
LOCATION:Katulähetys\, Läntinen pitkäkatu 8\, TURKU\, 20100
ATTACH;FMTTYPE=image/png:https://operaatioruokakassi.fi/wp-content/uploads/2021/04/KLahetysLogo.png
ORGANIZER;CN="Jaana Yrj%C3%A4l%C3%A4":MAILTO:jaana.yrjala@turunkatulahetys.fi
END:VEVENT
BEGIN:VEVENT
DTSTART;TZID=Europe/Helsinki:20240515T160000
DTEND;TZID=Europe/Helsinki:20240515T180000
DTSTAMP:20260425T060323
CREATED:20230614T120644Z
LAST-MODIFIED:20250410T075249Z
UID:10001031-1715788800-1715796000@operaatioruokakassi.fi
SUMMARY:Elämän Sana Srk
DESCRIPTION:
URL:https://operaatioruokakassi.fi/event/elaman-sana-srk-5/2024-05-15/
LOCATION:Elämän sana srk\, Helsinginkatu 21\, Turku\, 20100
ATTACH;FMTTYPE=image/png:https://operaatioruokakassi.fi/wp-content/uploads/2022/03/EsLogo1lineHarmTxt-e1547150675551.png
END:VEVENT
BEGIN:VEVENT
DTSTART;TZID=Europe/Helsinki:20240516T140000
DTEND;TZID=Europe/Helsinki:20240516T150000
DTSTAMP:20260425T060323
CREATED:20240108T162331Z
LAST-MODIFIED:20240723T112458Z
UID:10001318-1715868000-1715871600@operaatioruokakassi.fi
SUMMARY:Toivon Torstai Paakarlassa
DESCRIPTION:Ruokailu alkaa klo 14 ja ohjelma klo 14.30. Kassijako ohjelman jälkeen.
URL:https://operaatioruokakassi.fi/event/toivon-torstai-paakarlassa-14/2024-05-16/
LOCATION:Paakarlan seurakuntakoti\, Laivateollisuudenkatu 28\, Turku\, 20240
END:VEVENT
BEGIN:VEVENT
DTSTART;TZID=Europe/Helsinki:20240516T143000
DTEND;TZID=Europe/Helsinki:20240516T163000
DTSTAMP:20260425T060323
CREATED:20230730T131931Z
LAST-MODIFIED:20240502T065321Z
UID:10001292-1715869800-1715877000@operaatioruokakassi.fi
SUMMARY:Raision seurakunta
DESCRIPTION:Raisiolaiset pienituloiset perheet ja yksin asuvat voivat saada ruoka-apua helpottamaan arkea. Myös hetkellinen kriisi voi aiheuttaa vain väliaikaisen ruoka-avun tarpeen. \nSamassa rakennuksessa ruokajaon kanssa toimii kaikille avoin\, ilmainen ruokailu\, joka alkaa klo 14.30. Haettujen ruokakassien kanssa ei kuitenkaan voi tulla ruokasaliin. Ruokakassin tuotteet helposti pilaantuvat ruokailusi aikana. Ne kannattaa viedä mahdollisimman nopeasti kotiin. Olethan siis ystävällinen ja käyt ensin syömässä. \nSukunimen alkukirjaimen mukaan. \nKlo 15.00 – A\, B\, C\, D\, E\, F\, G\, H\, I\, J\, K. Tämä ryhmä voi tulla syömään jo klo 14.30 \nKlo 15.30 – L\, M\, N\, O\, P\, Q \nKlo 16.00 – R\, S\, T\, U\, V\, X\, Y\, Z\, Å\, Ä\, Ö
URL:https://operaatioruokakassi.fi/event/raision-seurakunta/2024-05-16/
LOCATION:Kokinvuoren seurakuntakoti\, Murroskuja 3\, Raisio\, 21200
ATTACH;FMTTYPE=image/png:https://operaatioruokakassi.fi/wp-content/uploads/2021/04/Raision-seurakunta.png
ORGANIZER;CN="Raision seurakunta":MAILTO:diakonia.raisio@evl.fi
END:VEVENT
BEGIN:VEVENT
DTSTART;TZID=UTC:20240516T193000
DTEND;TZID=UTC:20240516T203000
DTSTAMP:20260425T060323
CREATED:20220729T064844Z
LAST-MODIFIED:20240529T122603Z
UID:10001445-1715887800-1715891400@operaatioruokakassi.fi
SUMMARY:Uusipesula
DESCRIPTION:Ovet avataan kello 18. Ruokajako 19.30-20.30
URL:https://operaatioruokakassi.fi/event/uusipesula-4/2024-05-16/
LOCATION:Uusipesula\, Kousankatu 1\, Turku\, 20610
ATTACH;FMTTYPE=image/jpeg:https://operaatioruokakassi.fi/wp-content/uploads/2021/05/Uusipesula-logo.jpg
END:VEVENT
BEGIN:VEVENT
DTSTART;TZID=UTC:20240517T110000
DTEND;TZID=UTC:20240517T130000
DTSTAMP:20260425T060323
CREATED:20230614T115424Z
LAST-MODIFIED:20240603T060722Z
UID:10001674-1715943600-1715950800@operaatioruokakassi.fi
SUMMARY:Turun Katulähetys
DESCRIPTION:Elintarvikejakelu Lapsiperheet yläovelta (sisäpihan kautta) noin kello 11.00-11.30. \nElintarvikejakelu Liikuntarajoitteiset yläovelta (sisäpihan kautta) noin kello 11.30-12.00. \nElintarvikejakelu alaovelta noin kello 12.00-13.00 (tai niin kauan\, kuin ruokaa riittää). \nTarkemmat ohjeet Katulähetyksen nettisivuilla (www.turunkatulahetys.fi)
URL:https://operaatioruokakassi.fi/event/turun-katulahetys-5/2024-05-17/
LOCATION:Katulähetys\, Läntinen pitkäkatu 8\, TURKU\, 20100
ATTACH;FMTTYPE=image/png:https://operaatioruokakassi.fi/wp-content/uploads/2021/04/KLahetysLogo.png
ORGANIZER;CN="Jaana Yrj%C3%A4l%C3%A4":MAILTO:jaana.yrjala@turunkatulahetys.fi
END:VEVENT
BEGIN:VEVENT
DTSTART;TZID=UTC:20240517T120000
DTEND;TZID=UTC:20240517T130000
DTSTAMP:20260425T060323
CREATED:20231226T185809Z
LAST-MODIFIED:20240521T055610Z
UID:10001458-1715947200-1715950800@operaatioruokakassi.fi
SUMMARY:Turun Katulähetys
DESCRIPTION:Elintarvikejakelu alaovelta. Ajat ovat noin aikoja.
URL:https://operaatioruokakassi.fi/event/turun-katulahetys-2-2/2024-05-17/
LOCATION:Katulähetys\, Läntinen pitkäkatu 8\, TURKU\, 20100
ATTACH;FMTTYPE=image/png:https://operaatioruokakassi.fi/wp-content/uploads/2021/04/KLahetysLogo.png
ORGANIZER;CN="Jaana Yrj%C3%A4l%C3%A4":MAILTO:jaana.yrjala@turunkatulahetys.fi
END:VEVENT
BEGIN:VEVENT
DTSTART;TZID=UTC:20240520T110000
DTEND;TZID=UTC:20240520T130000
DTSTAMP:20260425T060323
CREATED:20230614T115424Z
LAST-MODIFIED:20240603T060722Z
UID:10000957-1716202800-1716210000@operaatioruokakassi.fi
SUMMARY:Turun Katulähetys
DESCRIPTION:Elintarvikejakelu Lapsiperheet yläovelta (sisäpihan kautta) noin kello 11.00-11.30. \nElintarvikejakelu Liikuntarajoitteiset yläovelta (sisäpihan kautta) noin kello 11.30-12.00. \nElintarvikejakelu alaovelta noin kello 12.00-13.00 (tai niin kauan\, kuin ruokaa riittää). \nTarkemmat ohjeet Katulähetyksen nettisivuilla (www.turunkatulahetys.fi)
URL:https://operaatioruokakassi.fi/event/turun-katulahetys-5/2024-05-20/
LOCATION:Katulähetys\, Läntinen pitkäkatu 8\, TURKU\, 20100
ATTACH;FMTTYPE=image/png:https://operaatioruokakassi.fi/wp-content/uploads/2021/04/KLahetysLogo.png
ORGANIZER;CN="Jaana Yrj%C3%A4l%C3%A4":MAILTO:jaana.yrjala@turunkatulahetys.fi
END:VEVENT
BEGIN:VEVENT
DTSTART;TZID=Europe/Helsinki:20240521T120000
DTEND;TZID=Europe/Helsinki:20240521T130000
DTSTAMP:20260425T060323
CREATED:20240115T064633Z
LAST-MODIFIED:20250618T061114Z
UID:10001331-1716292800-1716296400@operaatioruokakassi.fi
SUMMARY:Mikaelin seurakunta
DESCRIPTION:Tervetuloa nauttimaan ilmaista keittolounasta ja hakemaan ruokakassia Mikaelinseurakuntakodilta kerran kuussa! Pääset valitsemaan haluamasi elintarvikkeet itse\, joten otathan oman kassin mukaan.
URL:https://operaatioruokakassi.fi/event/mikaelin-seurakunta-7/2024-05-21/
LOCATION:Mikaelin seurakuntakoti\, Puistokatu 13\, Turku\, 20100
ATTACH;FMTTYPE=image/png:https://operaatioruokakassi.fi/wp-content/uploads/2021/09/Mikaelinsrk1849.png
ORGANIZER;CN="Heli Ojala":MAILTO:heli.m.ojala@evl.fi
END:VEVENT
BEGIN:VEVENT
DTSTART;TZID=UTC:20240522T120000
DTEND;TZID=UTC:20240522T130000
DTSTAMP:20260425T060323
CREATED:20231226T185809Z
LAST-MODIFIED:20240521T055610Z
UID:10001459-1716379200-1716382800@operaatioruokakassi.fi
SUMMARY:Turun Katulähetys
DESCRIPTION:Elintarvikejakelu alaovelta. Ajat ovat noin aikoja.
URL:https://operaatioruokakassi.fi/event/turun-katulahetys-2-2/2024-05-22/
LOCATION:Katulähetys\, Läntinen pitkäkatu 8\, TURKU\, 20100
ATTACH;FMTTYPE=image/png:https://operaatioruokakassi.fi/wp-content/uploads/2021/04/KLahetysLogo.png
ORGANIZER;CN="Jaana Yrj%C3%A4l%C3%A4":MAILTO:jaana.yrjala@turunkatulahetys.fi
END:VEVENT
BEGIN:VEVENT
DTSTART;TZID=Europe/Helsinki:20240522T160000
DTEND;TZID=Europe/Helsinki:20240522T180000
DTSTAMP:20260425T060323
CREATED:20230614T120644Z
LAST-MODIFIED:20250410T075249Z
UID:10001032-1716393600-1716400800@operaatioruokakassi.fi
SUMMARY:Elämän Sana Srk
DESCRIPTION:
URL:https://operaatioruokakassi.fi/event/elaman-sana-srk-5/2024-05-22/
LOCATION:Elämän sana srk\, Helsinginkatu 21\, Turku\, 20100
ATTACH;FMTTYPE=image/png:https://operaatioruokakassi.fi/wp-content/uploads/2022/03/EsLogo1lineHarmTxt-e1547150675551.png
END:VEVENT
BEGIN:VEVENT
DTSTART;TZID=Europe/Helsinki:20240523T143000
DTEND;TZID=Europe/Helsinki:20240523T163000
DTSTAMP:20260425T060323
CREATED:20230730T131931Z
LAST-MODIFIED:20240502T065321Z
UID:10001293-1716474600-1716481800@operaatioruokakassi.fi
SUMMARY:Raision seurakunta
DESCRIPTION:Raisiolaiset pienituloiset perheet ja yksin asuvat voivat saada ruoka-apua helpottamaan arkea. Myös hetkellinen kriisi voi aiheuttaa vain väliaikaisen ruoka-avun tarpeen. \nSamassa rakennuksessa ruokajaon kanssa toimii kaikille avoin\, ilmainen ruokailu\, joka alkaa klo 14.30. Haettujen ruokakassien kanssa ei kuitenkaan voi tulla ruokasaliin. Ruokakassin tuotteet helposti pilaantuvat ruokailusi aikana. Ne kannattaa viedä mahdollisimman nopeasti kotiin. Olethan siis ystävällinen ja käyt ensin syömässä. \nSukunimen alkukirjaimen mukaan. \nKlo 15.00 – A\, B\, C\, D\, E\, F\, G\, H\, I\, J\, K. Tämä ryhmä voi tulla syömään jo klo 14.30 \nKlo 15.30 – L\, M\, N\, O\, P\, Q \nKlo 16.00 – R\, S\, T\, U\, V\, X\, Y\, Z\, Å\, Ä\, Ö
URL:https://operaatioruokakassi.fi/event/raision-seurakunta/2024-05-23/
LOCATION:Kokinvuoren seurakuntakoti\, Murroskuja 3\, Raisio\, 21200
ATTACH;FMTTYPE=image/png:https://operaatioruokakassi.fi/wp-content/uploads/2021/04/Raision-seurakunta.png
ORGANIZER;CN="Raision seurakunta":MAILTO:diakonia.raisio@evl.fi
END:VEVENT
BEGIN:VEVENT
DTSTART;TZID=UTC:20240523T193000
DTEND;TZID=UTC:20240523T203000
DTSTAMP:20260425T060323
CREATED:20220729T064844Z
LAST-MODIFIED:20240529T122603Z
UID:10001446-1716492600-1716496200@operaatioruokakassi.fi
SUMMARY:Uusipesula
DESCRIPTION:Ovet avataan kello 18. Ruokajako 19.30-20.30
URL:https://operaatioruokakassi.fi/event/uusipesula-4/2024-05-23/
LOCATION:Uusipesula\, Kousankatu 1\, Turku\, 20610
ATTACH;FMTTYPE=image/jpeg:https://operaatioruokakassi.fi/wp-content/uploads/2021/05/Uusipesula-logo.jpg
END:VEVENT
BEGIN:VEVENT
DTSTART;TZID=UTC:20240524T110000
DTEND;TZID=UTC:20240524T130000
DTSTAMP:20260425T060323
CREATED:20230614T115424Z
LAST-MODIFIED:20240603T060722Z
UID:10001675-1716548400-1716555600@operaatioruokakassi.fi
SUMMARY:Turun Katulähetys
DESCRIPTION:Elintarvikejakelu Lapsiperheet yläovelta (sisäpihan kautta) noin kello 11.00-11.30. \nElintarvikejakelu Liikuntarajoitteiset yläovelta (sisäpihan kautta) noin kello 11.30-12.00. \nElintarvikejakelu alaovelta noin kello 12.00-13.00 (tai niin kauan\, kuin ruokaa riittää). \nTarkemmat ohjeet Katulähetyksen nettisivuilla (www.turunkatulahetys.fi)
URL:https://operaatioruokakassi.fi/event/turun-katulahetys-5/2024-05-24/
LOCATION:Katulähetys\, Läntinen pitkäkatu 8\, TURKU\, 20100
ATTACH;FMTTYPE=image/png:https://operaatioruokakassi.fi/wp-content/uploads/2021/04/KLahetysLogo.png
ORGANIZER;CN="Jaana Yrj%C3%A4l%C3%A4":MAILTO:jaana.yrjala@turunkatulahetys.fi
END:VEVENT
BEGIN:VEVENT
DTSTART;TZID=UTC:20240524T120000
DTEND;TZID=UTC:20240524T130000
DTSTAMP:20260425T060323
CREATED:20231226T185809Z
LAST-MODIFIED:20240521T055610Z
UID:10001460-1716552000-1716555600@operaatioruokakassi.fi
SUMMARY:Turun Katulähetys
DESCRIPTION:Elintarvikejakelu alaovelta. Ajat ovat noin aikoja.
URL:https://operaatioruokakassi.fi/event/turun-katulahetys-2-2/2024-05-24/
LOCATION:Katulähetys\, Läntinen pitkäkatu 8\, TURKU\, 20100
ATTACH;FMTTYPE=image/png:https://operaatioruokakassi.fi/wp-content/uploads/2021/04/KLahetysLogo.png
ORGANIZER;CN="Jaana Yrj%C3%A4l%C3%A4":MAILTO:jaana.yrjala@turunkatulahetys.fi
END:VEVENT
END:VCALENDAR