BEGIN:VCALENDAR
VERSION:2.0
PRODID:-//Operaatio Ruokakassi - ECPv6.15.20//NONSGML v1.0//EN
CALSCALE:GREGORIAN
METHOD:PUBLISH
X-WR-CALNAME:Operaatio Ruokakassi
X-ORIGINAL-URL:https://operaatioruokakassi.fi
X-WR-CALDESC:Tapahtumat Operaatio Ruokakassi
REFRESH-INTERVAL;VALUE=DURATION:PT1H
X-Robots-Tag:noindex
X-PUBLISHED-TTL:PT1H
BEGIN:VTIMEZONE
TZID:Europe/Helsinki
BEGIN:DAYLIGHT
TZOFFSETFROM:+0200
TZOFFSETTO:+0300
TZNAME:EEST
DTSTART:20250330T010000
END:DAYLIGHT
BEGIN:STANDARD
TZOFFSETFROM:+0300
TZOFFSETTO:+0200
TZNAME:EET
DTSTART:20251026T010000
END:STANDARD
BEGIN:DAYLIGHT
TZOFFSETFROM:+0200
TZOFFSETTO:+0300
TZNAME:EEST
DTSTART:20260329T010000
END:DAYLIGHT
BEGIN:STANDARD
TZOFFSETFROM:+0300
TZOFFSETTO:+0200
TZNAME:EET
DTSTART:20261025T010000
END:STANDARD
BEGIN:DAYLIGHT
TZOFFSETFROM:+0200
TZOFFSETTO:+0300
TZNAME:EEST
DTSTART:20270328T010000
END:DAYLIGHT
BEGIN:STANDARD
TZOFFSETFROM:+0300
TZOFFSETTO:+0200
TZNAME:EET
DTSTART:20271031T010000
END:STANDARD
END:VTIMEZONE
BEGIN:VEVENT
DTSTART;TZID=Europe/Helsinki:20260414T110000
DTEND;TZID=Europe/Helsinki:20260414T120000
DTSTAMP:20260423T185618
CREATED:20260119T065506Z
LAST-MODIFIED:20260409T054346Z
UID:10002577-1776164400-1776168000@operaatioruokakassi.fi
SUMMARY:Turun Helluntaiseurakunta
DESCRIPTION:Hartaus klo 11 ja ruokakassien jako klo 11.45.
URL:https://operaatioruokakassi.fi/event/turun-helluntaiseurakunta-6/2026-04-14/
LOCATION:Turun helluntaiseurakunta\, Puistokatu 6 b\, Turku\, 20200
ATTACH;FMTTYPE=image/png:https://operaatioruokakassi.fi/wp-content/uploads/2021/05/Helluntaiseurakunta-turku.png
END:VEVENT
BEGIN:VEVENT
DTSTART;TZID=Europe/Helsinki:20260414T150000
DTEND;TZID=Europe/Helsinki:20260414T160000
DTSTAMP:20260423T185618
CREATED:20260119T085627Z
LAST-MODIFIED:20260119T085627Z
UID:10002571-1776178800-1776182400@operaatioruokakassi.fi
SUMMARY:Kaarinan seurakunta
DESCRIPTION:Ruoka-apua kerran kuussa tiistaina klo 15. Ota oma kassi mukaan. Jaamme vuoronumerot. Lapsiperheille leikkinurkkaus\, ei erillistä jakoa lapsiperheille.
URL:https://operaatioruokakassi.fi/event/kaarinan-seurakunta-4/2026-04-14/
LOCATION:Kaarinan kirkko\, Vuodinkatu 2\, Kaarina\, 20780
ATTACH;FMTTYPE=image/jpeg:https://operaatioruokakassi.fi/wp-content/uploads/2021/04/Kaarina.jpg
ORGANIZER;CN="Anu Aarnivala":MAILTO:anu.aarnivala@evl.fi
END:VEVENT
BEGIN:VEVENT
DTSTART;TZID=Europe/Helsinki:20260414T173000
DTEND;TZID=Europe/Helsinki:20260414T180000
DTSTAMP:20260423T185618
CREATED:20240618T071436Z
LAST-MODIFIED:20251125T082327Z
UID:10002482-1776187800-1776189600@operaatioruokakassi.fi
SUMMARY:Piikkiön Adventtiseurakunta
DESCRIPTION:Vuoronumeroiden jako alkaa pihalla klo 16 \nTiistaisin klo 17:30-18:00 ruoka-apu. \nElintarvikkeita työttömille ja vähävaraisille.
URL:https://operaatioruokakassi.fi/event/piikkion-adventtiseurakunta-4/2026-04-14/
LOCATION:Piikkiön Adventtiseurakunta\, Korvenmäentie 11\, Piikkiö\, 21500
END:VEVENT
END:VCALENDAR