BEGIN:VCALENDAR
VERSION:2.0
PRODID:-//Operaatio Ruokakassi - ECPv6.15.20//NONSGML v1.0//EN
CALSCALE:GREGORIAN
METHOD:PUBLISH
X-WR-CALNAME:Operaatio Ruokakassi
X-ORIGINAL-URL:https://operaatioruokakassi.fi
X-WR-CALDESC:Tapahtumat Operaatio Ruokakassi
REFRESH-INTERVAL;VALUE=DURATION:PT1H
X-Robots-Tag:noindex
X-PUBLISHED-TTL:PT1H
BEGIN:VTIMEZONE
TZID:UTC
BEGIN:STANDARD
TZOFFSETFROM:+0000
TZOFFSETTO:+0000
TZNAME:UTC
DTSTART:20220101T000000
END:STANDARD
END:VTIMEZONE
BEGIN:VEVENT
DTSTART;TZID=UTC:20231111T120000
DTEND;TZID=UTC:20231111T130000
DTSTAMP:20260425T162237
CREATED:20211014T054454Z
LAST-MODIFIED:20231104T084627Z
UID:10001231-1699704000-1699707600@operaatioruokakassi.fi
SUMMARY:Raision vapaaseurakunta
DESCRIPTION:Ovet avataan klo 11\, jolloin voi tulla kuuntelemaan hengellistä musiikkia ja hartaushetkeä\, mutta RUOKAKASSIEN jako\, RUOKAILU\, KAHVIO ja KIRPPUTORI aukeavat klo 12.
URL:https://operaatioruokakassi.fi/event/raision-vapaaseurakunta-3/2023-11-11/
LOCATION:Raision Vapaaseurakunta\, Frälsintie 20\, Raisio\, 21200
ORGANIZER;CN="Marja-Terttu Lampinen":MAILTO:m-t.lampinen@suomi24.fi
END:VEVENT
END:VCALENDAR